BEGIN:VCALENDAR
VERSION:2.0
PRODID:-//Bali Asli Restaurant and Cooking School - ECPv6.15.20//NONSGML v1.0//EN
CALSCALE:GREGORIAN
METHOD:PUBLISH
X-ORIGINAL-URL:https://baliasli.com.au
X-WR-CALDESC:Events for Bali Asli Restaurant and Cooking School
REFRESH-INTERVAL;VALUE=DURATION:PT1H
X-Robots-Tag:noindex
X-PUBLISHED-TTL:PT1H
BEGIN:VTIMEZONE
TZID:UTC
BEGIN:STANDARD
TZOFFSETFROM:+0000
TZOFFSETTO:+0000
TZNAME:UTC
DTSTART:20250101T000000
END:STANDARD
END:VTIMEZONE
BEGIN:VEVENT
DTSTART;TZID=UTC:20260425T040000
DTEND;TZID=UTC:20260425T150000
DTSTAMP:20260425T015708
CREATED:20260405T113737Z
LAST-MODIFIED:20260406T082701Z
UID:7552-1777089600-1777129200@baliasli.com.au
SUMMARY:A Mountain Top Sunrise in a Topless Jeep
DESCRIPTION:An early bird catches the sun!\nYes a super early start to the day at 4.00am\, but so worth it. We will pick you up from your hotel in East Bali with our convertible four wheel drive. Hold onto your hats it climbs the steep road to the lookout on the East wing of Lempuyang mountain. Your guide will prepare your breakfast as you catch your breath watching the magnificent view\, one side out to the sparkling sun-kissed sea\, with Renjani Volcano on Lombok silhouetted by the rising sun\, as well as Agung Volcano on the other side! It doesn’t get better than that! \nAfter sun rise\, jump back in the car and head to Amed for a dip under the crystal clear waters for some snorkelling.  The day will finish at Bali Asli with a Traditional Balinese Megibung feast. \nTo make a reservation please email us directly on our Contact Form \nSTART TIME 4;00am.         FINISH TIME 3;00pm \nPRICE; IDR 1\,100\,000
URL:https://baliasli.com.au/event/a-mountain-top-sunrise-in-a-topless-jeep-15/
LOCATION:Bali Asli Restaurant
CATEGORIES:culinary adventure,sunrise jeep tour
ATTACH;FMTTYPE=image/jpeg:https://baliasli.com.au/wp-content/uploads/2025/11/jeep.jpg
END:VEVENT
BEGIN:VEVENT
DTSTART;TZID=UTC:20260426T080000
DTEND;TZID=UTC:20260426T153000
DTSTAMP:20260425T015708
CREATED:20260405T111152Z
LAST-MODIFIED:20260406T083358Z
UID:7530-1777190400-1777217400@baliasli.com.au
SUMMARY:Biking from the Mountain to the White Sand Beach
DESCRIPTION:Our Biking guide\, Pak Mudi will drive you up into the small villages in the foot hills of Mount Agung. Where you will mount your mountain bikes and glide (mostly down hill) over a combination of dirt tracks\, bike trails and sealed roads.  You will enjoy breath taking vistas\, as you ride around rice fields\, through snake fruit forests\, small towns all the way to White sand beach\, where you can cool off in the crystal clear ocean. Then enjoy a “Bungkus” Balinese picnic lunch on the beach prepared by the local beach warungs. \nSTART TIME; 8;00am         FINISH TIME; 3;30pm \nPRICE; IDR 893\,000 \nTo make your reservation and for more information please send us a message from our; Contact Form 
URL:https://baliasli.com.au/event/biking-from-the-mountain-to-the-white-sand-beach-21/
LOCATION:Bali Asli Restaurant
CATEGORIES:biking from the mountain to the beach,culinary adventure
ATTACH;FMTTYPE=image/jpeg:https://baliasli.com.au/wp-content/uploads/2026/04/F937EECB-E3AC-4F77-B1D1-B4C5CFE6DC2C_1_105_c.jpeg
END:VEVENT
BEGIN:VEVENT
DTSTART;TZID=UTC:20260427T080000
DTEND;TZID=UTC:20260427T143000
DTSTAMP:20260425T015708
CREATED:20260405T110225Z
LAST-MODIFIED:20260405T110225Z
UID:7518-1777276800-1777300200@baliasli.com.au
SUMMARY:Cooking Class "A day in the Village"
DESCRIPTION:STEP THROUGH THE LOOKING GLASS \nOur trekking guide will take you “through the looking glass” up into the village of Pangi\, where you will have the opportunity to peek into the daily life of the local people. Enjoy stunning views over rice fields\, ocean and volcanoes. Learn the ancient art of Balinese “Aksara” etching into dried palm leaves\, at the Museum Lontar. Have a go at making your own to take home! Before returning to Bali Asli to cook your Balinese lunch  \nSTART TIME 08.00am      FINISH TIME 2.30pm \nPRICE; IDR 1\,292\,500 \nTo make a reservation\, or for more information\, please send us a message on our; Contact Form
URL:https://baliasli.com.au/event/cooking-class-a-day-in-the-village-97/
LOCATION:Bali Asli Restaurant
CATEGORIES:a day in the village,cooking class
ATTACH;FMTTYPE=image/jpeg:https://baliasli.com.au/wp-content/uploads/2026/04/706CD681-7D31-4BF3-B636-118EEF659A6B_1_105_c.jpeg
END:VEVENT
BEGIN:VEVENT
DTSTART;TZID=UTC:20260428T080000
DTEND;TZID=UTC:20260428T143000
DTSTAMP:20260425T015708
CREATED:20260405T102855Z
LAST-MODIFIED:20260405T102855Z
UID:7505-1777363200-1777386600@baliasli.com.au
SUMMARY:Cooking Class "A day in the Life of a Balinese Lady"
DESCRIPTION:TO MARKET TO MARKET TO BUY A FAT PIG! \nOur chefs visit Amlapura morning market every day to gather the produce for our menu. Help carry the shopping! Sample some produce and absorb some real Balinese action in the hustle and bustle of the market. Return to Bali Asli and learn how to prepare traditional flower offerings\, “canang” whilst enjoying morning eat\, all before cooking your lunch using traditional equipment and techniques. \nPlease contact us to make your reservation or for more information on our Contact Form \nSTART TIME 08.00am        FINISH TIME 2.30pm \nPRICE; IDR 1\,292\,500
URL:https://baliasli.com.au/event/cooking-class-a-day-in-the-life-of-a-balinese-lady-93/
LOCATION:Bali Asli Restaurant
CATEGORIES:A day in the life of a Balinese lady,cooking class
ATTACH;FMTTYPE=image/jpeg:https://baliasli.com.au/wp-content/uploads/2025/11/slide-1-new.jpg
END:VEVENT
BEGIN:VEVENT
DTSTART;TZID=UTC:20260429T080000
DTEND;TZID=UTC:20260429T143000
DTSTAMP:20260425T015708
CREATED:20260405T110318Z
LAST-MODIFIED:20260406T081102Z
UID:7520-1777449600-1777473000@baliasli.com.au
SUMMARY:Cooking Class "A day in the Village"
DESCRIPTION:STEP THROUGH THE LOOKING GLASS \nOur trekking guide will take you “through the looking glass” up into the village of Pangi\, where you will have the opportunity to peek into the daily life of the local people. Enjoy stunning views over rice fields\, ocean and volcanoes. Learn the ancient art of Balinese “Aksara” etching into dried palm leaves\, at the Museum Lontar. Have a go at making your own to take home! Before returning to Bali Asli to cook your Balinese lunch  \nSTART TIME 08.00am      FINISH TIME 2.30pm \nPRICE; IDR 1\,292\,500 \nTo make a reservation\, or for more information\, please send us a message on our; Contact Form
URL:https://baliasli.com.au/event/cooking-class-a-day-in-the-village-98/
LOCATION:Bali Asli Restaurant
CATEGORIES:a day in the village,cooking class
ATTACH;FMTTYPE=image/jpeg:https://baliasli.com.au/wp-content/uploads/2026/04/706CD681-7D31-4BF3-B636-118EEF659A6B_1_105_c.jpeg
END:VEVENT
BEGIN:VEVENT
DTSTART;VALUE=DATE:20260430
DTEND;VALUE=DATE:20260501
DTSTAMP:20260425T015708
CREATED:20260405T120115Z
LAST-MODIFIED:20260405T120115Z
UID:7574-1777507200-1777593599@baliasli.com.au
SUMMARY:Street Food Tours of Amlapura Markets
DESCRIPTION:Eat with the locals when you sample the delicacies from the street stalls and markets in Amlapura town. A food enthusiast’s dream!\nStart your adventure at Bali Asli before heading out for a feast\, with a home-made cider and local snacks on our balcony with Mount Agung in full view. Then adventure down to visit the street vendors in the lively culinary scene of Amlapura\, that is both diverse and confrontingly fascinating. Our adventure is carefully planned to give you an authentic taste of Eastern Balinese local fare\, in a safe environment\, but still eating and drinking directly from the street stalls. \nSTART TIME 9.00am     FINISH TIME 12.00pm    OR     START TIME 4.00pm   FINISH TIME 7.00pm \nPRICE; IDR 470\,000 \nTo make your reservation or for more information please send us a message on our Contact Form
URL:https://baliasli.com.au/event/street-food-tours-of-amlapura-markets-11/
LOCATION:Bali Asli Restaurant
CATEGORIES:culinary encounters,street food tour
ATTACH;FMTTYPE=image/jpeg:https://baliasli.com.au/wp-content/uploads/2025/11/adventures-bg.jpg
END:VEVENT
BEGIN:VEVENT
DTSTART;TZID=UTC:20260430T083000
DTEND;TZID=UTC:20260430T143000
DTSTAMP:20260425T015708
CREATED:20260405T112339Z
LAST-MODIFIED:20260406T081550Z
UID:7538-1777537800-1777559400@baliasli.com.au
SUMMARY:V.W. Convertible Tour of Karangasem
DESCRIPTION:Chauffeur driven vintage Volkswagen safari convertible with the top down ! \nWe will start the tour at the King’s Palace of Amlapura with your exclusive tour behind the scenes. Then we will drive through the streets of Karangasem to visit Dukuh village Lontar museum and cultural centre\, learn the ancient art of etching on dried Palm leaves “Lontar” when you make your own to take home. Sip on freshly brewed Balinese kopi and sample a Balinese morning tea. \nYour next stop is just round the corner to an incense maker\, where you will see how these beautiful aromatic sticks are made by hand using the natural aroma of Cinnamon\, sandalwood\, cloves and many more. Jump back in your your car and ride round to the other side of the valley to Tirtagangga\, the Royal swimming gardens\, wander around the pools of crystal clear water and lap up the culture. \nAfter a leisurely cruise down to the coast\, past villages and rice fields\, is Taman Ujung water palace\, where the Royal family housed their esteemed guests and family in times of war. After all this exploring you would have worked up an appetite! We will head back to Bali Asli for a Balinese lunch. \nSTART TIME 8;30am.         FINISH TIME 2;30pm \nPRICE; IDR 1\,500\,000 \nTo make a reservation please send us an email via our Contact Form
URL:https://baliasli.com.au/event/v-w-convertible-tour-of-karangasem-3/
LOCATION:Bali Asli Restaurant
CATEGORIES:culinary tour,VW safari tours of Karangasem
ATTACH;FMTTYPE=image/jpeg:https://baliasli.com.au/wp-content/uploads/2025/11/Bali-Asli-VW-New.jpg
END:VEVENT
BEGIN:VEVENT
DTSTART;TZID=UTC:20260430T143000
DTEND;TZID=UTC:20260430T163000
DTSTAMP:20260425T015708
CREATED:20260405T115211Z
LAST-MODIFIED:20260406T093437Z
UID:7564-1777559400-1777566600@baliasli.com.au
SUMMARY:Mantra\, Dance and Balinese Stories
DESCRIPTION:Immerse your self in some cultural learning \nWalk through the villages to the Dukuh Lontar and cultural learning centre\, where you can learn how to etch into traditional palm leaves using the Balinese ancient Script\, “Aksara” Make your own lontar to take home whilst listening to the  “Geguritan” story songs from long ago. \nHave some fun getting dressed up and learning some of the traditional dance moves at the village dance school. \nWe will serve you our home roasted Balinese coffee or Indonesian tea\, and Karangasem style sweet treats during your cultural encounter\, before walking back to Bali Asli. \nMaybe continue your day of cultural immersion and join our staff to the night market for dinner with the locals! \nFor more information and to make a reservation please send us a message on our contact form \nSTART TIME 2;30pm         FINISH TIME; 4;30pm \nPRICE; IDR 529\,000
URL:https://baliasli.com.au/event/mantra-dance-and-balinese-stories-26/
LOCATION:Bali Asli Restaurant
CATEGORIES:culinary encounters,Mantra dance and Balinese stories
ATTACH;FMTTYPE=image/jpeg:https://baliasli.com.au/wp-content/uploads/2025/11/mantra-dance-new.jpg
END:VEVENT
END:VCALENDAR