BEGIN:VCALENDAR
VERSION:2.0
PRODID:-//Bali Asli Restaurant and Cooking School - ECPv6.15.20//NONSGML v1.0//EN
CALSCALE:GREGORIAN
METHOD:PUBLISH
X-ORIGINAL-URL:https://baliasli.com.au
X-WR-CALDESC:Events for Bali Asli Restaurant and Cooking School
REFRESH-INTERVAL;VALUE=DURATION:PT1H
X-Robots-Tag:noindex
X-PUBLISHED-TTL:PT1H
BEGIN:VTIMEZONE
TZID:UTC
BEGIN:STANDARD
TZOFFSETFROM:+0000
TZOFFSETTO:+0000
TZNAME:UTC
DTSTART:20240101T000000
END:STANDARD
END:VTIMEZONE
BEGIN:VEVENT
DTSTART;TZID=UTC:20250706T080000
DTEND;TZID=UTC:20250706T170000
DTSTAMP:20260425T205728
CREATED:20250625T122754Z
LAST-MODIFIED:20250625T122754Z
UID:5896-1751788800-1751821200@baliasli.com.au
SUMMARY:Street Food Adventures of Amlapura
DESCRIPTION:Eat dinner with the locals when you sample the delicacies from the street stalls and night markets in Amlapura town. A food enthusiast’s dream! \nStart your evening adventure at Bali Asli before heading out for dinner.\, with a home-made cider and local snacks as on our balcony as the sun sets behind Mount Agung. Then adventure down to visit the street vendors in the lively culinary scene of Amlapura\, that is both diverse and confrontingly fascinating. Our adventure is carefully planned to give you an authentic taste of Eastern Balinese local fare\, in a safe environment\, but still eating and drinking directly from the street stalls. \nSTART TIME 4.30pm   FINISH TIME 8:00pm \nPRICE; IDR 470\,000 \nTo make a reservation please send us a message; Contact Form
URL:https://baliasli.com.au/event/street-food-adventures-of-amlapura-2/
LOCATION:Bali Asli Restaurant
CATEGORIES:culinary tour,street food tour
ATTACH;FMTTYPE=image/jpeg:https://baliasli.com.au/wp-content/uploads/2024/09/street-food-tour-scaled.jpeg
END:VEVENT
BEGIN:VEVENT
DTSTART;TZID=UTC:20250629T080000
DTEND;TZID=UTC:20250629T143000
DTSTAMP:20260425T205728
CREATED:20250614T082340Z
LAST-MODIFIED:20250614T082340Z
UID:5849-1751184000-1751207400@baliasli.com.au
SUMMARY:Street Food Tours of Amlapura
DESCRIPTION:Eat dinner with the locals when you sample the delicacies from the street stalls and night markets in Amlapura town. A food enthusiast’s dream! \nStart your evening adventure at Bali Asli before heading out for dinner.\, with a home-made cider and local snacks as on our balcony as the sun sets behind Mount Agung. Then adventure down to visit the street vendors in the lively culinary scene of Amlapura\, that is both diverse and confrontingly fascinating. Our adventure is carefully planned to give you an authentic taste of Eastern Balinese local fare\, in a safe environment\, but still eating and drinking directly from the street stalls. \nSTART TIME 4.30pm   FINISH TIME 8:00pm \nPRICE; IDR 470\,000
URL:https://baliasli.com.au/event/street-food-tours-of-amlapura-4/
LOCATION:Bali Asli Restaurant
CATEGORIES:culinary tour,street food tour
ATTACH;FMTTYPE=image/jpeg:https://baliasli.com.au/wp-content/uploads/2024/09/street-food-tour-scaled.jpeg
END:VEVENT
BEGIN:VEVENT
DTSTART;TZID=UTC:20250625T080000
DTEND;TZID=UTC:20250625T150000
DTSTAMP:20260425T205728
CREATED:20250614T082203Z
LAST-MODIFIED:20250614T082203Z
UID:5846-1750838400-1750863600@baliasli.com.au
SUMMARY:Street Food Tour of Amlapura
DESCRIPTION:Eat dinner with the locals when you sample the delicacies from the street stalls and night markets in Amlapura town. A food enthusiast’s dream! \nStart your evening adventure at Bali Asli before heading out for dinner.\, with a home-made cider and local snacks as on our balcony as the sun sets behind Mount Agung. Then adventure down to visit the street vendors in the lively culinary scene of Amlapura\, that is both diverse and confrontingly fascinating. Our adventure is carefully planned to give you an authentic taste of Eastern Balinese local fare\, in a safe environment\, but still eating and drinking directly from the street stalls. \nSTART TIME 4.30pm   FINISH TIME 8:00pm \nPRICE; IDR 470\,000
URL:https://baliasli.com.au/event/street-food-tour-of-amlapura-3/
LOCATION:Bali Asli Restaurant
CATEGORIES:culinary tour,street food tour
ATTACH;FMTTYPE=image/jpeg:https://baliasli.com.au/wp-content/uploads/2024/09/street-food-tour-scaled.jpeg
END:VEVENT
BEGIN:VEVENT
DTSTART;TZID=UTC:20250607T000000
DTEND;TZID=UTC:20250607T000000
DTSTAMP:20260425T205728
CREATED:20250607T062939Z
LAST-MODIFIED:20250607T063511Z
UID:5627-1749254400-1749254400@baliasli.com.au
SUMMARY:Street Food Tours of Amlapura
DESCRIPTION:Amlapura town. A food enthusiast’s dream\nStart your evening adventure at Bali Asli\, with a home-made cider and local snacks as on our balcony as the sun sets behind Mount Agung. \nThen adventure down to wander through the street vendors in the lively culinary scene of Amlapura town\, that is both diverse and confrontingly fascinating. \nOur adventure is carefully planned to give you an authentic taste of Eastern Balinese local fare\, in a safe environment\, but still eating and drinking directly from the street stalls. \nSTART TIME; 4;00pm                             FINISH TIME; 8;00pm \nIDR 470\,000
URL:https://baliasli.com.au/event/street-food-tours-of-amlapura-3/
CATEGORIES:street food tour
END:VEVENT
BEGIN:VEVENT
DTSTART;TZID=UTC:20250524T160000
DTEND;TZID=UTC:20250524T200000
DTSTAMP:20260425T205728
CREATED:20250425T131136Z
LAST-MODIFIED:20250425T131136Z
UID:5635-1748102400-1748116800@baliasli.com.au
SUMMARY:Street Food Tour of Amlapura
DESCRIPTION:Amlapura town. A food enthusiast’s dream\nStart your evening adventure at Bali Asli\, with a home-made cider and local snacks as on our balcony as the sun sets behind Mount Agung. \nThen adventure down to wander through the street vendors in the lively culinary scene of Amlapura town\, that is both diverse and confrontingly fascinating. \nOur adventure is carefully planned to give you an authentic taste of Eastern Balinese local fare\, in a safe environment\, but still eating and drinking directly from the street stalls. \nSTART TIME; 4;00pm                             FINISH TIME; 8;00pm \nIDR 470\,000
URL:https://baliasli.com.au/event/street-food-tour-of-amlapura-2/
CATEGORIES:culinary tour,street food tour
ATTACH;FMTTYPE=image/jpeg:https://baliasli.com.au/wp-content/uploads/2024/09/street-food-tour-scaled.jpeg
END:VEVENT
BEGIN:VEVENT
DTSTART;TZID=UTC:20250518T160000
DTEND;TZID=UTC:20250518T200000
DTSTAMP:20260425T205728
CREATED:20250425T130901Z
LAST-MODIFIED:20250425T130901Z
UID:5631-1747584000-1747598400@baliasli.com.au
SUMMARY:Street Food Tours of Amlapura
DESCRIPTION:Amlapura town. A food enthusiast’s dream\nStart your evening adventure at Bali Asli\, with a home-made cider and local snacks as on our balcony as the sun sets behind Mount Agung. \nThen adventure down to wander through the street vendors in the lively culinary scene of Amlapura town\, that is both diverse and confrontingly fascinating. \nOur adventure is carefully planned to give you an authentic taste of Eastern Balinese local fare\, in a safe environment\, but still eating and drinking directly from the street stalls. \nSTART TIME; 4;00pm                             FINISH TIME; 8;00pm \nIDR 470\,000
URL:https://baliasli.com.au/event/street-food-tours-of-amlapura-2/
CATEGORIES:culinary tour,street food tour
ATTACH;FMTTYPE=image/jpeg:https://baliasli.com.au/wp-content/uploads/2024/09/street-food-tour-scaled.jpeg
END:VEVENT
BEGIN:VEVENT
DTSTART;TZID=UTC:20250512T160000
DTEND;TZID=UTC:20250512T200000
DTSTAMP:20260425T205728
CREATED:20250425T125301Z
LAST-MODIFIED:20250425T130519Z
UID:5623-1747065600-1747080000@baliasli.com.au
SUMMARY:Street Food Tour of Amlapura
DESCRIPTION:Amlapura town. A food enthusiast’s dream\nStart your evening adventure at Bali Asli\, with a home-made cider and local snacks as on our balcony as the sun sets behind Mount Agung. \nThen adventure down to wander through the street vendors in the lively culinary scene of Amlapura town\, that is both diverse and confrontingly fascinating. \nOur adventure is carefully planned to give you an authentic taste of Eastern Balinese local fare\, in a safe environment\, but still eating and drinking directly from the street stalls. \nSTART TIME; 4;00pm                             FINISH TIME; 8;00pm \nIDR 470\,000
URL:https://baliasli.com.au/event/street-food-tour-of-amlapura/
CATEGORIES:culinary tour,street food tour
ATTACH;FMTTYPE=image/jpeg:https://baliasli.com.au/wp-content/uploads/2024/09/street-food-tour-scaled.jpeg
END:VEVENT
END:VCALENDAR