BEGIN:VCALENDAR
VERSION:2.0
PRODID:-//Bali Asli Restaurant and Cooking School - ECPv6.15.20//NONSGML v1.0//EN
CALSCALE:GREGORIAN
METHOD:PUBLISH
X-ORIGINAL-URL:https://baliasli.com.au
X-WR-CALDESC:Events for Bali Asli Restaurant and Cooking School
REFRESH-INTERVAL;VALUE=DURATION:PT1H
X-Robots-Tag:noindex
X-PUBLISHED-TTL:PT1H
BEGIN:VTIMEZONE
TZID:UTC
BEGIN:STANDARD
TZOFFSETFROM:+0000
TZOFFSETTO:+0000
TZNAME:UTC
DTSTART:20240101T000000
END:STANDARD
END:VTIMEZONE
BEGIN:VEVENT
DTSTART;TZID=UTC:20250710T040000
DTEND;TZID=UTC:20250710T150000
DTSTAMP:20260423T045048
CREATED:20250627T072146Z
LAST-MODIFIED:20250627T072146Z
UID:5954-1752120000-1752159600@baliasli.com.au
SUMMARY:Mountain Top Sunrise in a Topless Jeep
DESCRIPTION:An early bird catches the sun!\nYes a super early start to the day at 4.00am\, but so worth it. We will pick you up from your hotel in East Bali with our convertible four wheel drive. Hold onto your hats it climbs the steep road to the lookout on the East wing of Lempuyang mountain. Your guide will prepare your breakfast as you catch your breath watching the magnificent view\, one side out to the sparkling sun-kissed sea\, with Renjani Volcano on Lombok silhouetted by the rising sun\, as well as Agung Volcano on the other side! After sun rise\, jump back in the car and head to Amed for a dip under the crystal clear waters for some snorkelling.  The day will finish at Bali Asli with a Traditional Balinese Megibung feast. \nTo make a reservation please email us directly on our Contact Form \nSTART TIME 4;00am.         FINISH TIME 3;00pm \nPRICE; IDR 1\,100\,000
URL:https://baliasli.com.au/event/mountain-top-sunrise-in-a-topless-jeep-2/
LOCATION:Bali Asli Restaurant
CATEGORIES:culinary tour,Sunrise topless Jeep tour
ATTACH;FMTTYPE=image/jpeg:https://baliasli.com.au/wp-content/uploads/2024/10/IMG_5863-scaled.jpeg
END:VEVENT
BEGIN:VEVENT
DTSTART;TZID=UTC:20250706T080000
DTEND;TZID=UTC:20250706T170000
DTSTAMP:20260423T045048
CREATED:20250625T122754Z
LAST-MODIFIED:20250625T122754Z
UID:5896-1751788800-1751821200@baliasli.com.au
SUMMARY:Street Food Adventures of Amlapura
DESCRIPTION:Eat dinner with the locals when you sample the delicacies from the street stalls and night markets in Amlapura town. A food enthusiast’s dream! \nStart your evening adventure at Bali Asli before heading out for dinner.\, with a home-made cider and local snacks as on our balcony as the sun sets behind Mount Agung. Then adventure down to visit the street vendors in the lively culinary scene of Amlapura\, that is both diverse and confrontingly fascinating. Our adventure is carefully planned to give you an authentic taste of Eastern Balinese local fare\, in a safe environment\, but still eating and drinking directly from the street stalls. \nSTART TIME 4.30pm   FINISH TIME 8:00pm \nPRICE; IDR 470\,000 \nTo make a reservation please send us a message; Contact Form
URL:https://baliasli.com.au/event/street-food-adventures-of-amlapura-2/
LOCATION:Bali Asli Restaurant
CATEGORIES:culinary tour,street food tour
ATTACH;FMTTYPE=image/jpeg:https://baliasli.com.au/wp-content/uploads/2024/09/street-food-tour-scaled.jpeg
END:VEVENT
BEGIN:VEVENT
DTSTART;TZID=UTC:20250704T080000
DTEND;TZID=UTC:20250704T140000
DTSTAMP:20260423T045048
CREATED:20250627T070754Z
LAST-MODIFIED:20250627T070754Z
UID:5939-1751616000-1751637600@baliasli.com.au
SUMMARY:V.W. Safari convertible tours of Karangasem
DESCRIPTION:Chauffeur driven vintage Volkswagen safari convertible with the top down ! \nWe will start the tour at the King’s Palace of Amlapura with your exclusive tour behind the scenes. Then we will drive through the streets of Karangasem to visit Dukuh village Lontar museum and cultural centre\, learn the ancient art of etching on dried Palm leaves “Lontar” when you make your own to take home. Sip on freshly brewed Balinese kopi and sample a Balinese morning tea. \nYour next stop is just round the corner to an incense maker\, where you will see how these beautiful aromatic sticks are made by hand using the natural aroma of Cinnamon\, sandalwood\, cloves and many more. Jump back in your your car and ride round to the other side of the valley to Tirtagangga\, the Royal swimming gardens\, wander around the pools of crystal clear water and lap up the culture. \nAfter a leisurely cruise down to the coast\, past villages and rice fields\, is Taman Ujung water palace\, where the Royal family housed their esteemed guests and family in times of war. After all this exploring you would have worked up an appetite! We will head back to Bali Asli for a Balinese lunch. \nSTART TIME 8;30am.         FINISH TIME 2;00pm \nPRICE; IDR 1\,500\,000 \nTo make your reservation\, send us a message; Contact Form
URL:https://baliasli.com.au/event/v-w-safari-convertible-tours-of-karangasem/
LOCATION:Bali Asli Restaurant
CATEGORIES:culinary tour,VW safari tours of Karangasem
ATTACH;FMTTYPE=image/jpeg:https://baliasli.com.au/wp-content/uploads/2024/09/green-VW.jpeg
END:VEVENT
BEGIN:VEVENT
DTSTART;TZID=UTC:20250629T080000
DTEND;TZID=UTC:20250629T143000
DTSTAMP:20260423T045048
CREATED:20250614T082340Z
LAST-MODIFIED:20250614T082340Z
UID:5849-1751184000-1751207400@baliasli.com.au
SUMMARY:Street Food Tours of Amlapura
DESCRIPTION:Eat dinner with the locals when you sample the delicacies from the street stalls and night markets in Amlapura town. A food enthusiast’s dream! \nStart your evening adventure at Bali Asli before heading out for dinner.\, with a home-made cider and local snacks as on our balcony as the sun sets behind Mount Agung. Then adventure down to visit the street vendors in the lively culinary scene of Amlapura\, that is both diverse and confrontingly fascinating. Our adventure is carefully planned to give you an authentic taste of Eastern Balinese local fare\, in a safe environment\, but still eating and drinking directly from the street stalls. \nSTART TIME 4.30pm   FINISH TIME 8:00pm \nPRICE; IDR 470\,000
URL:https://baliasli.com.au/event/street-food-tours-of-amlapura-4/
LOCATION:Bali Asli Restaurant
CATEGORIES:culinary tour,street food tour
ATTACH;FMTTYPE=image/jpeg:https://baliasli.com.au/wp-content/uploads/2024/09/street-food-tour-scaled.jpeg
END:VEVENT
BEGIN:VEVENT
DTSTART;TZID=UTC:20250625T080000
DTEND;TZID=UTC:20250625T150000
DTSTAMP:20260423T045048
CREATED:20250614T082203Z
LAST-MODIFIED:20250614T082203Z
UID:5846-1750838400-1750863600@baliasli.com.au
SUMMARY:Street Food Tour of Amlapura
DESCRIPTION:Eat dinner with the locals when you sample the delicacies from the street stalls and night markets in Amlapura town. A food enthusiast’s dream! \nStart your evening adventure at Bali Asli before heading out for dinner.\, with a home-made cider and local snacks as on our balcony as the sun sets behind Mount Agung. Then adventure down to visit the street vendors in the lively culinary scene of Amlapura\, that is both diverse and confrontingly fascinating. Our adventure is carefully planned to give you an authentic taste of Eastern Balinese local fare\, in a safe environment\, but still eating and drinking directly from the street stalls. \nSTART TIME 4.30pm   FINISH TIME 8:00pm \nPRICE; IDR 470\,000
URL:https://baliasli.com.au/event/street-food-tour-of-amlapura-3/
LOCATION:Bali Asli Restaurant
CATEGORIES:culinary tour,street food tour
ATTACH;FMTTYPE=image/jpeg:https://baliasli.com.au/wp-content/uploads/2024/09/street-food-tour-scaled.jpeg
END:VEVENT
BEGIN:VEVENT
DTSTART;TZID=UTC:20250619T080000
DTEND;TZID=UTC:20250619T143000
DTSTAMP:20260423T045048
CREATED:20250612T122845Z
LAST-MODIFIED:20250612T122845Z
UID:5798-1750320000-1750343400@baliasli.com.au
SUMMARY:Cooking Class "A day in the village"
DESCRIPTION:STEP THROUGH THE LOOKING GLASS \nOur trekking guide will take you “through the looking glass” up into the village of Pangi\, where you will have the opportunity to peek into the daily life of the local people\, before you cook lunch during your cooking class. \nSTART TIME 08.00am      FINISH TIME 2.30pm \nPRICE; IDR 1\,292\,500
URL:https://baliasli.com.au/event/cooking-class-a-day-in-the-village-52/
CATEGORIES:a day in the village,cooking class,VW safari tours of Karangasem
ATTACH;FMTTYPE=image/jpeg:https://baliasli.com.au/wp-content/uploads/2024/07/museum-5-e1722340893530.jpeg
END:VEVENT
BEGIN:VEVENT
DTSTART;TZID=UTC:20250607T000000
DTEND;TZID=UTC:20250607T000000
DTSTAMP:20260423T045048
CREATED:20250607T062939Z
LAST-MODIFIED:20250607T063511Z
UID:5627-1749254400-1749254400@baliasli.com.au
SUMMARY:Street Food Tours of Amlapura
DESCRIPTION:Amlapura town. A food enthusiast’s dream\nStart your evening adventure at Bali Asli\, with a home-made cider and local snacks as on our balcony as the sun sets behind Mount Agung. \nThen adventure down to wander through the street vendors in the lively culinary scene of Amlapura town\, that is both diverse and confrontingly fascinating. \nOur adventure is carefully planned to give you an authentic taste of Eastern Balinese local fare\, in a safe environment\, but still eating and drinking directly from the street stalls. \nSTART TIME; 4;00pm                             FINISH TIME; 8;00pm \nIDR 470\,000
URL:https://baliasli.com.au/event/street-food-tours-of-amlapura-3/
CATEGORIES:street food tour
END:VEVENT
BEGIN:VEVENT
DTSTART;TZID=UTC:20250607T000000
DTEND;TZID=UTC:20250607T000000
DTSTAMP:20260423T045048
CREATED:20250607T062918Z
LAST-MODIFIED:20250607T063444Z
UID:5715-1749254400-1749254400@baliasli.com.au
SUMMARY:“Bali Asli VW Safari convertible tours of Karangasem”
DESCRIPTION:Chauffeur driven vintage Volkswagen safari convertible with the top down ! \nWe will start the tour at the King’s Palace of Amlapura with your exclusive tour behind the scenes. Then we will drive through the streets of Karangasem to visit Dukuh village Lontar museum and cultural centre\, learn the ancient art of etching on dried Palm leaves “Lontar” when you make your own to take home. Sip on freshly brewed Balinese kopi and sample a Balinese morning tea. \nYour next stop is just round the corner to an incense maker\, where you will see how these beautiful aromatic sticks are made by hand using the natural aroma of Cinnamon\, sandalwood\, cloves and many more. Jump back in your your car and ride round to the other side of the valley to Tirtagangga\, the Royal swimming gardens\, wander around the pools of crystal clear water and lap up the culture. \nAfter a leisurely cruise down to the coast\, past villages and rice fields\, is Taman Ujung water palace\, where the Royal family housed their esteemed guests and family in times of war. After all this exploring you would have worked up an appetite! We will head back to Bali Asli for a Balinese lunch. \nSTART TIME 8;30am.         FINISH TIME 2;00pm \nPRICE; IDR 1\,500\,000
URL:https://baliasli.com.au/event/bali-asli-vw-safari-convertible-tours-of-karangasem-4/
CATEGORIES:VW safari tours of Karangasem
END:VEVENT
BEGIN:VEVENT
DTSTART;TZID=UTC:20250531T040000
DTEND;TZID=UTC:20250531T153000
DTSTAMP:20260423T045048
CREATED:20250426T120701Z
LAST-MODIFIED:20250426T120701Z
UID:5702-1748664000-1748705400@baliasli.com.au
SUMMARY:Culinary adventure “Mountain top sunrise in a topless jeep”
DESCRIPTION:An early bird catches the sun! \nYes a super early start to the day at 4.00am\, but so worth it. We will pick you up from your hotel in East Bali with our convertible four wheel drive. Hold onto your hats it climbs the steep road to the lookout on the East wing of Lempuyang mountain. Your guide will prepare your breakfast as you catch your breath watching the magnificent view\, one side out to the sparkling sun-kissed sea\, with Renjani Volcano on Lombok silhouetted by the rising sun\, as well as Agung Volcano on the other side! After sun rise\, jump back in the car and head to Amed for a dip under the crystal clear waters for some snorkelling.  The day will finish at Bali Asli with a Traditional Balinese Megibung feast. \nSTART TIME 4;00am.         FINISH TIME 3;00pm \nPRICE; IDR 1\,100\,000
URL:https://baliasli.com.au/event/culinary-adventure-mountain-top-sunrise-in-a-topless-jeep-13/
CATEGORIES:culinary tour,Sunrise topless Jeep tour
ATTACH;FMTTYPE=image/jpeg:https://baliasli.com.au/wp-content/uploads/2024/10/IMG_5863-scaled.jpeg
END:VEVENT
BEGIN:VEVENT
DTSTART;TZID=UTC:20250524T160000
DTEND;TZID=UTC:20250524T200000
DTSTAMP:20260423T045048
CREATED:20250425T131136Z
LAST-MODIFIED:20250425T131136Z
UID:5635-1748102400-1748116800@baliasli.com.au
SUMMARY:Street Food Tour of Amlapura
DESCRIPTION:Amlapura town. A food enthusiast’s dream\nStart your evening adventure at Bali Asli\, with a home-made cider and local snacks as on our balcony as the sun sets behind Mount Agung. \nThen adventure down to wander through the street vendors in the lively culinary scene of Amlapura town\, that is both diverse and confrontingly fascinating. \nOur adventure is carefully planned to give you an authentic taste of Eastern Balinese local fare\, in a safe environment\, but still eating and drinking directly from the street stalls. \nSTART TIME; 4;00pm                             FINISH TIME; 8;00pm \nIDR 470\,000
URL:https://baliasli.com.au/event/street-food-tour-of-amlapura-2/
CATEGORIES:culinary tour,street food tour
ATTACH;FMTTYPE=image/jpeg:https://baliasli.com.au/wp-content/uploads/2024/09/street-food-tour-scaled.jpeg
END:VEVENT
BEGIN:VEVENT
DTSTART;TZID=UTC:20250524T040000
DTEND;TZID=UTC:20250524T153000
DTSTAMP:20260423T045048
CREATED:20250426T120432Z
LAST-MODIFIED:20250426T120432Z
UID:5699-1748059200-1748100600@baliasli.com.au
SUMMARY:Culinary adventure “Mountain top sunrise in a topless jeep”
DESCRIPTION:An early bird catches the sun! \nYes a super early start to the day at 4.00am\, but so worth it. We will pick you up from your hotel in East Bali with our convertible four wheel drive. Hold onto your hats it climbs the steep road to the lookout on the East wing of Lempuyang mountain. Your guide will prepare your breakfast as you catch your breath watching the magnificent view\, one side out to the sparkling sun-kissed sea\, with Renjani Volcano on Lombok silhouetted by the rising sun\, as well as Agung Volcano on the other side! After sun rise\, jump back in the car and head to Amed for a dip under the crystal clear waters for some snorkelling.  The day will finish at Bali Asli with a Traditional Balinese Megibung feast. \nSTART TIME 4;00am.         FINISH TIME 3;00pm \nPRICE; IDR 1\,100\,000
URL:https://baliasli.com.au/event/culinary-adventure-mountain-top-sunrise-in-a-topless-jeep-12/
CATEGORIES:culinary tour,Sunrise topless Jeep tour
ATTACH;FMTTYPE=image/jpeg:https://baliasli.com.au/wp-content/uploads/2024/10/IMG_5863-scaled.jpeg
END:VEVENT
BEGIN:VEVENT
DTSTART;TZID=UTC:20250521T083000
DTEND;TZID=UTC:20250521T143000
DTSTAMP:20260423T045048
CREATED:20250426T121524Z
LAST-MODIFIED:20250426T121524Z
UID:5712-1747816200-1747837800@baliasli.com.au
SUMMARY:“Bali Asli VW Safari convertible tours of Karangasem”
DESCRIPTION:Chauffeur driven vintage Volkswagen safari convertible with the top down ! \nWe will start the tour at the King’s Palace of Amlapura with your exclusive tour behind the scenes. Then we will drive through the streets of Karangasem to visit Dukuh village Lontar museum and cultural centre\, learn the ancient art of etching on dried Palm leaves “Lontar” when you make your own to take home. Sip on freshly brewed Balinese kopi and sample a Balinese morning tea. \nYour next stop is just round the corner to an incense maker\, where you will see how these beautiful aromatic sticks are made by hand using the natural aroma of Cinnamon\, sandalwood\, cloves and many more. Jump back in your your car and ride round to the other side of the valley to Tirtagangga\, the Royal swimming gardens\, wander around the pools of crystal clear water and lap up the culture. \nAfter a leisurely cruise down to the coast\, past villages and rice fields\, is Taman Ujung water palace\, where the Royal family housed their esteemed guests and family in times of war. After all this exploring you would have worked up an appetite! We will head back to Bali Asli for a Balinese lunch. \nSTART TIME 8;30am.         FINISH TIME 2;00pm \nPRICE; IDR 1\,500\,000
URL:https://baliasli.com.au/event/bali-asli-vw-safari-convertible-tours-of-karangasem-3/
CATEGORIES:culinary tour,VW safari tours of Karangasem
ATTACH;FMTTYPE=image/jpeg:https://baliasli.com.au/wp-content/uploads/2024/09/green-VW.jpeg
END:VEVENT
BEGIN:VEVENT
DTSTART;TZID=UTC:20250518T160000
DTEND;TZID=UTC:20250518T200000
DTSTAMP:20260423T045048
CREATED:20250425T130901Z
LAST-MODIFIED:20250425T130901Z
UID:5631-1747584000-1747598400@baliasli.com.au
SUMMARY:Street Food Tours of Amlapura
DESCRIPTION:Amlapura town. A food enthusiast’s dream\nStart your evening adventure at Bali Asli\, with a home-made cider and local snacks as on our balcony as the sun sets behind Mount Agung. \nThen adventure down to wander through the street vendors in the lively culinary scene of Amlapura town\, that is both diverse and confrontingly fascinating. \nOur adventure is carefully planned to give you an authentic taste of Eastern Balinese local fare\, in a safe environment\, but still eating and drinking directly from the street stalls. \nSTART TIME; 4;00pm                             FINISH TIME; 8;00pm \nIDR 470\,000
URL:https://baliasli.com.au/event/street-food-tours-of-amlapura-2/
CATEGORIES:culinary tour,street food tour
ATTACH;FMTTYPE=image/jpeg:https://baliasli.com.au/wp-content/uploads/2024/09/street-food-tour-scaled.jpeg
END:VEVENT
BEGIN:VEVENT
DTSTART;TZID=UTC:20250515T040000
DTEND;TZID=UTC:20250515T153000
DTSTAMP:20260423T045048
CREATED:20250426T120252Z
LAST-MODIFIED:20250426T120252Z
UID:5696-1747281600-1747323000@baliasli.com.au
SUMMARY:Culinary adventure “Mountain top sunrise in a topless jeep”
DESCRIPTION:An early bird catches the sun! \nYes a super early start to the day at 4.00am\, but so worth it. We will pick you up from your hotel in East Bali with our convertible four wheel drive. Hold onto your hats it climbs the steep road to the lookout on the East wing of Lempuyang mountain. Your guide will prepare your breakfast as you catch your breath watching the magnificent view\, one side out to the sparkling sun-kissed sea\, with Renjani Volcano on Lombok silhouetted by the rising sun\, as well as Agung Volcano on the other side! After sun rise\, jump back in the car and head to Amed for a dip under the crystal clear waters for some snorkelling.  The day will finish at Bali Asli with a Traditional Balinese Megibung feast. \nSTART TIME 4;00am.         FINISH TIME 3;00pm \nPRICE; IDR 1\,100\,000
URL:https://baliasli.com.au/event/culinary-adventure-mountain-top-sunrise-in-a-topless-jeep-11/
CATEGORIES:culinary tour,Sunrise topless Jeep tour
ATTACH;FMTTYPE=image/jpeg:https://baliasli.com.au/wp-content/uploads/2024/10/IMG_5863-scaled.jpeg
END:VEVENT
BEGIN:VEVENT
DTSTART;TZID=UTC:20250514T083000
DTEND;TZID=UTC:20250514T140000
DTSTAMP:20260423T045048
CREATED:20250426T121049Z
LAST-MODIFIED:20250426T121109Z
UID:5705-1747211400-1747231200@baliasli.com.au
SUMMARY:“Bali Asli VW Safari convertible tours of Karangasem”
DESCRIPTION:Chauffeur driven vintage Volkswagen safari convertible with the top down ! \nWe will start the tour at the King’s Palace of Amlapura with your exclusive tour behind the scenes. Then we will drive through the streets of Karangasem to visit Dukuh village Lontar museum and cultural centre\, learn the ancient art of etching on dried Palm leaves “Lontar” when you make your own to take home. Sip on freshly brewed Balinese kopi and sample a Balinese morning tea. \nYour next stop is just round the corner to an incense maker\, where you will see how these beautiful aromatic sticks are made by hand using the natural aroma of Cinnamon\, sandalwood\, cloves and many more. Jump back in your your car and ride round to the other side of the valley to Tirtagangga\, the Royal swimming gardens\, wander around the pools of crystal clear water and lap up the culture. \nAfter a leisurely cruise down to the coast\, past villages and rice fields\, is Taman Ujung water palace\, where the Royal family housed their esteemed guests and family in times of war. After all this exploring you would have worked up an appetite! We will head back to Bali Asli for a Balinese lunch. \nSTART TIME 8;30am.         FINISH TIME 2;00pm \nPRICE; IDR 1\,500\,000
URL:https://baliasli.com.au/event/bali-asli-vw-safari-convertible-tours-of-karangasem/
CATEGORIES:culinary tour,VW safari tours of Karangasem
ATTACH;FMTTYPE=image/jpeg:https://baliasli.com.au/wp-content/uploads/2024/09/green-VW.jpeg
END:VEVENT
BEGIN:VEVENT
DTSTART;TZID=UTC:20250512T160000
DTEND;TZID=UTC:20250512T200000
DTSTAMP:20260423T045048
CREATED:20250425T125301Z
LAST-MODIFIED:20250425T130519Z
UID:5623-1747065600-1747080000@baliasli.com.au
SUMMARY:Street Food Tour of Amlapura
DESCRIPTION:Amlapura town. A food enthusiast’s dream\nStart your evening adventure at Bali Asli\, with a home-made cider and local snacks as on our balcony as the sun sets behind Mount Agung. \nThen adventure down to wander through the street vendors in the lively culinary scene of Amlapura town\, that is both diverse and confrontingly fascinating. \nOur adventure is carefully planned to give you an authentic taste of Eastern Balinese local fare\, in a safe environment\, but still eating and drinking directly from the street stalls. \nSTART TIME; 4;00pm                             FINISH TIME; 8;00pm \nIDR 470\,000
URL:https://baliasli.com.au/event/street-food-tour-of-amlapura/
CATEGORIES:culinary tour,street food tour
ATTACH;FMTTYPE=image/jpeg:https://baliasli.com.au/wp-content/uploads/2024/09/street-food-tour-scaled.jpeg
END:VEVENT
BEGIN:VEVENT
DTSTART;TZID=UTC:20250508T040000
DTEND;TZID=UTC:20250508T153000
DTSTAMP:20260423T045048
CREATED:20250426T120111Z
LAST-MODIFIED:20250426T120111Z
UID:5693-1746676800-1746718200@baliasli.com.au
SUMMARY:Culinary adventure “Mountain top sunrise in a topless jeep”
DESCRIPTION:An early bird catches the sun! \nYes a super early start to the day at 4.00am\, but so worth it. We will pick you up from your hotel in East Bali with our convertible four wheel drive. Hold onto your hats it climbs the steep road to the lookout on the East wing of Lempuyang mountain. Your guide will prepare your breakfast as you catch your breath watching the magnificent view\, one side out to the sparkling sun-kissed sea\, with Renjani Volcano on Lombok silhouetted by the rising sun\, as well as Agung Volcano on the other side! After sun rise\, jump back in the car and head to Amed for a dip under the crystal clear waters for some snorkelling.  The day will finish at Bali Asli with a Traditional Balinese Megibung feast. \nSTART TIME 4;00am.         FINISH TIME 3;00pm \nPRICE; IDR 1\,100\,000
URL:https://baliasli.com.au/event/culinary-adventure-mountain-top-sunrise-in-a-topless-jeep-10/
CATEGORIES:culinary tour,Sunrise topless Jeep tour
ATTACH;FMTTYPE=image/jpeg:https://baliasli.com.au/wp-content/uploads/2024/10/IMG_5863-scaled.jpeg
END:VEVENT
BEGIN:VEVENT
DTSTART;TZID=UTC:20250501T083000
DTEND;TZID=UTC:20250501T140000
DTSTAMP:20260423T045048
CREATED:20250426T121243Z
LAST-MODIFIED:20250426T121243Z
UID:5709-1746088200-1746108000@baliasli.com.au
SUMMARY:“Bali Asli VW Safari convertible tours of Karangasem”
DESCRIPTION:Chauffeur driven vintage Volkswagen safari convertible with the top down ! \nWe will start the tour at the King’s Palace of Amlapura with your exclusive tour behind the scenes. Then we will drive through the streets of Karangasem to visit Dukuh village Lontar museum and cultural centre\, learn the ancient art of etching on dried Palm leaves “Lontar” when you make your own to take home. Sip on freshly brewed Balinese kopi and sample a Balinese morning tea. \nYour next stop is just round the corner to an incense maker\, where you will see how these beautiful aromatic sticks are made by hand using the natural aroma of Cinnamon\, sandalwood\, cloves and many more. Jump back in your your car and ride round to the other side of the valley to Tirtagangga\, the Royal swimming gardens\, wander around the pools of crystal clear water and lap up the culture. \nAfter a leisurely cruise down to the coast\, past villages and rice fields\, is Taman Ujung water palace\, where the Royal family housed their esteemed guests and family in times of war. After all this exploring you would have worked up an appetite! We will head back to Bali Asli for a Balinese lunch. \nSTART TIME 8;30am.         FINISH TIME 2;00pm \nPRICE; IDR 1\,500\,000
URL:https://baliasli.com.au/event/bali-asli-vw-safari-convertible-tours-of-karangasem-2/
CATEGORIES:culinary tour,VW safari tours of Karangasem
ATTACH;FMTTYPE=image/jpeg:https://baliasli.com.au/wp-content/uploads/2024/09/green-VW.jpeg
END:VEVENT
BEGIN:VEVENT
DTSTART;TZID=UTC:20250421T040000
DTEND;TZID=UTC:20250421T150000
DTSTAMP:20260423T045048
CREATED:20250329T124612Z
LAST-MODIFIED:20250426T115845Z
UID:5518-1745208000-1745247600@baliasli.com.au
SUMMARY:Culinary Adventure; "Mountain Top Sunrise in a Topless jeep"
DESCRIPTION:An early bird catches the sun! \nYes a super early start to the day at 4.00am\, but so worth it. We will pick you up from your hotel in East Bali with our convertible four wheel drive. Hold onto your hats it climbs the steep road to the lookout on the East wing of Lempuyang mountain. Your guide will prepare your breakfast as you catch your breath watching the magnificent view\, one side out to the sparkling sun-kissed sea\, with Renjani Volcano on Lombok silhouetted by the rising sun\, as well as Agung Volcano on the other side! After sun rise\, jump back in the car and head to Amed for a dip under the crystal clear waters for some snorkelling.  The day will finish at Bali Asli with a Traditional Balinese Megibung feast. \nSTART TIME 4;00am.         FINISH TIME 3;00pm \nPRICE; IDR 1\,100\,000
URL:https://baliasli.com.au/event/culinary-adventure-mountain-top-sunrise-in-a-topless-jeep-9/
CATEGORIES:culinary tour,Sunrise topless Jeep tour
ATTACH;FMTTYPE=image/jpeg:https://baliasli.com.au/wp-content/uploads/2024/10/IMG_5863-scaled.jpeg
END:VEVENT
BEGIN:VEVENT
DTSTART;TZID=UTC:20250202T080000
DTEND;TZID=UTC:20250202T140000
DTSTAMP:20260423T045048
CREATED:20250124T135612Z
LAST-MODIFIED:20250129T124530Z
UID:5128-1738483200-1738504800@baliasli.com.au
SUMMARY:Culinary tour "V.W. convertible tour of Karangasem"
DESCRIPTION:A full day of exploration! Relax and enjoy the ride as you sit in the back of your chauffeur driven vintage Volkswagen safari convertible with the top down ! \nWe will start the tour at the King’s Palace of Amlapura with your exclusive tour behind the scenes. Then we will drive through the streets of Karangasem to visit Dukuh village Lontar museum and cultural centre\, learn the ancient art of etching on dried Palm leaves “Lontar” when you make your own to take home. Sip on freshly brewed Balinese kopi and sample a Balinese morning tea. \nYour next stop is just round the corner to an incense maker\, where you will see how these beautiful aromatic sticks are made by hand using the natural aroma of Cinnamon\, sandalwood\, cloves and many more. Jump back in your your car and ride round to the other side of the valley to Tirtagangga\, the Royal swimming gardens\, wander around the pools of crystal clear water and lap up the culture. \nAfter a leisurely cruise down to the coast\, past villages and rice fields\, is Taman Ujung water palace\, where the Royal family housed their esteemed guests and family in times of war. After all this exploring you would have worked up an appetite! We will head back to Bali Asli for a Balinese lunch. \nSTART TIME 8;30am.         FINISH TIME 2;00pm \nPRICE; IDR 1\,500\,000
URL:https://baliasli.com.au/event/culinary-tour-v-w-convertible-tour-of-karangasem-4/
CATEGORIES:culinary tour
ATTACH;FMTTYPE=image/jpeg:https://baliasli.com.au/wp-content/uploads/2024/09/green-VW.jpeg
END:VEVENT
END:VCALENDAR