BEGIN:VCALENDAR
VERSION:2.0
PRODID:-//Bali Asli Restaurant and Cooking School - ECPv6.15.20//NONSGML v1.0//EN
CALSCALE:GREGORIAN
METHOD:PUBLISH
X-ORIGINAL-URL:https://baliasli.com.au
X-WR-CALDESC:Events for Bali Asli Restaurant and Cooking School
REFRESH-INTERVAL;VALUE=DURATION:PT1H
X-Robots-Tag:noindex
X-PUBLISHED-TTL:PT1H
BEGIN:VTIMEZONE
TZID:UTC
BEGIN:STANDARD
TZOFFSETFROM:+0000
TZOFFSETTO:+0000
TZNAME:UTC
DTSTART:20250101T000000
END:STANDARD
END:VTIMEZONE
BEGIN:VEVENT
DTSTART;TZID=UTC:20260424T100000
DTEND;TZID=UTC:20260424T120000
DTSTAMP:20260423T194838
CREATED:20260405T114659Z
LAST-MODIFIED:20260406T084056Z
UID:7558-1777024800-1777032000@baliasli.com.au
SUMMARY:The Spirits of Bali
DESCRIPTION:Encounter the Balinese spirits up close and personal\, In a surprisingly different way.\nLearn how to make some of Bali Asli’s famous cocktails! Bali Asli only uses naturally fermented and locally distilled alcohol on our cocktail menu. Some we make at Bali Asli and some we source from our extended family in the villages near by. \nWe will make three of our most popular cocktails or non-alcoholic drinks if you prefer. Which you can then sip over looking the view. \nJust let the team know if you would like to stay longer and have lunch before you go. \nSTART TIME 10;00am      FINISH TIME 12;00pm \nPRICE; IDR 353\,000 \nTo make your reservation\, please send us a message from our Contact Form
URL:https://baliasli.com.au/event/the-spirits-of-bali-25/
LOCATION:Bali Asli Restaurant
CATEGORIES:culinary encounters,the sprits of Bali
ATTACH;FMTTYPE=image/jpeg:https://baliasli.com.au/wp-content/uploads/2025/11/cocktail.jpg
END:VEVENT
BEGIN:VEVENT
DTSTART;TZID=UTC:20260504T100000
DTEND;TZID=UTC:20260504T120000
DTSTAMP:20260423T194838
CREATED:20260406T084231Z
LAST-MODIFIED:20260406T084231Z
UID:7633-1777888800-1777896000@baliasli.com.au
SUMMARY:Then Spirits of Bali
DESCRIPTION:Encounter the Balinese spirits up close and personal\, In a surprisingly different way.\nLearn how to make some of Bali Asli’s famous cocktails! Bali Asli only uses naturally fermented and locally distilled alcohol on our cocktail menu. Some we make at Bali Asli and some we source from our extended family in the villages near by. \nWe will make three of our most popular cocktails or non-alcoholic drinks if you prefer. Which you can then sip over looking the view. \nJust let the team know if you would like to stay longer and have lunch before you go. \nSTART TIME 10;00am      FINISH TIME 12;00pm \nPRICE; IDR 353\,000 \nTo make your reservation\, please send us a message from our Contact Form
URL:https://baliasli.com.au/event/then-spirits-of-bali/
LOCATION:Bali Asli Restaurant
CATEGORIES:culinary encounters,the sprits of Bali
ATTACH;FMTTYPE=image/jpeg:https://baliasli.com.au/wp-content/uploads/2025/11/cocktailsss.jpg
END:VEVENT
BEGIN:VEVENT
DTSTART;TZID=UTC:20260512T100000
DTEND;TZID=UTC:20260512T120000
DTSTAMP:20260423T194838
CREATED:20260406T084415Z
LAST-MODIFIED:20260406T084415Z
UID:7636-1778580000-1778587200@baliasli.com.au
SUMMARY:The Spirits of Bali
DESCRIPTION:Encounter the Balinese spirits up close and personal\, In a surprisingly different way.\nLearn how to make some of Bali Asli’s famous cocktails! Bali Asli only uses naturally fermented and locally distilled alcohol on our cocktail menu. Some we make at Bali Asli and some we source from our extended family in the villages near by. \nWe will make three of our most popular cocktails or non-alcoholic drinks if you prefer. Which you can then sip over looking the view. \nJust let the team know if you would like to stay longer and have lunch before you go. \nSTART TIME 10;00am      FINISH TIME 12;00pm \nPRICE; IDR 353\,000 \nTo make your reservation\, please send us a message from our Contact Form
URL:https://baliasli.com.au/event/the-spirits-of-bali-26/
LOCATION:Bali Asli Restaurant
CATEGORIES:culinary encounters,the sprits of Bali
ATTACH;FMTTYPE=image/jpeg:https://baliasli.com.au/wp-content/uploads/2025/11/cocktailsss.jpg
END:VEVENT
BEGIN:VEVENT
DTSTART;TZID=UTC:20260519T100000
DTEND;TZID=UTC:20260519T120000
DTSTAMP:20260423T194838
CREATED:20260406T084536Z
LAST-MODIFIED:20260406T084536Z
UID:7638-1779184800-1779192000@baliasli.com.au
SUMMARY:The Spirits of Bali
DESCRIPTION:Encounter the Balinese spirits up close and personal\, In a surprisingly different way.\nLearn how to make some of Bali Asli’s famous cocktails! Bali Asli only uses naturally fermented and locally distilled alcohol on our cocktail menu. Some we make at Bali Asli and some we source from our extended family in the villages near by. \nWe will make three of our most popular cocktails or non-alcoholic drinks if you prefer. Which you can then sip over looking the view. \nJust let the team know if you would like to stay longer and have lunch before you go. \nSTART TIME 10;00am      FINISH TIME 12;00pm \nPRICE; IDR 353\,000 \nTo make your reservation\, please send us a message from our Contact Form
URL:https://baliasli.com.au/event/the-spirits-of-bali-27/
LOCATION:Bali Asli Restaurant
CATEGORIES:culinary encounters,the sprits of Bali
ATTACH;FMTTYPE=image/jpeg:https://baliasli.com.au/wp-content/uploads/2025/11/cocktailsss.jpg
END:VEVENT
BEGIN:VEVENT
DTSTART;TZID=UTC:20260528T100000
DTEND;TZID=UTC:20260528T120000
DTSTAMP:20260423T194838
CREATED:20260406T084639Z
LAST-MODIFIED:20260406T084639Z
UID:7640-1779962400-1779969600@baliasli.com.au
SUMMARY:The Spirits of Bali
DESCRIPTION:Encounter the Balinese spirits up close and personal\, In a surprisingly different way.\nLearn how to make some of Bali Asli’s famous cocktails! Bali Asli only uses naturally fermented and locally distilled alcohol on our cocktail menu. Some we make at Bali Asli and some we source from our extended family in the villages near by. \nWe will make three of our most popular cocktails or non-alcoholic drinks if you prefer. Which you can then sip over looking the view. \nJust let the team know if you would like to stay longer and have lunch before you go. \nSTART TIME 10;00am      FINISH TIME 12;00pm \nPRICE; IDR 353\,000 \nTo make your reservation\, please send us a message from our Contact Form
URL:https://baliasli.com.au/event/the-spirits-of-bali-28/
LOCATION:Bali Asli Restaurant
CATEGORIES:culinary encounters,the sprits of Bali
ATTACH;FMTTYPE=image/jpeg:https://baliasli.com.au/wp-content/uploads/2025/11/cocktailsss.jpg
END:VEVENT
END:VCALENDAR