BEGIN:VCALENDAR
VERSION:2.0
PRODID:-//Bali Asli Restaurant and Cooking School - ECPv6.15.20//NONSGML v1.0//EN
CALSCALE:GREGORIAN
METHOD:PUBLISH
X-ORIGINAL-URL:https://baliasli.com.au
X-WR-CALDESC:Events for Bali Asli Restaurant and Cooking School
REFRESH-INTERVAL;VALUE=DURATION:PT1H
X-Robots-Tag:noindex
X-PUBLISHED-TTL:PT1H
BEGIN:VTIMEZONE
TZID:UTC
BEGIN:STANDARD
TZOFFSETFROM:+0000
TZOFFSETTO:+0000
TZNAME:UTC
DTSTART:20250101T000000
END:STANDARD
END:VTIMEZONE
BEGIN:VEVENT
DTSTART;VALUE=DATE:20260304
DTEND;VALUE=DATE:20260305
DTSTAMP:20260422T174458
CREATED:20260214T124632Z
LAST-MODIFIED:20260214T124632Z
UID:7435-1772582400-1772668799@baliasli.com.au
SUMMARY:Street Food Tours of Amlapura Markets
DESCRIPTION:Eat with the locals when you sample the delicacies from the street stalls and markets in Amlapura town. A food enthusiast’s dream!\nStart your adventure at Bali Asli before heading out for a feast\, with a home-made cider and local snacks on our balcony with Mount Agung in full view. Then adventure down to visit the street vendors in the lively culinary scene of Amlapura\, that is both diverse and confrontingly fascinating. Our adventure is carefully planned to give you an authentic taste of Eastern Balinese local fare\, in a safe environment\, but still eating and drinking directly from the street stalls. \nSTART TIME 9.00am     FINISH TIME 12.00pm    OR     START TIME 4.00pm   FINISH TIME 7.00pm \nPRICE; IDR 470\,000 \nTo make your reservation or for more information please send us a message on our Contact Form
URL:https://baliasli.com.au/event/street-food-tours-of-amlapura-markets-6/
LOCATION:Bali Asli Restaurant
CATEGORIES:culinary encounters,culinary tour,street food tour
ATTACH;FMTTYPE=image/jpeg:https://baliasli.com.au/wp-content/uploads/2025/11/adventures-bg.jpg
END:VEVENT
BEGIN:VEVENT
DTSTART;TZID=UTC:20260304T100000
DTEND;TZID=UTC:20260304T120000
DTSTAMP:20260422T174458
CREATED:20260214T125221Z
LAST-MODIFIED:20260214T125221Z
UID:7443-1772618400-1772625600@baliasli.com.au
SUMMARY:Jamu and other Magical Potions
DESCRIPTION:This Culinary encounter will ignite your passion for natural medicines.\nWe will introduce you to many of the plants and spices that the Balinese forage for to make their traditional potions. As you discover their medicinal as well as magical qualities of these ingredients\, Together we will make a selection of “Jamu” or medicinal potions to sample. Then\, enjoy the magnificent view with some home-fermented fruit ciders\, juices and beers. And perhaps stay for lunch. \nSTART TIME 10;00am.         FINISH TIME 12;00pm \nPRICE; IDR 353\,000 \nTo make your reservation or for more information\, please message us on our; Contact Form
URL:https://baliasli.com.au/event/jamu-and-other-magical-potions-18/
LOCATION:Bali Asli Restaurant
CATEGORIES:culinary encounters,jamu and magical potions
ATTACH;FMTTYPE=image/jpeg:https://baliasli.com.au/wp-content/uploads/2025/11/jamuu.jpg
END:VEVENT
END:VCALENDAR