BEGIN:VCALENDAR
VERSION:2.0
PRODID:-//Bali Asli Restaurant and Cooking School - ECPv6.15.20//NONSGML v1.0//EN
CALSCALE:GREGORIAN
METHOD:PUBLISH
X-WR-CALNAME:Bali Asli Restaurant and Cooking School
X-ORIGINAL-URL:https://baliasli.com.au
X-WR-CALDESC:Events for Bali Asli Restaurant and Cooking School
REFRESH-INTERVAL;VALUE=DURATION:PT1H
X-Robots-Tag:noindex
X-PUBLISHED-TTL:PT1H
BEGIN:VTIMEZONE
TZID:UTC
BEGIN:STANDARD
TZOFFSETFROM:+0000
TZOFFSETTO:+0000
TZNAME:UTC
DTSTART:20240101T000000
END:STANDARD
END:VTIMEZONE
BEGIN:VEVENT
DTSTART;TZID=UTC:20260125T040000
DTEND;TZID=UTC:20260125T150000
DTSTAMP:20260422T174635
CREATED:20260118T072519Z
LAST-MODIFIED:20260118T072519Z
UID:7239-1769313600-1769353200@baliasli.com.au
SUMMARY:A Mountain-top Sunrise in a Topless Jeep
DESCRIPTION:An early bird catches the sun!\nYes a super early start to the day at 4.00am\, but so worth it. We will pick you up from your hotel in East Bali with our convertible four wheel drive. Hold onto your hats it climbs the steep road to the lookout on the East wing of Lempuyang mountain. Your guide will prepare your breakfast as you catch your breath watching the magnificent view\, one side out to the sparkling sun-kissed sea\, with Renjani Volcano on Lombok silhouetted by the rising sun\, as well as Agung Volcano on the other side! It doesn’t get better than that! \nAfter sun rise\, jump back in the car and head to Amed for a dip under the crystal clear waters for some snorkelling.  The day will finish at Bali Asli with a Traditional Balinese Megibung feast. \nTo make a reservation please email us directly on our Contact Form \nSTART TIME 4;00am.         FINISH TIME 3;00pm \nPRICE; IDR 1\,100\,000
URL:https://baliasli.com.au/event/a-mountain-top-sunrise-in-a-topless-jeep-6/
LOCATION:Bali Asli Restaurant
CATEGORIES:culinary adventure,sunrise jeep tour
ATTACH;FMTTYPE=image/jpeg:https://baliasli.com.au/wp-content/uploads/2025/11/jeep.jpg
END:VEVENT
BEGIN:VEVENT
DTSTART;TZID=UTC:20260120T040000
DTEND;TZID=UTC:20260120T150000
DTSTAMP:20260422T174635
CREATED:20260118T072333Z
LAST-MODIFIED:20260118T072333Z
UID:7237-1768881600-1768921200@baliasli.com.au
SUMMARY:A Mountain-top Sunrise in a Topless Jeep
DESCRIPTION:An early bird catches the sun!\nYes a super early start to the day at 4.00am\, but so worth it. We will pick you up from your hotel in East Bali with our convertible four wheel drive. Hold onto your hats it climbs the steep road to the lookout on the East wing of Lempuyang mountain. Your guide will prepare your breakfast as you catch your breath watching the magnificent view\, one side out to the sparkling sun-kissed sea\, with Renjani Volcano on Lombok silhouetted by the rising sun\, as well as Agung Volcano on the other side! It doesn’t get better than that! \nAfter sun rise\, jump back in the car and head to Amed for a dip under the crystal clear waters for some snorkelling.  The day will finish at Bali Asli with a Traditional Balinese Megibung feast. \nTo make a reservation please email us directly on our Contact Form \nSTART TIME 4;00am.         FINISH TIME 3;00pm \nPRICE; IDR 1\,100\,000
URL:https://baliasli.com.au/event/a-mountain-top-sunrise-in-a-topless-jeep-5/
LOCATION:Bali Asli Restaurant
CATEGORIES:culinary adventure,sunrise jeep tour
ATTACH;FMTTYPE=image/jpeg:https://baliasli.com.au/wp-content/uploads/2025/11/jeep.jpg
END:VEVENT
BEGIN:VEVENT
DTSTART;TZID=UTC:20251227T040000
DTEND;TZID=UTC:20251227T150000
DTSTAMP:20260422T174635
CREATED:20251126T041000Z
LAST-MODIFIED:20251126T041000Z
UID:7116-1766808000-1766847600@baliasli.com.au
SUMMARY:A mountain Top Sunrise in a Topless Jeep
DESCRIPTION:An early bird catches the sun!\nYes a super early start to the day at 4.00am\, but so worth it. We will pick you up from your hotel in East Bali with our convertible four wheel drive. Hold onto your hats it climbs the steep road to the lookout on the East wing of Lempuyang mountain. Your guide will prepare your breakfast as you catch your breath watching the magnificent view\, one side out to the sparkling sun-kissed sea\, with Renjani Volcano on Lombok silhouetted by the rising sun\, as well as Agung Volcano on the other side! It doesn’t get better than that! \nAfter sun rise\, jump back in the car and head to Amed for a dip under the crystal clear waters for some snorkelling.  The day will finish at Bali Asli with a Traditional Balinese Megibung feast. \nTo make a reservation please email us directly on our Contact Form \nSTART TIME 4;00am.         FINISH TIME 3;00pm \nPRICE; IDR 1\,100\,000
URL:https://baliasli.com.au/event/a-mountain-top-sunrise-in-a-topless-jeep-4/
LOCATION:Bali Asli Restaurant
CATEGORIES:culinary adventure,sunrise jeep tour
ATTACH;FMTTYPE=image/jpeg:https://baliasli.com.au/wp-content/uploads/2025/11/jeep.jpg
END:VEVENT
BEGIN:VEVENT
DTSTART;TZID=UTC:20251126T040000
DTEND;TZID=UTC:20251126T150000
DTSTAMP:20260422T174635
CREATED:20251029T061945Z
LAST-MODIFIED:20251029T061945Z
UID:6418-1764129600-1764169200@baliasli.com.au
SUMMARY:Culinary Adventure "A Mountain Top Sunrise in a Topless Jeep"
DESCRIPTION:An early bird catches the sun!\nYes a super early start to the day at 4.00am\, but so worth it. We will pick you up from your hotel in East Bali with our convertible four wheel drive. Hold onto your hats it climbs the steep road to the lookout on the East wing of Lempuyang mountain. Your guide will prepare your breakfast as you catch your breath watching the magnificent view\, one side out to the sparkling sun-kissed sea\, with Renjani Volcano on Lombok silhouetted by the rising sun\, as well as Agung Volcano on the other side! It doesn’t get better than that! \nAfter sun rise\, jump back in the car and head to Amed for a dip under the crystal clear waters for some snorkelling.  The day will finish at Bali Asli with a Traditional Balinese Megibung feast. \nTo make a reservation please email us directly on our Contact Form \nSTART TIME 4;00am.         FINISH TIME 3;00pm \nPRICE; IDR 1\,100\,000
URL:https://baliasli.com.au/event/culinary-adventure-a-mountain-top-sunrise-in-a-topless-jeep-3/
LOCATION:Bali Asli Restaurant
CATEGORIES:culinary adventure,sunrise jeep tour
ATTACH;FMTTYPE=image/jpeg:https://baliasli.com.au/wp-content/uploads/2024/10/IMG_5863-scaled.jpeg
END:VEVENT
BEGIN:VEVENT
DTSTART;TZID=UTC:20251121T040000
DTEND;TZID=UTC:20251121T150000
DTSTAMP:20260422T174635
CREATED:20251029T061830Z
LAST-MODIFIED:20251029T061830Z
UID:6416-1763697600-1763737200@baliasli.com.au
SUMMARY:Culinary Adventure "A Mountain Top Sunrise in a Topless Jeep"
DESCRIPTION:An early bird catches the sun!\nYes a super early start to the day at 4.00am\, but so worth it. We will pick you up from your hotel in East Bali with our convertible four wheel drive. Hold onto your hats it climbs the steep road to the lookout on the East wing of Lempuyang mountain. Your guide will prepare your breakfast as you catch your breath watching the magnificent view\, one side out to the sparkling sun-kissed sea\, with Renjani Volcano on Lombok silhouetted by the rising sun\, as well as Agung Volcano on the other side! It doesn’t get better than that! \nAfter sun rise\, jump back in the car and head to Amed for a dip under the crystal clear waters for some snorkelling.  The day will finish at Bali Asli with a Traditional Balinese Megibung feast. \nTo make a reservation please email us directly on our Contact Form \nSTART TIME 4;00am.         FINISH TIME 3;00pm \nPRICE; IDR 1\,100\,000
URL:https://baliasli.com.au/event/culinary-adventure-a-mountain-top-sunrise-in-a-topless-jeep-2/
LOCATION:Bali Asli Restaurant
CATEGORIES:culinary adventure,sunrise jeep tour
ATTACH;FMTTYPE=image/jpeg:https://baliasli.com.au/wp-content/uploads/2024/10/IMG_5863-scaled.jpeg
END:VEVENT
BEGIN:VEVENT
DTSTART;TZID=UTC:20251113T040000
DTEND;TZID=UTC:20251113T150000
DTSTAMP:20260422T174636
CREATED:20251029T062114Z
LAST-MODIFIED:20251029T062114Z
UID:6420-1763006400-1763046000@baliasli.com.au
SUMMARY:Culinary Adventure "A Mountain Top Sunrise in a Topless Jeep"
DESCRIPTION:An early bird catches the sun!\nYes a super early start to the day at 4.00am\, but so worth it. We will pick you up from your hotel in East Bali with our convertible four wheel drive. Hold onto your hats it climbs the steep road to the lookout on the East wing of Lempuyang mountain. Your guide will prepare your breakfast as you catch your breath watching the magnificent view\, one side out to the sparkling sun-kissed sea\, with Renjani Volcano on Lombok silhouetted by the rising sun\, as well as Agung Volcano on the other side! It doesn’t get better than that! \nAfter sun rise\, jump back in the car and head to Amed for a dip under the crystal clear waters for some snorkelling.  The day will finish at Bali Asli with a Traditional Balinese Megibung feast. \nTo make a reservation please email us directly on our Contact Form \nSTART TIME 4;00am.         FINISH TIME 3;00pm \nPRICE; IDR 1\,100\,000
URL:https://baliasli.com.au/event/culinary-adventure-a-mountain-top-sunrise-in-a-topless-jeep-4/
LOCATION:Bali Asli Restaurant
CATEGORIES:culinary adventure,sunrise jeep tour
ATTACH;FMTTYPE=image/jpeg:https://baliasli.com.au/wp-content/uploads/2024/10/IMG_5863-scaled.jpeg
END:VEVENT
BEGIN:VEVENT
DTSTART;TZID=UTC:20251107T040000
DTEND;TZID=UTC:20251107T150000
DTSTAMP:20260422T174636
CREATED:20251029T061657Z
LAST-MODIFIED:20251029T061657Z
UID:6414-1762488000-1762527600@baliasli.com.au
SUMMARY:Culinary Adventure "A Mountain Top Sunrise in a Topless Jeep"
DESCRIPTION:An early bird catches the sun!\nYes a super early start to the day at 4.00am\, but so worth it. We will pick you up from your hotel in East Bali with our convertible four wheel drive. Hold onto your hats it climbs the steep road to the lookout on the East wing of Lempuyang mountain. Your guide will prepare your breakfast as you catch your breath watching the magnificent view\, one side out to the sparkling sun-kissed sea\, with Renjani Volcano on Lombok silhouetted by the rising sun\, as well as Agung Volcano on the other side! It doesn’t get better than that! \nAfter sun rise\, jump back in the car and head to Amed for a dip under the crystal clear waters for some snorkelling.  The day will finish at Bali Asli with a Traditional Balinese Megibung feast. \nTo make a reservation please email us directly on our Contact Form \nSTART TIME 4;00am.         FINISH TIME 3;00pm \nPRICE; IDR 1\,100\,000
URL:https://baliasli.com.au/event/culinary-adventure-a-mountain-top-sunrise-in-a-topless-jeep/
LOCATION:Bali Asli Restaurant
CATEGORIES:culinary adventure,sunrise jeep tour
ATTACH;FMTTYPE=image/jpeg:https://baliasli.com.au/wp-content/uploads/2024/10/IMG_5863-scaled.jpeg
END:VEVENT
BEGIN:VEVENT
DTSTART;TZID=UTC:20251027T040000
DTEND;TZID=UTC:20251027T150000
DTSTAMP:20260422T174636
CREATED:20250925T101808Z
LAST-MODIFIED:20250925T101808Z
UID:6310-1761537600-1761577200@baliasli.com.au
SUMMARY:Culinary Adventure "Mountain top Sunrise in a Topless Jeep"
DESCRIPTION:An early bird catches the sun!\nYes a super early start to the day at 4.00am\, but so worth it. We will pick you up from your hotel in East Bali with our convertible four wheel drive. Hold onto your hats it climbs the steep road to the lookout on the East wing of Lempuyang mountain. Your guide will prepare your breakfast as you catch your breath watching the magnificent view\, one side out to the sparkling sun-kissed sea\, with Renjani Volcano on Lombok silhouetted by the rising sun\, as well as Agung Volcano on the other side! It doesn’t get better than that! \nAfter sun rise\, jump back in the car and head to Amed for a dip under the crystal clear waters for some snorkelling.  The day will finish at Bali Asli with a Traditional Balinese Megibung feast. \nTo make a reservation please email us directly on our Contact Form \nSTART TIME 4;00am.         FINISH TIME 3;00pm \nPRICE; IDR 1\,100\,000
URL:https://baliasli.com.au/event/culinary-adventure-mountain-top-sunrise-in-a-topless-jeep-18/
LOCATION:Bali Asli Restaurant
CATEGORIES:culinary adventure,sunrise jeep tour
ATTACH;FMTTYPE=image/jpeg:https://baliasli.com.au/wp-content/uploads/2024/10/IMG_5863-scaled.jpeg
END:VEVENT
BEGIN:VEVENT
DTSTART;TZID=UTC:20251017T040000
DTEND;TZID=UTC:20251017T150000
DTSTAMP:20260422T174636
CREATED:20250925T101647Z
LAST-MODIFIED:20250925T101647Z
UID:6308-1760673600-1760713200@baliasli.com.au
SUMMARY:Culinary Adventure "Mountain top Sunrise in a Topless Jeep"
DESCRIPTION:An early bird catches the sun!\nYes a super early start to the day at 4.00am\, but so worth it. We will pick you up from your hotel in East Bali with our convertible four wheel drive. Hold onto your hats it climbs the steep road to the lookout on the East wing of Lempuyang mountain. Your guide will prepare your breakfast as you catch your breath watching the magnificent view\, one side out to the sparkling sun-kissed sea\, with Renjani Volcano on Lombok silhouetted by the rising sun\, as well as Agung Volcano on the other side! It doesn’t get better than that! \nAfter sun rise\, jump back in the car and head to Amed for a dip under the crystal clear waters for some snorkelling.  The day will finish at Bali Asli with a Traditional Balinese Megibung feast. \nTo make a reservation please email us directly on our Contact Form \nSTART TIME 4;00am.         FINISH TIME 3;00pm \nPRICE; IDR 1\,100\,000
URL:https://baliasli.com.au/event/culinary-adventure-mountain-top-sunrise-in-a-topless-jeep-17/
LOCATION:Bali Asli Restaurant
CATEGORIES:culinary adventure,sunrise jeep tour
ATTACH;FMTTYPE=image/jpeg:https://baliasli.com.au/wp-content/uploads/2024/10/IMG_5863-scaled.jpeg
END:VEVENT
BEGIN:VEVENT
DTSTART;TZID=UTC:20251009T040000
DTEND;TZID=UTC:20251009T150000
DTSTAMP:20260422T174636
CREATED:20250925T101520Z
LAST-MODIFIED:20250925T101520Z
UID:6306-1759982400-1760022000@baliasli.com.au
SUMMARY:Culinary Adventure "Mountain top Sunrise in a Topless Jeep"
DESCRIPTION:An early bird catches the sun!\nYes a super early start to the day at 4.00am\, but so worth it. We will pick you up from your hotel in East Bali with our convertible four wheel drive. Hold onto your hats it climbs the steep road to the lookout on the East wing of Lempuyang mountain. Your guide will prepare your breakfast as you catch your breath watching the magnificent view\, one side out to the sparkling sun-kissed sea\, with Renjani Volcano on Lombok silhouetted by the rising sun\, as well as Agung Volcano on the other side! It doesn’t get better than that! \nAfter sun rise\, jump back in the car and head to Amed for a dip under the crystal clear waters for some snorkelling.  The day will finish at Bali Asli with a Traditional Balinese Megibung feast. \nTo make a reservation please email us directly on our Contact Form \nSTART TIME 4;00am.         FINISH TIME 3;00pm \nPRICE; IDR 1\,100\,000
URL:https://baliasli.com.au/event/culinary-adventure-mountain-top-sunrise-in-a-topless-jeep-16/
LOCATION:Bali Asli Restaurant
CATEGORIES:culinary adventure,sunrise jeep tour
ATTACH;FMTTYPE=image/jpeg:https://baliasli.com.au/wp-content/uploads/2024/10/IMG_5863-scaled.jpeg
END:VEVENT
BEGIN:VEVENT
DTSTART;TZID=UTC:20251005T040000
DTEND;TZID=UTC:20251005T150000
DTSTAMP:20260422T174636
CREATED:20250925T101348Z
LAST-MODIFIED:20250925T101348Z
UID:6304-1759636800-1759676400@baliasli.com.au
SUMMARY:Culinary Adventure "Mountain Sunrise in a Topless Jeep"
DESCRIPTION:An early bird catches the sun!\nYes a super early start to the day at 4.00am\, but so worth it. We will pick you up from your hotel in East Bali with our convertible four wheel drive. Hold onto your hats it climbs the steep road to the lookout on the East wing of Lempuyang mountain. Your guide will prepare your breakfast as you catch your breath watching the magnificent view\, one side out to the sparkling sun-kissed sea\, with Renjani Volcano on Lombok silhouetted by the rising sun\, as well as Agung Volcano on the other side! It doesn’t get better than that! \nAfter sun rise\, jump back in the car and head to Amed for a dip under the crystal clear waters for some snorkelling.  The day will finish at Bali Asli with a Traditional Balinese Megibung feast. \nTo make a reservation please email us directly on our Contact Form \nSTART TIME 4;00am.         FINISH TIME 3;00pm \nPRICE; IDR 1\,100\,000
URL:https://baliasli.com.au/event/culinary-adventure-mountain-sunrise-in-a-topless-jeep/
LOCATION:Bali Asli Restaurant
CATEGORIES:culinary adventure,sunrise jeep tour
ATTACH;FMTTYPE=image/jpeg:https://baliasli.com.au/wp-content/uploads/2024/10/IMG_5863-scaled.jpeg
END:VEVENT
BEGIN:VEVENT
DTSTART;TZID=UTC:20250930T040000
DTEND;TZID=UTC:20250930T150000
DTSTAMP:20260422T174636
CREATED:20250824T091151Z
LAST-MODIFIED:20250824T091151Z
UID:6217-1759204800-1759244400@baliasli.com.au
SUMMARY:Mountain top Sunrise in a Topless Jeep
DESCRIPTION:An early bird catches the sun!\nYes a super early start to the day at 4.00am\, but so worth it. We will pick you up from your hotel in East Bali with our convertible four wheel drive. Hold onto your hats it climbs the steep road to the lookout on the East wing of Lempuyang mountain. Your guide will prepare your breakfast as you catch your breath watching the magnificent view\, one side out to the sparkling sun-kissed sea\, with Renjani Volcano on Lombok silhouetted by the rising sun\, as well as Agung Volcano on the other side! It doesn’t get better than that! \nAfter sun rise\, jump back in the car and head to Amed for a dip under the crystal clear waters for some snorkelling.  The day will finish at Bali Asli with a Traditional Balinese Megibung feast. \nTo make a reservation please email us directly on our Contact Form \nSTART TIME 4;00am.         FINISH TIME 3;00pm \nPRICE; IDR 1\,100\,000
URL:https://baliasli.com.au/event/mountain-top-sunrise-in-a-topless-jeep-13/
LOCATION:Bali Asli Restaurant
CATEGORIES:culinary adventure,sunrise jeep tour
ATTACH;FMTTYPE=image/jpeg:https://baliasli.com.au/wp-content/uploads/2024/10/IMG_5863-scaled.jpeg
END:VEVENT
BEGIN:VEVENT
DTSTART;TZID=UTC:20250924T040000
DTEND;TZID=UTC:20250924T150000
DTSTAMP:20260422T174636
CREATED:20250824T091037Z
LAST-MODIFIED:20250824T091049Z
UID:6214-1758686400-1758726000@baliasli.com.au
SUMMARY:Mountain top Sunrise in a Topless Jeep
DESCRIPTION:An early bird catches the sun!\nYes a super early start to the day at 4.00am\, but so worth it. We will pick you up from your hotel in East Bali with our convertible four wheel drive. Hold onto your hats it climbs the steep road to the lookout on the East wing of Lempuyang mountain. Your guide will prepare your breakfast as you catch your breath watching the magnificent view\, one side out to the sparkling sun-kissed sea\, with Renjani Volcano on Lombok silhouetted by the rising sun\, as well as Agung Volcano on the other side! It doesn’t get better than that! \nAfter sun rise\, jump back in the car and head to Amed for a dip under the crystal clear waters for some snorkelling.  The day will finish at Bali Asli with a Traditional Balinese Megibung feast. \nTo make a reservation please email us directly on our Contact Form \nSTART TIME 4;00am.         FINISH TIME 3;00pm \nPRICE; IDR 1\,100\,000
URL:https://baliasli.com.au/event/mountain-top-sunrise-in-a-topless-jeep-12/
LOCATION:Bali Asli Restaurant
CATEGORIES:culinary adventure,sunrise jeep tour
ATTACH;FMTTYPE=image/jpeg:https://baliasli.com.au/wp-content/uploads/2024/10/IMG_5863-scaled.jpeg
END:VEVENT
BEGIN:VEVENT
DTSTART;TZID=UTC:20250917T040000
DTEND;TZID=UTC:20250917T150000
DTSTAMP:20260422T174636
CREATED:20250824T090857Z
LAST-MODIFIED:20250824T090857Z
UID:6212-1758081600-1758121200@baliasli.com.au
SUMMARY:Mountain top Sunrise in a Topless Jeep
DESCRIPTION:An early bird catches the sun!\nYes a super early start to the day at 4.00am\, but so worth it. We will pick you up from your hotel in East Bali with our convertible four wheel drive. Hold onto your hats it climbs the steep road to the lookout on the East wing of Lempuyang mountain. Your guide will prepare your breakfast as you catch your breath watching the magnificent view\, one side out to the sparkling sun-kissed sea\, with Renjani Volcano on Lombok silhouetted by the rising sun\, as well as Agung Volcano on the other side! It doesn’t get better than that! \nAfter sun rise\, jump back in the car and head to Amed for a dip under the crystal clear waters for some snorkelling.  The day will finish at Bali Asli with a Traditional Balinese Megibung feast. \nTo make a reservation please email us directly on our Contact Form \nSTART TIME 4;00am.         FINISH TIME 3;00pm \nPRICE; IDR 1\,100\,000
URL:https://baliasli.com.au/event/mountain-top-sunrise-in-a-topless-jeep-11/
LOCATION:Bali Asli Restaurant
CATEGORIES:culinary adventure,sunrise jeep tour
ATTACH;FMTTYPE=image/jpeg:https://baliasli.com.au/wp-content/uploads/2024/10/IMG_5863-scaled.jpeg
END:VEVENT
BEGIN:VEVENT
DTSTART;TZID=UTC:20250909T040000
DTEND;TZID=UTC:20250909T150000
DTSTAMP:20260422T174636
CREATED:20250824T090744Z
LAST-MODIFIED:20250824T090744Z
UID:6210-1757390400-1757430000@baliasli.com.au
SUMMARY:Mountain Top Sunrise in a Topless Jeep
DESCRIPTION:An early bird catches the sun!\nYes a super early start to the day at 4.00am\, but so worth it. We will pick you up from your hotel in East Bali with our convertible four wheel drive. Hold onto your hats it climbs the steep road to the lookout on the East wing of Lempuyang mountain. Your guide will prepare your breakfast as you catch your breath watching the magnificent view\, one side out to the sparkling sun-kissed sea\, with Renjani Volcano on Lombok silhouetted by the rising sun\, as well as Agung Volcano on the other side! It doesn’t get better than that! \nAfter sun rise\, jump back in the car and head to Amed for a dip under the crystal clear waters for some snorkelling.  The day will finish at Bali Asli with a Traditional Balinese Megibung feast. \nTo make a reservation please email us directly on our Contact Form \nSTART TIME 4;00am.         FINISH TIME 3;00pm \nPRICE; IDR 1\,100\,000
URL:https://baliasli.com.au/event/mountain-top-sunrise-in-a-topless-jeep-10/
LOCATION:Bali Asli Restaurant
CATEGORIES:culinary adventure,sunrise jeep tour
ATTACH;FMTTYPE=image/jpeg:https://baliasli.com.au/wp-content/uploads/2024/10/IMG_5863-scaled.jpeg
END:VEVENT
BEGIN:VEVENT
DTSTART;TZID=UTC:20250907T040000
DTEND;TZID=UTC:20250907T150000
DTSTAMP:20260422T174636
CREATED:20250824T090622Z
LAST-MODIFIED:20250824T090622Z
UID:6207-1757217600-1757257200@baliasli.com.au
SUMMARY:Mountain Top Sunrise in a Topless Jeep
DESCRIPTION:An early bird catches the sun!\nYes a super early start to the day at 4.00am\, but so worth it. We will pick you up from your hotel in East Bali with our convertible four wheel drive. Hold onto your hats it climbs the steep road to the lookout on the East wing of Lempuyang mountain. Your guide will prepare your breakfast as you catch your breath watching the magnificent view\, one side out to the sparkling sun-kissed sea\, with Renjani Volcano on Lombok silhouetted by the rising sun\, as well as Agung Volcano on the other side! It doesn’t get better than that! \nAfter sun rise\, jump back in the car and head to Amed for a dip under the crystal clear waters for some snorkelling.  The day will finish at Bali Asli with a Traditional Balinese Megibung feast. \nTo make a reservation please email us directly on our Contact Form \nSTART TIME 4;00am.         FINISH TIME 3;00pm \nPRICE; IDR 1\,100\,000
URL:https://baliasli.com.au/event/mountain-top-sunrise-in-a-topless-jeep-9/
LOCATION:Bali Asli Restaurant
CATEGORIES:culinary adventure,culinary tour,sunrise jeep tour,Sunrise topless Jeep tour
ATTACH;FMTTYPE=image/jpeg:https://baliasli.com.au/wp-content/uploads/2024/10/IMG_5863-scaled.jpeg
END:VEVENT
BEGIN:VEVENT
DTSTART;TZID=UTC:20250807T040000
DTEND;TZID=UTC:20250807T153000
DTSTAMP:20260422T174636
CREATED:20250715T013250Z
LAST-MODIFIED:20250715T013250Z
UID:5989-1754539200-1754580600@baliasli.com.au
SUMMARY:Mountain Top Sunrise in a Topless Jeep
DESCRIPTION:An early bird catches the sun!\nYes a super early start to the day at 4.00am\, but so worth it. We will pick you up from your hotel in East Bali with our convertible four wheel drive. Hold onto your hats it climbs the steep road to the lookout on the East wing of Lempuyang mountain. Your guide will prepare your breakfast as you catch your breath watching the magnificent view\, one side out to the sparkling sun-kissed sea\, with Renjani Volcano on Lombok silhouetted by the rising sun\, as well as Agung Volcano on the other side! After sun rise\, jump back in the car and head to Amed for a dip under the crystal clear waters for some snorkelling.  The day will finish at Bali Asli with a Traditional Balinese Megibung feast. \nTo make a reservation please email us directly on our Contact Form \nSTART TIME 4;00am.         FINISH TIME 3;00pm \nPRICE; IDR 1\,100\,000
URL:https://baliasli.com.au/event/mountain-top-sunrise-in-a-topless-jeep-5/
CATEGORIES:culinary adventure,sunrise jeep tour
ATTACH;FMTTYPE=image/jpeg:https://baliasli.com.au/wp-content/uploads/2024/10/IMG_5863-scaled.jpeg
END:VEVENT
BEGIN:VEVENT
DTSTART;TZID=UTC:20250626T040000
DTEND;TZID=UTC:20250626T150000
DTSTAMP:20260422T174636
CREATED:20250614T101343Z
LAST-MODIFIED:20250622T120017Z
UID:5855-1750910400-1750950000@baliasli.com.au
SUMMARY:Culinary Adventure "Mountain top Sunrise in a Topless Jeep"
DESCRIPTION:An early bird catches the sun!\nYes a super early start to the day at 4.00am\, but so worth it. We will pick you up from your hotel in East Bali with our convertible four wheel drive. Hold onto your hats it climbs the steep road to the lookout on the East wing of Lempuyang mountain. Your guide will prepare your breakfast as you catch your breath watching the magnificent view\, one side out to the sparkling sun-kissed sea\, with Renjani Volcano on Lombok silhouetted by the rising sun\, as well as Agung Volcano on the other side! After sun rise\, jump back in the car and head to Amed for a dip under the crystal clear waters for some snorkelling.  The day will finish at Bali Asli with a Traditional Balinese Megibung feast. \nTo make a reservation please email us directly on our Contact Form \nSTART TIME 4;00am.         FINISH TIME 3;00pm \nPRICE; IDR 1\,100\,000
URL:https://baliasli.com.au/event/culinary-adventure-mountain-top-sunrise-in-a-topless-jeep-15/
LOCATION:Bali Asli Restaurant
CATEGORIES:culinary adventure,sunrise jeep tour
ATTACH;FMTTYPE=image/jpeg:https://baliasli.com.au/wp-content/uploads/2024/10/IMG_5863-scaled.jpeg
END:VEVENT
BEGIN:VEVENT
DTSTART;TZID=UTC:20250618T040000
DTEND;TZID=UTC:20250618T150000
DTSTAMP:20260422T174636
CREATED:20250614T101122Z
LAST-MODIFIED:20250614T101122Z
UID:5852-1750219200-1750258800@baliasli.com.au
SUMMARY:Culinary Adventure "Mountain top Sunrise in a Topless Jeep"
DESCRIPTION:An early bird catches the sun!\nYes a super early start to the day at 4.00am\, but so worth it. We will pick you up from your hotel in East Bali with our convertible four wheel drive. Hold onto your hats it climbs the steep road to the lookout on the East wing of Lempuyang mountain. Your guide will prepare your breakfast as you catch your breath watching the magnificent view\, one side out to the sparkling sun-kissed sea\, with Renjani Volcano on Lombok silhouetted by the rising sun\, as well as Agung Volcano on the other side! After sun rise\, jump back in the car and head to Amed for a dip under the crystal clear waters for some snorkelling.  The day will finish at Bali Asli with a Traditional Balinese Megibung feast. \nSTART TIME 4;00am.         FINISH TIME 3;00pm \nPRICE; IDR 1\,100\,000
URL:https://baliasli.com.au/event/culinary-adventure-mountain-top-sunrise-in-a-topless-jeep-14/
LOCATION:Bali Asli Restaurant
CATEGORIES:culinary adventure,sunrise jeep tour
ATTACH;FMTTYPE=image/jpeg:https://baliasli.com.au/wp-content/uploads/2024/10/IMG_5863-scaled.jpeg
END:VEVENT
END:VCALENDAR