BEGIN:VCALENDAR
VERSION:2.0
PRODID:-//Bali Asli Restaurant and Cooking School - ECPv6.15.20//NONSGML v1.0//EN
CALSCALE:GREGORIAN
METHOD:PUBLISH
X-ORIGINAL-URL:https://baliasli.com.au
X-WR-CALDESC:Events for Bali Asli Restaurant and Cooking School
REFRESH-INTERVAL;VALUE=DURATION:PT1H
X-Robots-Tag:noindex
X-PUBLISHED-TTL:PT1H
BEGIN:VTIMEZONE
TZID:UTC
BEGIN:STANDARD
TZOFFSETFROM:+0000
TZOFFSETTO:+0000
TZNAME:UTC
DTSTART:20240101T000000
END:STANDARD
END:VTIMEZONE
BEGIN:VEVENT
DTSTART;TZID=UTC:20250826T080000
DTEND;TZID=UTC:20250826T143000
DTSTAMP:20260424T143917
CREATED:20250715T113507Z
LAST-MODIFIED:20250715T113507Z
UID:6058-1756195200-1756218600@baliasli.com.au
SUMMARY:Culinary Adventure "Biking from the Mountain to the White Sand Beach"
DESCRIPTION:Our Biking guide\, Pak Mudi will drive you up into the small villages in the foot hills of Mount Agung. Where you will mount your mountain bikes and glide (mostly down hill) over a combination of dirt tracks\, bike trails and sealed roads.  You will enjoy breath taking vistas\, as you ride around rice fields\, through snake fruit forests\, small towns all the way to White sand beach\, where you can cool off in the crystal clear ocean. Then enjoy a “Bungkus” Balinese picnic lunch on the beach prepared by the local beach warungs. \nSTART TIME; 8;00am  FINISH TIME; 3;30pm \nPRICE; IDR 893\,000 \nTo make your reservation and for more information please send us a message from our; Contact Form 
URL:https://baliasli.com.au/event/culinary-adventure-biking-from-the-mountain-to-the-white-sand-beach-8/
LOCATION:Bali Asli Restaurant
CATEGORIES:biking from the mountain to the beach,culinary adventure
ATTACH;FMTTYPE=image/jpeg:https://baliasli.com.au/wp-content/uploads/2024/10/nmIMG_5504.jpeg
END:VEVENT
BEGIN:VEVENT
DTSTART;TZID=UTC:20250819T080000
DTEND;TZID=UTC:20250819T153000
DTSTAMP:20260424T143917
CREATED:20250715T113400Z
LAST-MODIFIED:20250715T113400Z
UID:6056-1755590400-1755617400@baliasli.com.au
SUMMARY:Culinary Adventure "Biking from the Mountain to the White Sand Beach"
DESCRIPTION:Our Biking guide\, Pak Mudi will drive you up into the small villages in the foot hills of Mount Agung. Where you will mount your mountain bikes and glide (mostly down hill) over a combination of dirt tracks\, bike trails and sealed roads.  You will enjoy breath taking vistas\, as you ride around rice fields\, through snake fruit forests\, small towns all the way to White sand beach\, where you can cool off in the crystal clear ocean. Then enjoy a “Bungkus” Balinese picnic lunch on the beach prepared by the local beach warungs. \nSTART TIME; 8;00am  FINISH TIME; 3;30pm \nPRICE; IDR 893\,000 \nTo make your reservation and for more information please send us a message from our; Contact Form 
URL:https://baliasli.com.au/event/culinary-adventure-biking-from-the-mountain-to-the-white-sand-beach-7/
LOCATION:Bali Asli Restaurant
CATEGORIES:biking from the mountain to the beach,culinary adventure
ATTACH;FMTTYPE=image/jpeg:https://baliasli.com.au/wp-content/uploads/2024/10/nmIMG_5504.jpeg
END:VEVENT
BEGIN:VEVENT
DTSTART;TZID=UTC:20250811T080000
DTEND;TZID=UTC:20250811T153000
DTSTAMP:20260424T143917
CREATED:20250715T113154Z
LAST-MODIFIED:20250715T113154Z
UID:6054-1754899200-1754926200@baliasli.com.au
SUMMARY:Culinary Adventure "Biking from the Mountain to the White Sand Beach"
DESCRIPTION:Our Biking guide\, Pak Mudi will drive you up into the small villages in the foot hills of Mount Agung. Where you will mount your mountain bikes and glide (mostly down hill) over a combination of dirt tracks\, bike trails and sealed roads.  You will enjoy breath taking vistas\, as you ride around rice fields\, through snake fruit forests\, small towns all the way to White sand beach\, where you can cool off in the crystal clear ocean. Then enjoy a “Bungkus” Balinese picnic lunch on the beach prepared by the local beach warungs. \nSTART TIME; 8;00am  FINISH TIME; 3;30pm \nPRICE; IDR 893\,000 \nTo make your reservation and for more information please send us a message from our; Contact Form 
URL:https://baliasli.com.au/event/culinary-adventure-biking-from-the-mountain-to-the-white-sand-beach-6/
LOCATION:Bali Asli Restaurant
CATEGORIES:biking from the mountain to the beach,culinary adventure
ATTACH;FMTTYPE=image/jpeg:https://baliasli.com.au/wp-content/uploads/2024/10/nmIMG_5504.jpeg
END:VEVENT
BEGIN:VEVENT
DTSTART;TZID=UTC:20250802T080000
DTEND;TZID=UTC:20250802T153000
DTSTAMP:20260424T143917
CREATED:20250715T113037Z
LAST-MODIFIED:20250715T113037Z
UID:6052-1754121600-1754148600@baliasli.com.au
SUMMARY:Culinary Adventure "Biking from the Mountain to the White Sand Beach"
DESCRIPTION:Our Biking guide\, Pak Mudi will drive you up into the small villages in the foot hills of Mount Agung. Where you will mount your mountain bikes and glide (mostly down hill) over a combination of dirt tracks\, bike trails and sealed roads.  You will enjoy breath taking vistas\, as you ride around rice fields\, through snake fruit forests\, small towns all the way to White sand beach\, where you can cool off in the crystal clear ocean. Then enjoy a “Bungkus” Balinese picnic lunch on the beach prepared by the local beach warungs. \nSTART TIME; 8;00am  FINISH TIME; 3;30pm \nPRICE; IDR 893\,000 \nTo make your reservation and for more information please send us a message from our; Contact Form 
URL:https://baliasli.com.au/event/culinary-adventure-biking-from-the-mountain-to-the-white-sand-beach-5/
LOCATION:Bali Asli Restaurant
CATEGORIES:biking from the mountain to the beach,culinary adventure
ATTACH;FMTTYPE=image/jpeg:https://baliasli.com.au/wp-content/uploads/2024/10/nmIMG_5504.jpeg
END:VEVENT
BEGIN:VEVENT
DTSTART;TZID=UTC:20250726T080000
DTEND;TZID=UTC:20250726T153000
DTSTAMP:20260424T143917
CREATED:20250625T122035Z
LAST-MODIFIED:20250715T112557Z
UID:5889-1753516800-1753543800@baliasli.com.au
SUMMARY:Culinary Adventure "Biking from the Mountain to the White Sand Beach"
DESCRIPTION:Our Biking guide\, Pak Mudi will drive you up into the small villages in the foot hills of Mount Agung. Where you will mount your mountain bikes and glide (mostly down hill) over a combination of dirt tracks\, bike trails and sealed roads.  You will enjoy breath taking vistas\, as you ride around rice fields\, through snake fruit forests\, small towns all the way to White sand beach\, where you can cool off in the crystal clear ocean. Then enjoy a “Bungkus” Balinese picnic lunch on the beach prepared by the local beach warungs. \nSTART TIME; 8;00am  FINISH TIME; 3;30pm \nPRICE; IDR 893\,000 \nTo make your reservation and for more information please send us a message from our; Contact Form 
URL:https://baliasli.com.au/event/culinary-adventure-biking-from-the-mountain-to-the-white-sand-beach-4/
LOCATION:Bali Asli Restaurant
CATEGORIES:biking from the mountain to the beach,culinary adventure
ATTACH;FMTTYPE=image/jpeg:https://baliasli.com.au/wp-content/uploads/2024/10/nmIMG_5504.jpeg
END:VEVENT
BEGIN:VEVENT
DTSTART;TZID=UTC:20250723T080000
DTEND;TZID=UTC:20250723T153000
DTSTAMP:20260424T143917
CREATED:20250625T121924Z
LAST-MODIFIED:20250625T121924Z
UID:5887-1753257600-1753284600@baliasli.com.au
SUMMARY:Culinary Adventure "Biking from the Mountain to the White Sand Beach"
DESCRIPTION:Our Biking guide\, Pak Mudi will drive you up into the small villages in the foot hills of Mount Agung. Where you will mount your mountain bikes and glide (mostly down hill) over a combination of dirt tracks\, bike trails and sealed roads.  You will enjoy breath taking vistas\, as you ride around rice fields\, through snake fruit forests\, small towns all the way to White sand beach\, where you can cool off in the crystal clear ocean. Then enjoy a “Bungkus” Balinese picnic lunch on the beach prepared by the local beach warungs. \nSTART TIME; 8;00am  FINISH TIME; 3;30pm \nPRICE; IDR 893\,000 \nTo make your reservation please send us a message; Contact Form 
URL:https://baliasli.com.au/event/culinary-adventure-biking-from-the-mountain-to-the-white-sand-beach-3/
LOCATION:Bali Asli Restaurant
CATEGORIES:biking from the mountain to the beach,cooking class
ATTACH;FMTTYPE=image/jpeg:https://baliasli.com.au/wp-content/uploads/2024/10/nmIMG_5504.jpeg
END:VEVENT
BEGIN:VEVENT
DTSTART;TZID=UTC:20250709T080000
DTEND;TZID=UTC:20250709T153000
DTSTAMP:20260424T143917
CREATED:20250625T121746Z
LAST-MODIFIED:20250625T121746Z
UID:5885-1752048000-1752075000@baliasli.com.au
SUMMARY:Culinary Adventure "Biking from the Mountain to White Sand Beach"
DESCRIPTION:Our Biking guide\, Pak Mudi will drive you up into the small villages in the foot hills of Mount Agung. Where you will mount your mountain bikes and glide (mostly down hill) over a combination of dirt tracks\, bike trails and sealed roads.  You will enjoy breath taking vistas\, as you ride around rice fields\, through snake fruit forests\, small towns all the way to White sand beach\, where you can cool off in the crystal clear ocean. Then enjoy a “Bungkus” Balinese picnic lunch on the beach prepared by the local beach warungs. \nSTART TIME; 8;00am  FINISH TIME; 3;30pm \nPRICE; IDR 893\,000 \nTo make your reservation please send us a message; Contact Form 
URL:https://baliasli.com.au/event/culinary-adventure-biking-from-the-mountain-to-white-sand-beach/
LOCATION:Bali Asli Restaurant
CATEGORIES:biking from the mountain to the beach,culinary adventure
ATTACH;FMTTYPE=image/jpeg:https://baliasli.com.au/wp-content/uploads/2024/10/nmIMG_5504.jpeg
END:VEVENT
BEGIN:VEVENT
DTSTART;TZID=UTC:20250701T080000
DTEND;TZID=UTC:20250701T153000
DTSTAMP:20260424T143917
CREATED:20250625T121339Z
LAST-MODIFIED:20250625T121339Z
UID:5883-1751356800-1751383800@baliasli.com.au
SUMMARY:Culinary adventure "Biking from the Mountain to the White Sand Beach"
DESCRIPTION:Our Biking guide\, Pak Mudi will drive you up into the small villages in the foot hills of Mount Agung. Where you will mount your mountain bikes and glide (mostly down hill) over a combination of dirt tracks\, bike trails and sealed roads.  You will enjoy breath taking vistas\, as you ride around rice fields\, through snake fruit forests\, small towns all the way to White sand beach\, where you can cool off in the crystal clear ocean. Then enjoy a “Bungkus” Balinese picnic lunch on the beach prepared by the local beach warungs. \nSTART TIME; 8;00am  FINISH TIME; 3;30pm \nPRICE; IDR 893\,000 \nTo make your reservation please send us a message; Contact Form 
URL:https://baliasli.com.au/event/culinary-adventure-biking-from-the-mountain-to-the-white-sand-beach-2/
LOCATION:Bali Asli Restaurant
CATEGORIES:biking from the mountain to the beach,culinary adventure
ATTACH;FMTTYPE=image/jpeg:https://baliasli.com.au/wp-content/uploads/2024/10/nmIMG_5504.jpeg
END:VEVENT
BEGIN:VEVENT
DTSTART;TZID=UTC:20250630T080000
DTEND;TZID=UTC:20250630T150000
DTSTAMP:20260424T143917
CREATED:20250614T081834Z
LAST-MODIFIED:20250614T081834Z
UID:5843-1751270400-1751295600@baliasli.com.au
SUMMARY:Culinary Adventure "Biking from the mountain to the White sand beach"
DESCRIPTION:Our Biking guide\, Pak Mudi will drive you up into the small villages in the foot hills of Mount Agung. Where you will mount your mountain bikes and glide (mostly down hill) over a combination of dirt tracks\, bike trails and sealed roads.  You will enjoy breath taking vistas\, as you ride around rice fields\, through snake fruit forests\, small towns all the way to White sand beach\, where you can cool off in the crystal clear ocean. Then enjoy a “Bungkus” Balinese picnic lunch on the beach prepared by the local beach warungs. \nSTART TIME; 8;00am  FINISH TIME; 3;30pm \nPRICE; IDR 893\,000
URL:https://baliasli.com.au/event/culinary-adventure-biking-from-the-mountain-to-the-white-sand-beach/
LOCATION:Bali Asli Restaurant
CATEGORIES:biking from the mountain to the beach,culinary adventure
ATTACH;FMTTYPE=image/jpeg:https://baliasli.com.au/wp-content/uploads/2024/10/nmIMG_5504.jpeg
END:VEVENT
BEGIN:VEVENT
DTSTART;TZID=UTC:20250624T080000
DTEND;TZID=UTC:20250624T143000
DTSTAMP:20260424T143917
CREATED:20250614T081524Z
LAST-MODIFIED:20250614T081524Z
UID:5840-1750752000-1750775400@baliasli.com.au
SUMMARY:Culinary Adventure "Biking from the mountain to the white beach"
DESCRIPTION:Our Biking guide\, Pak Mudi will drive you up into the small villages in the foot hills of Mount Agung. Where you will mount your mountain bikes and glide (mostly down hill) over a combination of dirt tracks\, bike trails and sealed roads.  You will enjoy breath taking vistas\, as you ride around rice fields\, through snake fruit forests\, small towns all the way to White sand beach\, where you can cool off in the crystal clear ocean. Then enjoy a “Bungkus” Balinese picnic lunch on the beach prepared by the local beach warungs. \nSTART TIME; 8;00am  FINISH TIME; 3;30pm \nPRICE; IDR 893\,000
URL:https://baliasli.com.au/event/culinary-adventure-biking-from-the-mountain-to-the-white-beach/
LOCATION:Bali Asli Restaurant
CATEGORIES:biking from the mountain to the beach
ATTACH;FMTTYPE=image/jpeg:https://baliasli.com.au/wp-content/uploads/2024/10/nmIMG_5504.jpeg
END:VEVENT
BEGIN:VEVENT
DTSTART;TZID=UTC:20250520T080000
DTEND;TZID=UTC:20250520T153000
DTSTAMP:20260424T143917
CREATED:20250426T112839Z
LAST-MODIFIED:20250426T112839Z
UID:5678-1747728000-1747755000@baliasli.com.au
SUMMARY:Culinary Adventure “Biking from the mountain to the white Virgin beach”
DESCRIPTION:Our Biking guide\, Pak Mudi will drive you up into the small villages in the foot hills of Mount Agung. Where you will mount your mountain bikes and glide (mostly down hill) over a combination of dirt tracks\, bike trails and sealed roads.  You will enjoy breath taking vistas\, as you ride around rice fields\, through snake fruit forests\, small towns all the way to White sand beach\, where you can cool off in the crystal clear ocean. Then enjoy a “Bungkus” Balinese picnic lunch on the beach prepared by the local beach warungs.
URL:https://baliasli.com.au/event/culinary-adventure-biking-from-the-mountain-to-the-white-virgin-beach-9/
CATEGORIES:biking from the mountain to the beach,culinary adventure
ATTACH;FMTTYPE=image/jpeg:https://baliasli.com.au/wp-content/uploads/2024/10/nmIMG_5504.jpeg
END:VEVENT
BEGIN:VEVENT
DTSTART;TZID=UTC:20250516T080000
DTEND;TZID=UTC:20250516T153000
DTSTAMP:20260424T143917
CREATED:20250426T112617Z
LAST-MODIFIED:20250426T112617Z
UID:5675-1747382400-1747409400@baliasli.com.au
SUMMARY:Culinary Adventure “Biking from the mountain to the white Virgin beach”
DESCRIPTION:Our Biking guide\, Pak Mudi will drive you up into the small villages in the foot hills of Mount Agung. Where you will mount your mountain bikes and glide (mostly down hill) over a combination of dirt tracks\, bike trails and sealed roads.  You will enjoy breath taking vistas\, as you ride around rice fields\, through snake fruit forests\, small towns all the way to White sand beach\, where you can cool off in the crystal clear ocean. Then enjoy a “Bungkus” Balinese picnic lunch on the beach prepared by the local beach warungs. \nSTART TIME; 8;00am  FINISH TIME; 3;30pm \nPRICE; IDR 893\,000
URL:https://baliasli.com.au/event/culinary-adventure-biking-from-the-mountain-to-the-white-virgin-beach-8/
CATEGORIES:biking from the mountain to the beach,culinary adventure
ATTACH;FMTTYPE=image/jpeg:https://baliasli.com.au/wp-content/uploads/2024/10/nmIMG_5504.jpeg
END:VEVENT
BEGIN:VEVENT
DTSTART;TZID=UTC:20250509T080000
DTEND;TZID=UTC:20250509T153000
DTSTAMP:20260424T143917
CREATED:20250426T112422Z
LAST-MODIFIED:20250426T112422Z
UID:5672-1746777600-1746804600@baliasli.com.au
SUMMARY:Culinary Adventure “Biking from the mountain to the white Virgin beach”
DESCRIPTION:Our Biking guide\, Pak Mudi will drive you up into the small villages in the foot hills of Mount Agung. Where you will mount your mountain bikes and glide (mostly down hill) over a combination of dirt tracks\, bike trails and sealed roads.  You will enjoy breath taking vistas\, as you ride around rice fields\, through snake fruit forests\, small towns all the way to White sand beach\, where you can cool off in the crystal clear ocean. Then enjoy a “Bungkus” Balinese picnic lunch on the beach prepared by the local beach warungs. \nSTART TIME; 8;00am  FINISH TIME; 3;30pm \nPRICE; IDR 893\,000
URL:https://baliasli.com.au/event/culinary-adventure-biking-from-the-mountain-to-the-white-virgin-beach-7/
CATEGORIES:biking from the mountain to the beach,culinary adventure
ATTACH;FMTTYPE=image/jpeg:https://baliasli.com.au/wp-content/uploads/2024/10/nmIMG_5504.jpeg
END:VEVENT
BEGIN:VEVENT
DTSTART;TZID=UTC:20250501T080000
DTEND;TZID=UTC:20250501T153000
DTSTAMP:20260424T143917
CREATED:20250426T112146Z
LAST-MODIFIED:20250426T112146Z
UID:5669-1746086400-1746113400@baliasli.com.au
SUMMARY:Culinary Adventure "Biking from the mountain to the white Virgin beach”
DESCRIPTION:Our Biking guide\, Pak Mudi will drive you up into the small villages in the foot hills of Mount Agung. Where you will mount your mountain bikes and glide (mostly down hill) over a combination of dirt tracks\, bike trails and sealed roads.  You will enjoy breath taking vistas\, as you ride around rice fields\, through snake fruit forests\, small towns all the way to White sand beach\, where you can cool off in the crystal clear ocean. Then enjoy a “Bungkus” Balinese picnic lunch on the beach prepared by the local beach warungs. \nSTART TIME; 8;00am  FINISH TIME; 3;30pm \nPRICE; IDR 893\,000
URL:https://baliasli.com.au/event/culinary-adventure-biking-from-the-mountain-to-the-white-virgin-beach-6/
CATEGORIES:biking from the mountain to the beach,culinary adventure
ATTACH;FMTTYPE=image/jpeg:https://baliasli.com.au/wp-content/uploads/2024/10/nmIMG_5504.jpeg
END:VEVENT
END:VCALENDAR