BEGIN:VCALENDAR
VERSION:2.0
PRODID:-//Bali Asli Restaurant and Cooking School - ECPv6.15.20//NONSGML v1.0//EN
CALSCALE:GREGORIAN
METHOD:PUBLISH
X-WR-CALNAME:Bali Asli Restaurant and Cooking School
X-ORIGINAL-URL:https://baliasli.com.au
X-WR-CALDESC:Events for Bali Asli Restaurant and Cooking School
REFRESH-INTERVAL;VALUE=DURATION:PT1H
X-Robots-Tag:noindex
X-PUBLISHED-TTL:PT1H
BEGIN:VTIMEZONE
TZID:UTC
BEGIN:STANDARD
TZOFFSETFROM:+0000
TZOFFSETTO:+0000
TZNAME:UTC
DTSTART:20250101T000000
END:STANDARD
END:VTIMEZONE
BEGIN:VEVENT
DTSTART;TZID=UTC:20260320T080000
DTEND;TZID=UTC:20260320T143000
DTSTAMP:20260422T224511
CREATED:20260214T122302Z
LAST-MODIFIED:20260214T122302Z
UID:7411-1773993600-1774017000@baliasli.com.au
SUMMARY:Cooking Class "A Day in the Life of a Balinese Lady"
DESCRIPTION:TO MARKET TO MARKET TO BUY A FAT PIG! \nOur chefs visit Amlapura morning market every day to gather the produce for our menu. Help carry the shopping! Sample some produce and absorb some real Balinese action in the hustle and bustle of the market. Return to Bali Asli and learn how to prepare traditional flower offerings\, “canang” whilst enjoying morning eat\, all before cooking your lunch using traditional equipment and techniques. \nPlease contact us to make your reservation or for more information on our Contact Form \nSTART TIME 08.00am FINISH TIME 2.30pm \nPRICE; IDR 1\,292\,500
URL:https://baliasli.com.au/event/cooking-class-a-day-in-the-life-of-a-balinese-lady-88/
LOCATION:Bali Asli Restaurant
CATEGORIES:A day in the life of a Balinese lady,cooking class
ATTACH;FMTTYPE=image/jpeg:https://baliasli.com.au/wp-content/uploads/2025/11/slide-1-new.jpg
END:VEVENT
BEGIN:VEVENT
DTSTART;TZID=UTC:20260324T080000
DTEND;TZID=UTC:20260324T143000
DTSTAMP:20260422T224511
CREATED:20260214T122411Z
LAST-MODIFIED:20260214T122411Z
UID:7413-1774339200-1774362600@baliasli.com.au
SUMMARY:Cooking Class "A Day in the Life of a Balinese Lady"
DESCRIPTION:TO MARKET TO MARKET TO BUY A FAT PIG! \nOur chefs visit Amlapura morning market every day to gather the produce for our menu. Help carry the shopping! Sample some produce and absorb some real Balinese action in the hustle and bustle of the market. Return to Bali Asli and learn how to prepare traditional flower offerings\, “canang” whilst enjoying morning eat\, all before cooking your lunch using traditional equipment and techniques. \nPlease contact us to make your reservation or for more information on our Contact Form \nSTART TIME 08.00am FINISH TIME 2.30pm \nPRICE; IDR 1\,292\,500
URL:https://baliasli.com.au/event/cooking-class-a-day-in-the-life-of-a-balinese-lady-89/
LOCATION:Bali Asli Restaurant
CATEGORIES:A day in the life of a Balinese lady,cooking class
ATTACH;FMTTYPE=image/jpeg:https://baliasli.com.au/wp-content/uploads/2025/11/slide-1-new.jpg
END:VEVENT
BEGIN:VEVENT
DTSTART;TZID=UTC:20260326T080000
DTEND;TZID=UTC:20260326T143000
DTSTAMP:20260422T224511
CREATED:20260214T122552Z
LAST-MODIFIED:20260214T122552Z
UID:7415-1774512000-1774535400@baliasli.com.au
SUMMARY:Cooking Class "A Day in the Life of a Balinese Lady"
DESCRIPTION:TO MARKET TO MARKET TO BUY A FAT PIG! \nOur chefs visit Amlapura morning market every day to gather the produce for our menu. Help carry the shopping! Sample some produce and absorb some real Balinese action in the hustle and bustle of the market. Return to Bali Asli and learn how to prepare traditional flower offerings\, “canang” whilst enjoying morning eat\, all before cooking your lunch using traditional equipment and techniques. \nPlease contact us to make your reservation or for more information on our Contact Form \nSTART TIME 08.00am FINISH TIME 2.30pm \nPRICE; IDR 1\,292\,500
URL:https://baliasli.com.au/event/cooking-class-a-day-in-the-life-of-a-balinese-lady-90/
LOCATION:Bali Asli Restaurant
CATEGORIES:A day in the life of a Balinese lady,cooking class
ATTACH;FMTTYPE=image/jpeg:https://baliasli.com.au/wp-content/uploads/2025/11/slide-1-new.jpg
END:VEVENT
BEGIN:VEVENT
DTSTART;TZID=UTC:20260328T080000
DTEND;TZID=UTC:20260328T143000
DTSTAMP:20260422T224511
CREATED:20260214T113621Z
LAST-MODIFIED:20260214T113621Z
UID:7405-1774684800-1774708200@baliasli.com.au
SUMMARY:Cooking Class "A Day in the Village"
DESCRIPTION:STEP THROUGH THE LOOKING GLASS \nOur trekking guide will take you “through the looking glass” up into the village of Pangi\, where you will have the opportunity to peek into the daily life of the local people. Enjoy stunning views over rice fields\, ocean and volcanoes. Learn the ancient art of Balinese “Aksara” etching into dried palm leaves\, at the Museum Lontar. Have a go at making your own to take home! Before returning to Bali Asli to cook your Balinese lunch  \nSTART TIME 08.00am      FINISH TIME 2.30pm \nPRICE; IDR 1\,292\,500 \nTo make a reservation\, or for more information\, please send us a message on our; Contact Form
URL:https://baliasli.com.au/event/cooking-class-a-day-in-the-village-93/
LOCATION:Bali Asli Restaurant
CATEGORIES:a day in the village,cooking class
ATTACH;FMTTYPE=image/jpeg:https://baliasli.com.au/wp-content/uploads/2024/07/museum-5-e1722340893530.jpeg
END:VEVENT
BEGIN:VEVENT
DTSTART;TZID=UTC:20260331T080000
DTEND;TZID=UTC:20260331T143000
DTSTAMP:20260422T224511
CREATED:20260214T122701Z
LAST-MODIFIED:20260214T122701Z
UID:7417-1774944000-1774967400@baliasli.com.au
SUMMARY:Cooking Class "A Day in the Life of a Balinese Lady"
DESCRIPTION:TO MARKET TO MARKET TO BUY A FAT PIG! \nOur chefs visit Amlapura morning market every day to gather the produce for our menu. Help carry the shopping! Sample some produce and absorb some real Balinese action in the hustle and bustle of the market. Return to Bali Asli and learn how to prepare traditional flower offerings\, “canang” whilst enjoying morning eat\, all before cooking your lunch using traditional equipment and techniques. \nPlease contact us to make your reservation or for more information on our Contact Form \nSTART TIME 08.00am FINISH TIME 2.30pm \nPRICE; IDR 1\,292\,500
URL:https://baliasli.com.au/event/cooking-class-a-day-in-the-life-of-a-balinese-lady-91/
LOCATION:Bali Asli Restaurant
CATEGORIES:A day in the life of a Balinese lady,cooking class
ATTACH;FMTTYPE=image/jpeg:https://baliasli.com.au/wp-content/uploads/2025/11/slide-1-new.jpg
END:VEVENT
BEGIN:VEVENT
DTSTART;TZID=UTC:20260402T080000
DTEND;TZID=UTC:20260402T143000
DTSTAMP:20260422T224511
CREATED:20260406T080538Z
LAST-MODIFIED:20260406T080538Z
UID:7582-1775116800-1775140200@baliasli.com.au
SUMMARY:Cooking Class "A day in the Life of a Balinese Lady"
DESCRIPTION:TO MARKET TO MARKET TO BUY A FAT PIG! \nOur chefs visit Amlapura morning market every day to gather the produce for our menu. Help carry the shopping! Sample some produce and absorb some real Balinese action in the hustle and bustle of the market. Return to Bali Asli and learn how to prepare traditional flower offerings\, “canang” whilst enjoying morning eat\, all before cooking your lunch using traditional equipment and techniques. \nPlease contact us to make your reservation or for more information on our Contact Form \nSTART TIME 08.00am        FINISH TIME 2.30pm \nPRICE; IDR 1\,292\,500
URL:https://baliasli.com.au/event/cooking-class-a-day-in-the-life-of-a-balinese-lady-95/
LOCATION:Bali Asli Restaurant
CATEGORIES:A day in the life of a Balinese lady,cooking class
ATTACH;FMTTYPE=image/jpeg:https://baliasli.com.au/wp-content/uploads/2025/11/slide-1-new.jpg
END:VEVENT
BEGIN:VEVENT
DTSTART;TZID=UTC:20260408T080000
DTEND;TZID=UTC:20260408T143000
DTSTAMP:20260422T224511
CREATED:20260405T102609Z
LAST-MODIFIED:20260405T105125Z
UID:7500-1775635200-1775658600@baliasli.com.au
SUMMARY:Cooking Class "A day in the Life of a Balinese Lady"
DESCRIPTION:TO MARKET TO MARKET TO BUY A FAT PIG! \nOur chefs visit Amlapura morning market every day to gather the produce for our menu. Help carry the shopping! Sample some produce and absorb some real Balinese action in the hustle and bustle of the market. Return to Bali Asli and learn how to prepare traditional flower offerings\, “canang” whilst enjoying morning eat\, all before cooking your lunch using traditional equipment and techniques. \nPlease contact us to make your reservation or for more information on our Contact Form \nSTART TIME 08.00am        FINISH TIME 2.30pm \nPRICE; IDR 1\,292\,500
URL:https://baliasli.com.au/event/cooking-class-a-day-in-the-life-of-a-balinese-lady-92/
LOCATION:Bali Asli Restaurant
CATEGORIES:A day in the life of a Balinese lady,cooking class
ATTACH;FMTTYPE=image/jpeg:https://baliasli.com.au/wp-content/uploads/2025/11/slide-1-new.jpg
END:VEVENT
BEGIN:VEVENT
DTSTART;TZID=UTC:20260409T080000
DTEND;TZID=UTC:20260409T143000
DTSTAMP:20260422T224511
CREATED:20260405T105517Z
LAST-MODIFIED:20260405T105517Z
UID:7510-1775721600-1775745000@baliasli.com.au
SUMMARY:Cooking Class "A day in the Village"
DESCRIPTION:STEP THROUGH THE LOOKING GLASS \nOur trekking guide will take you “through the looking glass” up into the village of Pangi\, where you will have the opportunity to peek into the daily life of the local people. Enjoy stunning views over rice fields\, ocean and volcanoes. Learn the ancient art of Balinese “Aksara” etching into dried palm leaves\, at the Museum Lontar. Have a go at making your own to take home! Before returning to Bali Asli to cook your Balinese lunch  \nSTART TIME 08.00am      FINISH TIME 2.30pm \nPRICE; IDR 1\,292\,500 \nTo make a reservation\, or for more information\, please send us a message on our; Contact Form
URL:https://baliasli.com.au/event/cooking-class-a-day-in-the-village-94/
LOCATION:Bali Asli Restaurant
CATEGORIES:a day in the village,cooking class
ATTACH;FMTTYPE=image/jpeg:https://baliasli.com.au/wp-content/uploads/2026/04/706CD681-7D31-4BF3-B636-118EEF659A6B_1_105_c.jpeg
END:VEVENT
BEGIN:VEVENT
DTSTART;TZID=UTC:20260409T080000
DTEND;TZID=UTC:20260409T143000
DTSTAMP:20260422T224511
CREATED:20260406T080712Z
LAST-MODIFIED:20260406T080712Z
UID:7584-1775721600-1775745000@baliasli.com.au
SUMMARY:Cooking Class "A Day in the Life of a Balinese Lady"
DESCRIPTION:TO MARKET TO MARKET TO BUY A FAT PIG! \nOur chefs visit Amlapura morning market every day to gather the produce for our menu. Help carry the shopping! Sample some produce and absorb some real Balinese action in the hustle and bustle of the market. Return to Bali Asli and learn how to prepare traditional flower offerings\, “canang” whilst enjoying morning eat\, all before cooking your lunch using traditional equipment and techniques. \nPlease contact us to make your reservation or for more information on our Contact Form \nSTART TIME 08.00am        FINISH TIME 2.30pm \nPRICE; IDR 1\,292\,500
URL:https://baliasli.com.au/event/cooking-class-a-day-in-the-life-of-a-balinese-lady-96/
LOCATION:Bali Asli Restaurant
CATEGORIES:A day in the life of a Balinese lady,cooking class
ATTACH;FMTTYPE=image/jpeg:https://baliasli.com.au/wp-content/uploads/2025/11/slide-1-new.jpg
END:VEVENT
BEGIN:VEVENT
DTSTART;TZID=UTC:20260416T080000
DTEND;TZID=UTC:20260416T143000
DTSTAMP:20260422T224511
CREATED:20260406T080841Z
LAST-MODIFIED:20260406T080841Z
UID:7586-1776326400-1776349800@baliasli.com.au
SUMMARY:Cooking Class "A Day in the Life of a Balinese Lady"
DESCRIPTION:TO MARKET TO MARKET TO BUY A FAT PIG! \nOur chefs visit Amlapura morning market every day to gather the produce for our menu. Help carry the shopping! Sample some produce and absorb some real Balinese action in the hustle and bustle of the market. Return to Bali Asli and learn how to prepare traditional flower offerings\, “canang” whilst enjoying morning eat\, all before cooking your lunch using traditional equipment and techniques. \nPlease contact us to make your reservation or for more information on our Contact Form \nSTART TIME 08.00am        FINISH TIME 2.30pm \nPRICE; IDR 1\,292\,500
URL:https://baliasli.com.au/event/cooking-class-a-day-in-the-life-of-a-balinese-lady-97/
LOCATION:Bali Asli Restaurant
CATEGORIES:A day in the life of a Balinese lady,cooking class
ATTACH;FMTTYPE=image/jpeg:https://baliasli.com.au/wp-content/uploads/2025/11/slide-1-new.jpg
END:VEVENT
BEGIN:VEVENT
DTSTART;TZID=UTC:20260417T080000
DTEND;TZID=UTC:20260417T143000
DTSTAMP:20260422T224511
CREATED:20260405T102318Z
LAST-MODIFIED:20260405T102438Z
UID:7497-1776412800-1776436200@baliasli.com.au
SUMMARY:Cooking Class "A day in the Day of a Balinese Lady"
DESCRIPTION:TO MARKET TO MARKET TO BUY A FAT PIG! \nOur chefs visit Amlapura morning market every day to gather the produce for our menu. Help carry the shopping! Sample some produce and absorb some real Balinese action in the hustle and bustle of the market. Return to Bali Asli and learn how to prepare traditional flower offerings\, “canang” whilst enjoying morning eat\, all before cooking your lunch using traditional equipment and techniques. \nPlease contact us to make your reservation or for more information on our Contact Form \nSTART TIME 08.00am        FINISH TIME 2.30pm \nPRICE; IDR 1\,292\,500
URL:https://baliasli.com.au/event/cooking-class-a-day-in-the-day-of-a-balinese-lady/
LOCATION:Bali Asli Restaurant
CATEGORIES:A day in the life of a Balinese lady,cooking class
ATTACH;FMTTYPE=image/jpeg:https://baliasli.com.au/wp-content/uploads/2025/11/slide-1-new.jpg
END:VEVENT
BEGIN:VEVENT
DTSTART;TZID=UTC:20260420T080000
DTEND;TZID=UTC:20260420T143000
DTSTAMP:20260422T224511
CREATED:20260405T105815Z
LAST-MODIFIED:20260405T105815Z
UID:7514-1776672000-1776695400@baliasli.com.au
SUMMARY:Cooking class "A day in the Village"
DESCRIPTION:STEP THROUGH THE LOOKING GLASS \nOur trekking guide will take you “through the looking glass” up into the village of Pangi\, where you will have the opportunity to peek into the daily life of the local people. Enjoy stunning views over rice fields\, ocean and volcanoes. Learn the ancient art of Balinese “Aksara” etching into dried palm leaves\, at the Museum Lontar. Have a go at making your own to take home! Before returning to Bali Asli to cook your Balinese lunch  \nSTART TIME 08.00am      FINISH TIME 2.30pm \nPRICE; IDR 1\,292\,500 \nTo make a reservation\, or for more information\, please send us a message on our; Contact Form
URL:https://baliasli.com.au/event/cooking-class-a-day-in-the-village-95/
LOCATION:Bali Asli Restaurant
CATEGORIES:a day in the village,cooking class
ATTACH;FMTTYPE=image/jpeg:https://baliasli.com.au/wp-content/uploads/2026/04/706CD681-7D31-4BF3-B636-118EEF659A6B_1_105_c.jpeg
END:VEVENT
BEGIN:VEVENT
DTSTART;TZID=UTC:20260421T080000
DTEND;TZID=UTC:20260421T143000
DTSTAMP:20260422T224511
CREATED:20260405T105917Z
LAST-MODIFIED:20260405T105917Z
UID:7516-1776758400-1776781800@baliasli.com.au
SUMMARY:Cooking Class "A day in the Village"
DESCRIPTION:STEP THROUGH THE LOOKING GLASS \nOur trekking guide will take you “through the looking glass” up into the village of Pangi\, where you will have the opportunity to peek into the daily life of the local people. Enjoy stunning views over rice fields\, ocean and volcanoes. Learn the ancient art of Balinese “Aksara” etching into dried palm leaves\, at the Museum Lontar. Have a go at making your own to take home! Before returning to Bali Asli to cook your Balinese lunch  \nSTART TIME 08.00am      FINISH TIME 2.30pm \nPRICE; IDR 1\,292\,500 \nTo make a reservation\, or for more information\, please send us a message on our; Contact Form
URL:https://baliasli.com.au/event/cooking-class-a-day-in-the-village-96/
LOCATION:Bali Asli Restaurant
CATEGORIES:a day in the village,cooking class
ATTACH;FMTTYPE=image/jpeg:https://baliasli.com.au/wp-content/uploads/2026/04/706CD681-7D31-4BF3-B636-118EEF659A6B_1_105_c.jpeg
END:VEVENT
BEGIN:VEVENT
DTSTART;TZID=UTC:20260424T080000
DTEND;TZID=UTC:20260424T143000
DTSTAMP:20260422T224511
CREATED:20260405T102714Z
LAST-MODIFIED:20260405T102738Z
UID:7502-1777017600-1777041000@baliasli.com.au
SUMMARY:Cooking Class "A day in the Life if a Balinese Lady"
DESCRIPTION:TO MARKET TO MARKET TO BUY A FAT PIG! \nOur chefs visit Amlapura morning market every day to gather the produce for our menu. Help carry the shopping! Sample some produce and absorb some real Balinese action in the hustle and bustle of the market. Return to Bali Asli and learn how to prepare traditional flower offerings\, “canang” whilst enjoying morning eat\, all before cooking your lunch using traditional equipment and techniques. \nPlease contact us to make your reservation or for more information on our Contact Form \nSTART TIME 08.00am        FINISH TIME 2.30pm \nPRICE; IDR 1\,292\,500
URL:https://baliasli.com.au/event/cooking-class-a-day-in-the-life-if-a-balinese-lady/
LOCATION:Bali Asli Restaurant
CATEGORIES:A day in the life of a Balinese lady,cooking class
ATTACH;FMTTYPE=image/jpeg:https://baliasli.com.au/wp-content/uploads/2025/11/slide-1-new.jpg
END:VEVENT
BEGIN:VEVENT
DTSTART;TZID=UTC:20260427T080000
DTEND;TZID=UTC:20260427T143000
DTSTAMP:20260422T224511
CREATED:20260405T110225Z
LAST-MODIFIED:20260405T110225Z
UID:7518-1777276800-1777300200@baliasli.com.au
SUMMARY:Cooking Class "A day in the Village"
DESCRIPTION:STEP THROUGH THE LOOKING GLASS \nOur trekking guide will take you “through the looking glass” up into the village of Pangi\, where you will have the opportunity to peek into the daily life of the local people. Enjoy stunning views over rice fields\, ocean and volcanoes. Learn the ancient art of Balinese “Aksara” etching into dried palm leaves\, at the Museum Lontar. Have a go at making your own to take home! Before returning to Bali Asli to cook your Balinese lunch  \nSTART TIME 08.00am      FINISH TIME 2.30pm \nPRICE; IDR 1\,292\,500 \nTo make a reservation\, or for more information\, please send us a message on our; Contact Form
URL:https://baliasli.com.au/event/cooking-class-a-day-in-the-village-97/
LOCATION:Bali Asli Restaurant
CATEGORIES:a day in the village,cooking class
ATTACH;FMTTYPE=image/jpeg:https://baliasli.com.au/wp-content/uploads/2026/04/706CD681-7D31-4BF3-B636-118EEF659A6B_1_105_c.jpeg
END:VEVENT
BEGIN:VEVENT
DTSTART;TZID=UTC:20260428T080000
DTEND;TZID=UTC:20260428T143000
DTSTAMP:20260422T224511
CREATED:20260405T102855Z
LAST-MODIFIED:20260405T102855Z
UID:7505-1777363200-1777386600@baliasli.com.au
SUMMARY:Cooking Class "A day in the Life of a Balinese Lady"
DESCRIPTION:TO MARKET TO MARKET TO BUY A FAT PIG! \nOur chefs visit Amlapura morning market every day to gather the produce for our menu. Help carry the shopping! Sample some produce and absorb some real Balinese action in the hustle and bustle of the market. Return to Bali Asli and learn how to prepare traditional flower offerings\, “canang” whilst enjoying morning eat\, all before cooking your lunch using traditional equipment and techniques. \nPlease contact us to make your reservation or for more information on our Contact Form \nSTART TIME 08.00am        FINISH TIME 2.30pm \nPRICE; IDR 1\,292\,500
URL:https://baliasli.com.au/event/cooking-class-a-day-in-the-life-of-a-balinese-lady-93/
LOCATION:Bali Asli Restaurant
CATEGORIES:A day in the life of a Balinese lady,cooking class
ATTACH;FMTTYPE=image/jpeg:https://baliasli.com.au/wp-content/uploads/2025/11/slide-1-new.jpg
END:VEVENT
BEGIN:VEVENT
DTSTART;TZID=UTC:20260429T080000
DTEND;TZID=UTC:20260429T143000
DTSTAMP:20260422T224511
CREATED:20260405T110318Z
LAST-MODIFIED:20260406T081102Z
UID:7520-1777449600-1777473000@baliasli.com.au
SUMMARY:Cooking Class "A day in the Village"
DESCRIPTION:STEP THROUGH THE LOOKING GLASS \nOur trekking guide will take you “through the looking glass” up into the village of Pangi\, where you will have the opportunity to peek into the daily life of the local people. Enjoy stunning views over rice fields\, ocean and volcanoes. Learn the ancient art of Balinese “Aksara” etching into dried palm leaves\, at the Museum Lontar. Have a go at making your own to take home! Before returning to Bali Asli to cook your Balinese lunch  \nSTART TIME 08.00am      FINISH TIME 2.30pm \nPRICE; IDR 1\,292\,500 \nTo make a reservation\, or for more information\, please send us a message on our; Contact Form
URL:https://baliasli.com.au/event/cooking-class-a-day-in-the-village-98/
LOCATION:Bali Asli Restaurant
CATEGORIES:a day in the village,cooking class
ATTACH;FMTTYPE=image/jpeg:https://baliasli.com.au/wp-content/uploads/2026/04/706CD681-7D31-4BF3-B636-118EEF659A6B_1_105_c.jpeg
END:VEVENT
BEGIN:VEVENT
DTSTART;TZID=UTC:20260503T080000
DTEND;TZID=UTC:20260503T143000
DTSTAMP:20260422T224511
CREATED:20260406T081332Z
LAST-MODIFIED:20260406T081332Z
UID:7592-1777795200-1777818600@baliasli.com.au
SUMMARY:Cooking Class "A Day in the VIllage"
DESCRIPTION:STEP THROUGH THE LOOKING GLASS \nOur trekking guide will take you “through the looking glass” up into the village of Pangi\, where you will have the opportunity to peek into the daily life of the local people. Enjoy stunning views over rice fields\, ocean and volcanoes. Learn the ancient art of Balinese “Aksara” etching into dried palm leaves\, at the Museum Lontar. Have a go at making your own to take home! Before returning to Bali Asli to cook your Balinese lunch  \nSTART TIME 08.00am      FINISH TIME 2.30pm \nPRICE; IDR 1\,292\,500 \nTo make a reservation\, or for more information\, please send us a message on our; Contact Form
URL:https://baliasli.com.au/event/cooking-class-a-day-in-the-village-100/
LOCATION:Bali Asli Restaurant
CATEGORIES:a day in the village,cooking class
ATTACH;FMTTYPE=image/jpeg:https://baliasli.com.au/wp-content/uploads/2026/04/706CD681-7D31-4BF3-B636-118EEF659A6B_1_105_c.jpeg
END:VEVENT
BEGIN:VEVENT
DTSTART;TZID=UTC:20260511T080000
DTEND;TZID=UTC:20260511T143000
DTSTAMP:20260422T224511
CREATED:20260406T081224Z
LAST-MODIFIED:20260406T081224Z
UID:7590-1778486400-1778509800@baliasli.com.au
SUMMARY:Cooking Class "A Day in The Village"
DESCRIPTION:STEP THROUGH THE LOOKING GLASS \nOur trekking guide will take you “through the looking glass” up into the village of Pangi\, where you will have the opportunity to peek into the daily life of the local people. Enjoy stunning views over rice fields\, ocean and volcanoes. Learn the ancient art of Balinese “Aksara” etching into dried palm leaves\, at the Museum Lontar. Have a go at making your own to take home! Before returning to Bali Asli to cook your Balinese lunch  \nSTART TIME 08.00am      FINISH TIME 2.30pm \nPRICE; IDR 1\,292\,500 \nTo make a reservation\, or for more information\, please send us a message on our; Contact Form
URL:https://baliasli.com.au/event/cooking-class-a-day-in-the-village-99/
LOCATION:Bali Asli Restaurant
CATEGORIES:a day in the village,cooking class
ATTACH;FMTTYPE=image/jpeg:https://baliasli.com.au/wp-content/uploads/2026/04/706CD681-7D31-4BF3-B636-118EEF659A6B_1_105_c.jpeg
END:VEVENT
BEGIN:VEVENT
DTSTART;TZID=UTC:20260527T080000
DTEND;TZID=UTC:20260527T143000
DTSTAMP:20260422T224511
CREATED:20260406T080338Z
LAST-MODIFIED:20260406T080338Z
UID:7579-1779868800-1779892200@baliasli.com.au
SUMMARY:Cooking Class "A Day in the Life of a Balinese Lady"
DESCRIPTION:TO MARKET TO MARKET TO BUY A FAT PIG! \nOur chefs visit Amlapura morning market every day to gather the produce for our menu. Help carry the shopping! Sample some produce and absorb some real Balinese action in the hustle and bustle of the market. Return to Bali Asli and learn how to prepare traditional flower offerings\, “canang” whilst enjoying morning eat\, all before cooking your lunch using traditional equipment and techniques. \nPlease contact us to make your reservation or for more information on our Contact Form \nSTART TIME 08.00am        FINISH TIME 2.30pm \nPRICE; IDR 1\,292\,500
URL:https://baliasli.com.au/event/cooking-class-a-day-in-the-life-of-a-balinese-lady-94/
LOCATION:Bali Asli Restaurant
CATEGORIES:A day in the life of a Balinese lady,cooking class
ATTACH;FMTTYPE=image/jpeg:https://baliasli.com.au/wp-content/uploads/2025/11/slide-1-new.jpg
END:VEVENT
BEGIN:VEVENT
DTSTART;TZID=UTC:20260529T080000
DTEND;TZID=UTC:20260529T143000
DTSTAMP:20260422T224511
CREATED:20260406T081436Z
LAST-MODIFIED:20260406T081436Z
UID:7594-1780041600-1780065000@baliasli.com.au
SUMMARY:Cooking Class "A Day in the Village"
DESCRIPTION:STEP THROUGH THE LOOKING GLASS \nOur trekking guide will take you “through the looking glass” up into the village of Pangi\, where you will have the opportunity to peek into the daily life of the local people. Enjoy stunning views over rice fields\, ocean and volcanoes. Learn the ancient art of Balinese “Aksara” etching into dried palm leaves\, at the Museum Lontar. Have a go at making your own to take home! Before returning to Bali Asli to cook your Balinese lunch  \nSTART TIME 08.00am      FINISH TIME 2.30pm \nPRICE; IDR 1\,292\,500 \nTo make a reservation\, or for more information\, please send us a message on our; Contact Form
URL:https://baliasli.com.au/event/cooking-class-a-day-in-the-village-101/
LOCATION:Bali Asli Restaurant
CATEGORIES:a day in the village,cooking class
ATTACH;FMTTYPE=image/jpeg:https://baliasli.com.au/wp-content/uploads/2026/04/706CD681-7D31-4BF3-B636-118EEF659A6B_1_105_c.jpeg
END:VEVENT
END:VCALENDAR