BEGIN:VCALENDAR
VERSION:2.0
PRODID:-//Bali Asli Restaurant and Cooking School - ECPv6.15.20//NONSGML v1.0//EN
CALSCALE:GREGORIAN
METHOD:PUBLISH
X-WR-CALNAME:Bali Asli Restaurant and Cooking School
X-ORIGINAL-URL:https://baliasli.com.au
X-WR-CALDESC:Events for Bali Asli Restaurant and Cooking School
REFRESH-INTERVAL;VALUE=DURATION:PT1H
X-Robots-Tag:noindex
X-PUBLISHED-TTL:PT1H
BEGIN:VTIMEZONE
TZID:UTC
BEGIN:STANDARD
TZOFFSETFROM:+0000
TZOFFSETTO:+0000
TZNAME:UTC
DTSTART:20240101T000000
END:STANDARD
END:VTIMEZONE
BEGIN:VEVENT
DTSTART;TZID=UTC:20250902T080000
DTEND;TZID=UTC:20250902T143000
DTSTAMP:20260424T113053
CREATED:20250822T121005Z
LAST-MODIFIED:20250822T121005Z
UID:6142-1756800000-1756823400@baliasli.com.au
SUMMARY:Cooking Class "A day in the life of a Balinese Lady"
DESCRIPTION:TO MARKET TO MARKET TO BUY A FAT PIG! \nOur chefs visit Amlapura morning market every day to gather the produce for our menu. Help carry the shopping! Sample some produce and absorb some real Balinese action in the hustle and bustle of the market. Return to Bali Asli and learn how to prepare traditional flower offerings\, “canang” whilst enjoying morning eat\, all before cooking your lunch using traditional equipment and techniques. \nPlease contact us to make your reservation or for more information on our Contact Form \nSTART TIME 08.00am FINISH TIME 2.30pm \nPRICE; IDR 1\,292\,500
URL:https://baliasli.com.au/event/cooking-class-a-day-in-the-life-of-a-balinese-lady-55/
LOCATION:Bali Asli Restaurant
CATEGORIES:A day in the life of a Balinese lady,cooking class
ATTACH;FMTTYPE=image/jpeg:https://baliasli.com.au/wp-content/uploads/2024/07/pasar-5-e1722343372503.jpeg
END:VEVENT
BEGIN:VEVENT
DTSTART;TZID=UTC:20250831T080000
DTEND;TZID=UTC:20250831T143000
DTSTAMP:20260424T113053
CREATED:20250715T111311Z
LAST-MODIFIED:20250718T122006Z
UID:6030-1756627200-1756650600@baliasli.com.au
SUMMARY:Cooking Class "A Day in the Life of a Balinese Lady"
DESCRIPTION:TO MARKET TO MARKET TO BUY A FAT PIG! \nOur chefs visit Amlapura morning market every day to gather the produce for our menu. Help carry the shopping! Sample some produce and absorb some real Balinese action in the hustle and bustle of the market. Return to Bali Asli and learn how to prepare traditional flower offerings\, “canang” whilst enjoying morning eat\, all before cooking your lunch using traditional equipment and techniques. \nPlease contact us to make your reservation or for more information on our Contact Form \nSTART TIME 08.00am FINISH TIME 2.30pm \nPRICE; IDR 1\,292\,500
URL:https://baliasli.com.au/event/cooking-class-a-day-in-the-life-of-a-balinese-lady-54/
LOCATION:Bali Asli Restaurant
CATEGORIES:A day in the life of a Balinese lady,cooking class
ATTACH;FMTTYPE=image/jpeg:https://baliasli.com.au/wp-content/uploads/2024/07/pasar-5-e1722343372503.jpeg
END:VEVENT
BEGIN:VEVENT
DTSTART;TZID=UTC:20250820T080000
DTEND;TZID=UTC:20250820T143000
DTSTAMP:20260424T113053
CREATED:20250715T111202Z
LAST-MODIFIED:20250715T111202Z
UID:6028-1755676800-1755700200@baliasli.com.au
SUMMARY:Cooking Class "A Day in the Life of a Balinese Lady"
DESCRIPTION:TO MARKET TO MARKET TO BUY A FAT PIG! \nOur chefs visit Amlapura morning market every day to gather the produce for our menu. Help carry the shopping! Sample some produce and absorb some real Balinese action in the hustle and bustle of the market. Return to Bali Asli and learn how to prepare traditional flower offerings\, “canang” whilst enjoying morning eat\, all before cooking your lunch using traditional equipment and techniques. \nPlease contact us to make your reservation or for more information on our Contact Form \nSTART TIME 08.00am FINISH TIME 2.30pm \nPRICE; IDR 1\,292\,500
URL:https://baliasli.com.au/event/cooking-class-a-day-in-the-life-of-a-balinese-lady-53/
LOCATION:Bali Asli Restaurant
CATEGORIES:A day in the life of a Balinese lady,cooking class
ATTACH;FMTTYPE=image/jpeg:https://baliasli.com.au/wp-content/uploads/2024/07/pasar-5-e1722343372503.jpeg
END:VEVENT
BEGIN:VEVENT
DTSTART;TZID=UTC:20250818T080000
DTEND;TZID=UTC:20250818T143000
DTSTAMP:20260424T113053
CREATED:20250715T111058Z
LAST-MODIFIED:20250715T111058Z
UID:6026-1755504000-1755527400@baliasli.com.au
SUMMARY:Cooking Class "A Day in the Life of a Balinese Lady"
DESCRIPTION:TO MARKET TO MARKET TO BUY A FAT PIG! \nOur chefs visit Amlapura morning market every day to gather the produce for our menu. Help carry the shopping! Sample some produce and absorb some real Balinese action in the hustle and bustle of the market. Return to Bali Asli and learn how to prepare traditional flower offerings\, “canang” whilst enjoying morning eat\, all before cooking your lunch using traditional equipment and techniques. \nPlease contact us to make your reservation or for more information on our Contact Form \nSTART TIME 08.00am FINISH TIME 2.30pm \nPRICE; IDR 1\,292\,500
URL:https://baliasli.com.au/event/cooking-class-a-day-in-the-life-of-a-balinese-lady-52/
LOCATION:Bali Asli Restaurant
CATEGORIES:A day in the life of a Balinese lady,cooking class
ATTACH;FMTTYPE=image/jpeg:https://baliasli.com.au/wp-content/uploads/2024/07/pasar-5-e1722343372503.jpeg
END:VEVENT
BEGIN:VEVENT
DTSTART;TZID=UTC:20250814T080000
DTEND;TZID=UTC:20250814T143000
DTSTAMP:20260424T113053
CREATED:20250715T110954Z
LAST-MODIFIED:20250715T110954Z
UID:6024-1755158400-1755181800@baliasli.com.au
SUMMARY:Cooking Class "A Day in the Life of a Balinese Lady"
DESCRIPTION:TO MARKET TO MARKET TO BUY A FAT PIG! \nOur chefs visit Amlapura morning market every day to gather the produce for our menu. Help carry the shopping! Sample some produce and absorb some real Balinese action in the hustle and bustle of the market. Return to Bali Asli and learn how to prepare traditional flower offerings\, “canang” whilst enjoying morning eat\, all before cooking your lunch using traditional equipment and techniques. \nPlease contact us to make your reservation or for more information on our Contact Form \nSTART TIME 08.00am FINISH TIME 2.30pm \nPRICE; IDR 1\,292\,500
URL:https://baliasli.com.au/event/cooking-class-a-day-in-the-life-of-a-balinese-lady-51/
LOCATION:Bali Asli Restaurant
CATEGORIES:A day in the life of a Balinese lady,cooking class
ATTACH;FMTTYPE=image/jpeg:https://baliasli.com.au/wp-content/uploads/2024/07/pasar-5-e1722343372503.jpeg
END:VEVENT
BEGIN:VEVENT
DTSTART;TZID=UTC:20250812T080000
DTEND;TZID=UTC:20250812T143000
DTSTAMP:20260424T113053
CREATED:20250715T110847Z
LAST-MODIFIED:20250715T110847Z
UID:6022-1754985600-1755009000@baliasli.com.au
SUMMARY:Cooking Class "A Day in the Life of a Balinese Lady"
DESCRIPTION:TO MARKET TO MARKET TO BUY A FAT PIG! \nOur chefs visit Amlapura morning market every day to gather the produce for our menu. Help carry the shopping! Sample some produce and absorb some real Balinese action in the hustle and bustle of the market. Return to Bali Asli and learn how to prepare traditional flower offerings\, “canang” whilst enjoying morning eat\, all before cooking your lunch using traditional equipment and techniques. \nPlease contact us to make your reservation or for more information on our Contact Form \nSTART TIME 08.00am FINISH TIME 2.30pm \nPRICE; IDR 1\,292\,500
URL:https://baliasli.com.au/event/cooking-class-a-day-in-the-life-of-a-balinese-lady-50/
LOCATION:Bali Asli Restaurant
CATEGORIES:A day in the life of a Balinese lady,cooking class
ATTACH;FMTTYPE=image/jpeg:https://baliasli.com.au/wp-content/uploads/2024/07/pasar-5-e1722343372503.jpeg
END:VEVENT
BEGIN:VEVENT
DTSTART;TZID=UTC:20250809T080000
DTEND;TZID=UTC:20250809T143000
DTSTAMP:20260424T113053
CREATED:20250715T110721Z
LAST-MODIFIED:20250715T110721Z
UID:6020-1754726400-1754749800@baliasli.com.au
SUMMARY:Cooking Class "A Day in the Life of a Balinese Lady"
DESCRIPTION:TO MARKET TO MARKET TO BUY A FAT PIG! \nOur chefs visit Amlapura morning market every day to gather the produce for our menu. Help carry the shopping! Sample some produce and absorb some real Balinese action in the hustle and bustle of the market. Return to Bali Asli and learn how to prepare traditional flower offerings\, “canang” whilst enjoying morning eat\, all before cooking your lunch using traditional equipment and techniques. \nPlease contact us to make your reservation or for more information on our Contact Form \nSTART TIME 08.00am FINISH TIME 2.30pm \nPRICE; IDR 1\,292\,500
URL:https://baliasli.com.au/event/cooking-class-a-day-in-the-life-of-a-balinese-lady-49/
LOCATION:Bali Asli Restaurant
CATEGORIES:A day in the life of a Balinese lady,cooking class
ATTACH;FMTTYPE=image/jpeg:https://baliasli.com.au/wp-content/uploads/2024/07/pasar-5-e1722343372503.jpeg
END:VEVENT
BEGIN:VEVENT
DTSTART;TZID=UTC:20250808T080000
DTEND;TZID=UTC:20250808T143000
DTSTAMP:20260424T113053
CREATED:20250715T110420Z
LAST-MODIFIED:20250715T110420Z
UID:6018-1754640000-1754663400@baliasli.com.au
SUMMARY:Cooking Class "A day in the Life of a Balinese Lady"
DESCRIPTION:TO MARKET TO MARKET TO BUY A FAT PIG! \nOur chefs visit Amlapura morning market every day to gather the produce for our menu. Help carry the shopping! Sample some produce and absorb some real Balinese action in the hustle and bustle of the market. Return to Bali Asli and learn how to prepare traditional flower offerings\, “canang” whilst enjoying morning eat\, all before cooking your lunch using traditional equipment and techniques. \nPlease contact us to make your reservation or for more information on our Contact Form \nSTART TIME 08.00am FINISH TIME 2.30pm \nPRICE; IDR 1\,292\,500
URL:https://baliasli.com.au/event/cooking-class-a-day-in-the-life-of-a-balinese-lady-48/
LOCATION:Bali Asli Restaurant
CATEGORIES:A day in the life of a Balinese lady,cooking class
ATTACH;FMTTYPE=image/jpeg:https://baliasli.com.au/wp-content/uploads/2024/07/pasar-5-e1722343372503.jpeg
END:VEVENT
BEGIN:VEVENT
DTSTART;TZID=UTC:20250804T080000
DTEND;TZID=UTC:20250804T143000
DTSTAMP:20260424T113053
CREATED:20250715T110246Z
LAST-MODIFIED:20250715T110246Z
UID:6016-1754294400-1754317800@baliasli.com.au
SUMMARY:Cooking class "A Day in The Life of a Balinese Lady"
DESCRIPTION:TO MARKET TO MARKET TO BUY A FAT PIG! \nOur chefs visit Amlapura morning market every day to gather the produce for our menu. Help carry the shopping! Sample some produce and absorb some real Balinese action in the hustle and bustle of the market. Return to Bali Asli and learn how to prepare traditional flower offerings\, “canang” whilst enjoying morning eat\, all before cooking your lunch using traditional equipment and techniques. \nPlease contact us to make your reservation or for more information on our Contact Form \nSTART TIME 08.00am FINISH TIME 2.30pm \nPRICE; IDR 1\,292\,500
URL:https://baliasli.com.au/event/cooking-class-a-day-in-the-life-of-a-balinese-lady-47/
LOCATION:Bali Asli Restaurant
CATEGORIES:A day in the life of a Balinese lady,cooking class
ATTACH;FMTTYPE=image/jpeg:https://baliasli.com.au/wp-content/uploads/2024/07/pasar-5-e1722343372503.jpeg
END:VEVENT
BEGIN:VEVENT
DTSTART;TZID=UTC:20250729T080000
DTEND;TZID=UTC:20250729T143000
DTSTAMP:20260424T113053
CREATED:20250627T070258Z
LAST-MODIFIED:20250627T070258Z
UID:5934-1753776000-1753799400@baliasli.com.au
SUMMARY:Culinary Adventure "A day in the Life of a Balinese Lady"
DESCRIPTION:TO MARKET TO MARKET TO BUY A FAT PIG! \nOur chefs visit Amlapura morning market every day to gather the produce for our menu. Help carry the shopping! Sample some produce and absorb some real Balinese action in the hustle and bustle of the market. Return to Bali Asli and learn how to prepare traditional flower offerings\, “canang” whilst enjoying morning eat\, all before cooking your lunch using traditional equipment and techniques. \nSTART TIME 08.00am FINISH TIME 2.30pm \nPRICE; IDR 1\,292\,500 \nTo make your reservation\, please send us a message; Contact Form
URL:https://baliasli.com.au/event/culinary-adventure-a-day-in-the-life-of-a-balinese-lady-4/
LOCATION:Bali Asli Restaurant
CATEGORIES:A day in the life of a Balinese lady,cooking class
ATTACH;FMTTYPE=image/jpeg:https://baliasli.com.au/wp-content/uploads/2024/07/pasar-5-e1722343372503.jpeg
END:VEVENT
BEGIN:VEVENT
DTSTART;TZID=UTC:20250723T080000
DTEND;TZID=UTC:20250723T143000
DTSTAMP:20260424T113053
CREATED:20250627T070413Z
LAST-MODIFIED:20250627T070413Z
UID:5936-1753257600-1753281000@baliasli.com.au
SUMMARY:Culinary Adventure "A day in the Life of a Balinese Lady"
DESCRIPTION:TO MARKET TO MARKET TO BUY A FAT PIG! \nOur chefs visit Amlapura morning market every day to gather the produce for our menu. Help carry the shopping! Sample some produce and absorb some real Balinese action in the hustle and bustle of the market. Return to Bali Asli and learn how to prepare traditional flower offerings\, “canang” whilst enjoying morning eat\, all before cooking your lunch using traditional equipment and techniques. \nSTART TIME 08.00am FINISH TIME 2.30pm \nPRICE; IDR 1\,292\,500 \nTo make your reservation\, please send us a message; Contact Form
URL:https://baliasli.com.au/event/culinary-adventure-a-day-in-the-life-of-a-balinese-lady-5/
LOCATION:Bali Asli Restaurant
CATEGORIES:A day in the life of a Balinese lady,cooking class
ATTACH;FMTTYPE=image/jpeg:https://baliasli.com.au/wp-content/uploads/2024/07/pasar-5-e1722343372503.jpeg
END:VEVENT
BEGIN:VEVENT
DTSTART;TZID=UTC:20250717T080000
DTEND;TZID=UTC:20250717T143000
DTSTAMP:20260424T113053
CREATED:20250627T070141Z
LAST-MODIFIED:20250627T070141Z
UID:5932-1752739200-1752762600@baliasli.com.au
SUMMARY:Culinary Adventure "A day in the Life of a Balinese Lady"
DESCRIPTION:TO MARKET TO MARKET TO BUY A FAT PIG! \nOur chefs visit Amlapura morning market every day to gather the produce for our menu. Help carry the shopping! Sample some produce and absorb some real Balinese action in the hustle and bustle of the market. Return to Bali Asli and learn how to prepare traditional flower offerings\, “canang” whilst enjoying morning eat\, all before cooking your lunch using traditional equipment and techniques. \nSTART TIME 08.00am FINISH TIME 2.30pm \nPRICE; IDR 1\,292\,500 \nTo make your reservation\, please send us a message; Contact Form
URL:https://baliasli.com.au/event/culinary-adventure-a-day-in-the-life-of-a-balinese-lady-3/
LOCATION:Bali Asli Restaurant
CATEGORIES:A day in the life of a Balinese lady,cooking class
ATTACH;FMTTYPE=image/jpeg:https://baliasli.com.au/wp-content/uploads/2024/07/pasar-5-e1722343372503.jpeg
END:VEVENT
BEGIN:VEVENT
DTSTART;TZID=UTC:20250716T080000
DTEND;TZID=UTC:20250716T143000
DTSTAMP:20260424T113053
CREATED:20250627T070021Z
LAST-MODIFIED:20250627T070033Z
UID:5929-1752652800-1752676200@baliasli.com.au
SUMMARY:Culinary Adventure "A day in the Life of a Balinese Lady"
DESCRIPTION:TO MARKET TO MARKET TO BUY A FAT PIG! \nOur chefs visit Amlapura morning market every day to gather the produce for our menu. Help carry the shopping! Sample some produce and absorb some real Balinese action in the hustle and bustle of the market. Return to Bali Asli and learn how to prepare traditional flower offerings\, “canang” whilst enjoying morning eat\, all before cooking your lunch using traditional equipment and techniques. \nSTART TIME 08.00am FINISH TIME 2.30pm \nPRICE; IDR 1\,292\,500 \nTo make your reservation\, please send us a message; Contact Form
URL:https://baliasli.com.au/event/culinary-adventure-a-day-in-the-life-of-a-balinese-lday/
LOCATION:Bali Asli Restaurant
CATEGORIES:A day in the life of a Balinese lady,cooking class
ATTACH;FMTTYPE=image/jpeg:https://baliasli.com.au/wp-content/uploads/2024/07/pasar-5-e1722343372503.jpeg
END:VEVENT
BEGIN:VEVENT
DTSTART;TZID=UTC:20250713T080000
DTEND;TZID=UTC:20250713T143000
DTSTAMP:20260424T113053
CREATED:20250627T065913Z
LAST-MODIFIED:20250627T065913Z
UID:5927-1752393600-1752417000@baliasli.com.au
SUMMARY:Culinary Adventure "A day in the Life of a Balinese Lady"
DESCRIPTION:TO MARKET TO MARKET TO BUY A FAT PIG! \nOur chefs visit Amlapura morning market every day to gather the produce for our menu. Help carry the shopping! Sample some produce and absorb some real Balinese action in the hustle and bustle of the market. Return to Bali Asli and learn how to prepare traditional flower offerings\, “canang” whilst enjoying morning eat\, all before cooking your lunch using traditional equipment and techniques. \nSTART TIME 08.00am FINISH TIME 2.30pm \nPRICE; IDR 1\,292\,500 \nTo make your reservation\, please send us a message; Contact Form
URL:https://baliasli.com.au/event/culinary-adventure-a-day-in-the-life-of-a-balinese-lady-2/
LOCATION:Bali Asli Restaurant
CATEGORIES:A day in the life of a Balinese lady,cooking class
ATTACH;FMTTYPE=image/jpeg:https://baliasli.com.au/wp-content/uploads/2024/07/pasar-5-e1722343372503.jpeg
END:VEVENT
BEGIN:VEVENT
DTSTART;TZID=UTC:20250708T080000
DTEND;TZID=UTC:20250708T143000
DTSTAMP:20260424T113053
CREATED:20250627T065707Z
LAST-MODIFIED:20250627T065707Z
UID:5925-1751961600-1751985000@baliasli.com.au
SUMMARY:Culinary Adventure "A day in The Life of a Balinese Lady"
DESCRIPTION:TO MARKET TO MARKET TO BUY A FAT PIG! \nOur chefs visit Amlapura morning market every day to gather the produce for our menu. Help carry the shopping! Sample some produce and absorb some real Balinese action in the hustle and bustle of the market. Return to Bali Asli and learn how to prepare traditional flower offerings\, “canang” whilst enjoying morning eat\, all before cooking your lunch using traditional equipment and techniques. \nSTART TIME 08.00am FINISH TIME 2.30pm \nPRICE; IDR 1\,292\,500 \nTo make your reservation\, please send us a message; Contact Form
URL:https://baliasli.com.au/event/culinary-adventure-a-day-in-the-life-of-a-balinese-lady/
LOCATION:Bali Asli Restaurant
CATEGORIES:A day in the life of a Balinese lady,cooking class
ATTACH;FMTTYPE=image/jpeg:https://baliasli.com.au/wp-content/uploads/2024/07/pasar-5-e1722343372503.jpeg
END:VEVENT
BEGIN:VEVENT
DTSTART;TZID=UTC:20250627T080000
DTEND;TZID=UTC:20250627T143000
DTSTAMP:20260424T113053
CREATED:20250614T075705Z
LAST-MODIFIED:20250614T075705Z
UID:5828-1751011200-1751034600@baliasli.com.au
SUMMARY:Cooking Class "A day in the life of a Bali lady"
DESCRIPTION:TO MARKET TO MARKET TO BUY A FAT PIG! \nOur chefs visit Amlapura morning market every day to gather the produce for our menu. Help carry the shopping! Sample some produce and absorb some real Balinese action in the hustle and bustle of the market. Return to Bali Asli and learn how to prepare traditional flower offerings\, “canang” whilst enjoying morning eat\, all before cooking your lunch using traditional equipment and techniques. \nSTART TIME 08.00am FINISH TIME 2.30pm \nPRICE; IDR 1\,292\,500
URL:https://baliasli.com.au/event/cooking-class-a-day-in-the-life-of-a-bali-lady/
LOCATION:Bali Asli Restaurant
CATEGORIES:A day in the life of a Balinese lady,cooking class
ATTACH;FMTTYPE=image/jpeg:https://baliasli.com.au/wp-content/uploads/2024/07/pasar-5-e1722343372503.jpeg
END:VEVENT
BEGIN:VEVENT
DTSTART;TZID=UTC:20250620T080000
DTEND;TZID=UTC:20250620T143000
DTSTAMP:20260424T113053
CREATED:20250614T071403Z
LAST-MODIFIED:20250614T072309Z
UID:5805-1750406400-1750429800@baliasli.com.au
SUMMARY:Cooking Class "A day in the life of a Balinese lady"
DESCRIPTION:TO MARKET TO MARKET TO BUY A FAT PIG! \nOur chefs visit Amlapura morning market every day to gather the produce for our menu. Help carry the shopping! Sample some produce and absorb some real Balinese action in the hustle and bustle of the market. Return to Bali Asli and learn how to prepare traditional flower offerings\, “canang” whilst enjoying morning eat\, all before cooking your lunch using traditional equipment and techniques. \nSTART TIME 08.00am           FINISH TIME 2.30pm \nPRICE; IDR 1\,292\,500
URL:https://baliasli.com.au/event/cooking-class-a-day-in-the-life-of-a-balinese-lady-46/
CATEGORIES:A day in the life of a Balinese lady,cooking class
ATTACH;FMTTYPE=image/jpeg:https://baliasli.com.au/wp-content/uploads/2024/07/pasar-5-e1722343372503.jpeg
END:VEVENT
BEGIN:VEVENT
DTSTART;TZID=UTC:20250521T080000
DTEND;TZID=UTC:20250521T143000
DTSTAMP:20260424T113053
CREATED:20250426T111527Z
LAST-MODIFIED:20250426T111527Z
UID:5664-1747814400-1747837800@baliasli.com.au
SUMMARY:Cooking Class "A day in the life of a Balinese lady"
DESCRIPTION:TO MARKET TO MARKET TO BUY A FAT PIG! \nOur chefs visit Amlapura morning market every day to gather the produce for our menu. Help carry the shopping! Sample some produce and absorb some real Balinese action in the hustle and bustle of the market. Return to Bali Asli and learn how to prepare traditional flower offerings\, “canang” whilst enjoying morning eat\, all before cooking your lunch using traditional equipment and techniques. \nSTART TIME 08.00am           FINISH TIME 2.30pm \nPRICE; IDR 1\,292\,500
URL:https://baliasli.com.au/event/cooking-class-a-day-in-the-life-of-a-balinese-lady-45/
CATEGORIES:A day in the life of a Balinese lady,cooking class
ATTACH;FMTTYPE=image/jpeg:https://baliasli.com.au/wp-content/uploads/2024/07/pasar-5-e1722343372503.jpeg
END:VEVENT
BEGIN:VEVENT
DTSTART;TZID=UTC:20250519T080000
DTEND;TZID=UTC:20250519T143000
DTSTAMP:20260424T113053
CREATED:20250426T111225Z
LAST-MODIFIED:20250426T111225Z
UID:5659-1747641600-1747665000@baliasli.com.au
SUMMARY:Cooking Class "A day in the life of a Balinese lady"
DESCRIPTION:TO MARKET TO MARKET TO BUY A FAT PIG! \nOur chefs visit Amlapura morning market every day to gather the produce for our menu. Help carry the shopping! Sample some produce and absorb some real Balinese action in the hustle and bustle of the market. Return to Bali Asli and learn how to prepare traditional flower offerings\, “canang” whilst enjoying morning eat\, all before cooking your lunch using traditional equipment and techniques. \nSTART TIME 08.00am           FINISH TIME 2.30pm \nPRICE; IDR 1\,292\,500
URL:https://baliasli.com.au/event/cooking-class-a-day-in-the-life-of-a-balinese-lady-44/
CATEGORIES:A day in the life of a Balinese lady,cooking class
ATTACH;FMTTYPE=image/jpeg:https://baliasli.com.au/wp-content/uploads/2024/07/pasar-5-e1722343372503.jpeg
END:VEVENT
BEGIN:VEVENT
DTSTART;TZID=UTC:20250513T080000
DTEND;TZID=UTC:20250513T143000
DTSTAMP:20260424T113053
CREATED:20250426T110914Z
LAST-MODIFIED:20250426T110914Z
UID:5654-1747123200-1747146600@baliasli.com.au
SUMMARY:Cooking Class "A day in the life of a Balinese lady"
DESCRIPTION:TO MARKET TO MARKET TO BUY A FAT PIG! \nOur chefs visit Amlapura morning market every day to gather the produce for our menu. Help carry the shopping! Sample some produce and absorb some real Balinese action in the hustle and bustle of the market. Return to Bali Asli and learn how to prepare traditional flower offerings\, “canang” whilst enjoying morning eat\, all before cooking your lunch using traditional equipment and techniques. \nSTART TIME 08.00am           FINISH TIME 2.30pm \nPRICE; IDR 1\,292\,500
URL:https://baliasli.com.au/event/cooking-class-a-day-in-the-life-of-a-balinese-lady-43/
CATEGORIES:A day in the life of a Balinese lady,cooking class
ATTACH;FMTTYPE=image/jpeg:https://baliasli.com.au/wp-content/uploads/2024/07/pasar-5-e1722343372503.jpeg
END:VEVENT
BEGIN:VEVENT
DTSTART;TZID=UTC:20250510T080000
DTEND;TZID=UTC:20250510T143000
DTSTAMP:20260424T113053
CREATED:20250426T110512Z
LAST-MODIFIED:20250426T110512Z
UID:5649-1746864000-1746887400@baliasli.com.au
SUMMARY:Cooking Class "A day in the life of a Balinese lady"
DESCRIPTION:TO MARKET TO MARKET TO BUY A FAT PIG! \nOur chefs visit Amlapura morning market every day to gather the produce for our menu. Help carry the shopping! Sample some produce and absorb some real Balinese action in the hustle and bustle of the market. Return to Bali Asli and learn how to prepare traditional flower offerings\, “canang” whilst enjoying morning eat\, all before cooking your lunch using traditional equipment and techniques. \nSTART TIME 08.00am           FINISH TIME 2.30pm \nPRICE; IDR 1\,292\,500
URL:https://baliasli.com.au/event/cooking-class-a-day-in-the-life-of-a-balinese-lady-42/
CATEGORIES:A day in the life of a Balinese lady,cooking class
ATTACH;FMTTYPE=image/jpeg:https://baliasli.com.au/wp-content/uploads/2024/07/pasar-5-e1722343372503.jpeg
END:VEVENT
BEGIN:VEVENT
DTSTART;TZID=UTC:20250508T080000
DTEND;TZID=UTC:20250508T143000
DTSTAMP:20260424T113053
CREATED:20250425T132245Z
LAST-MODIFIED:20250425T132245Z
UID:5644-1746691200-1746714600@baliasli.com.au
SUMMARY:Cooking Class "A day in the life of a Balinese lady"
DESCRIPTION:TO MARKET TO MARKET TO BUY A FAT PIG! \nOur chefs visit Amlapura morning market every day to gather the produce for our menu. Help carry the shopping! Sample some produce and absorb some real Balinese action in the hustle and bustle of the market. Return to Bali Asli and learn how to prepare traditional flower offerings\, “canang” whilst enjoying morning eat\, all before cooking your lunch using traditional equipment and techniques. \nSTART TIME 08.00am           FINISH TIME 2.30pm \nPRICE; IDR 1\,292\,500
URL:https://baliasli.com.au/event/cooking-class-a-day-in-the-life-of-a-balinese-lady-41/
CATEGORIES:A day in the life of a Balinese lady,cooking class
ATTACH;FMTTYPE=image/jpeg:https://baliasli.com.au/wp-content/uploads/2024/07/pasar-5-e1722343372503.jpeg
END:VEVENT
BEGIN:VEVENT
DTSTART;TZID=UTC:20250505T080000
DTEND;TZID=UTC:20250505T143000
DTSTAMP:20260424T113053
CREATED:20250425T131915Z
LAST-MODIFIED:20250425T131915Z
UID:5639-1746432000-1746455400@baliasli.com.au
SUMMARY:Cooking Adventure "A day in the life of a Balinese lady"
DESCRIPTION:TO MARKET TO MARKET TO BUY A FAT PIG! \nOur chefs visit Amlapura morning market every day to gather the produce for our menu. Help carry the shopping! Sample some produce and absorb some real Balinese action in the hustle and bustle of the market. Return to Bali Asli and learn how to prepare traditional flower offerings\, “canang” whilst enjoying morning eat\, all before cooking your lunch using traditional equipment and techniques. \nSTART TIME 08.00am           FINISH TIME 2.30pm \nPRICE; IDR 1\,292\,500
URL:https://baliasli.com.au/event/cooking-adventure-a-day-in-the-life-of-a-balinese-lady/
CATEGORIES:A day in the life of a Balinese lady,cooking class
ATTACH;FMTTYPE=image/jpeg:https://baliasli.com.au/wp-content/uploads/2024/07/pasar-5-e1722343372503.jpeg
END:VEVENT
END:VCALENDAR