BEGIN:VCALENDAR
VERSION:2.0
PRODID:-//Bali Asli Restaurant and Cooking School - ECPv6.15.20//NONSGML v1.0//EN
CALSCALE:GREGORIAN
METHOD:PUBLISH
X-ORIGINAL-URL:https://baliasli.com.au
X-WR-CALDESC:Events for Bali Asli Restaurant and Cooking School
REFRESH-INTERVAL;VALUE=DURATION:PT1H
X-Robots-Tag:noindex
X-PUBLISHED-TTL:PT1H
BEGIN:VTIMEZONE
TZID:UTC
BEGIN:STANDARD
TZOFFSETFROM:+0000
TZOFFSETTO:+0000
TZNAME:UTC
DTSTART:20240101T000000
END:STANDARD
END:VTIMEZONE
BEGIN:VEVENT
DTSTART;TZID=UTC:20250901T080000
DTEND;TZID=UTC:20250901T143000
DTSTAMP:20260422T223006
CREATED:20250823T074808Z
LAST-MODIFIED:20250823T075315Z
UID:6163-1756713600-1756737000@baliasli.com.au
SUMMARY:Cooking Class "A day in the village"
DESCRIPTION:STEP THROUGH THE LOOKING GLASS \nOur trekking guide will take you “through the looking glass” up into the village of Pangi\, where you will have the opportunity to peek into the daily life of the local people. Enjoy stunning views over rice fields\, ocean and volcanoes. Learn the ancient art of Balinese “Aksara” Before returning to Bali Asli to cook your Balinese lunch  \nSTART TIME 08.00am      FINISH TIME 2.30pm \nPRICE; IDR 1\,292\,500 \nTo make a reservation\, or for more information\, please send us a message on our; Contact Form
URL:https://baliasli.com.au/event/cooking-class-a-day-in-the-village-56/
LOCATION:Bali Asli Restaurant
CATEGORIES:a day in the village,cooking class
ATTACH;FMTTYPE=image/jpeg:https://baliasli.com.au/wp-content/uploads/2024/07/museum-5-e1722340893530.jpeg
END:VEVENT
BEGIN:VEVENT
DTSTART;TZID=UTC:20250902T080000
DTEND;TZID=UTC:20250902T143000
DTSTAMP:20260422T223006
CREATED:20250822T121005Z
LAST-MODIFIED:20250822T121005Z
UID:6142-1756800000-1756823400@baliasli.com.au
SUMMARY:Cooking Class "A day in the life of a Balinese Lady"
DESCRIPTION:TO MARKET TO MARKET TO BUY A FAT PIG! \nOur chefs visit Amlapura morning market every day to gather the produce for our menu. Help carry the shopping! Sample some produce and absorb some real Balinese action in the hustle and bustle of the market. Return to Bali Asli and learn how to prepare traditional flower offerings\, “canang” whilst enjoying morning eat\, all before cooking your lunch using traditional equipment and techniques. \nPlease contact us to make your reservation or for more information on our Contact Form \nSTART TIME 08.00am FINISH TIME 2.30pm \nPRICE; IDR 1\,292\,500
URL:https://baliasli.com.au/event/cooking-class-a-day-in-the-life-of-a-balinese-lady-55/
LOCATION:Bali Asli Restaurant
CATEGORIES:A day in the life of a Balinese lady,cooking class
ATTACH;FMTTYPE=image/jpeg:https://baliasli.com.au/wp-content/uploads/2024/07/pasar-5-e1722343372503.jpeg
END:VEVENT
BEGIN:VEVENT
DTSTART;TZID=UTC:20250905T080000
DTEND;TZID=UTC:20250905T143000
DTSTAMP:20260422T223006
CREATED:20250824T084248Z
LAST-MODIFIED:20250824T084248Z
UID:6183-1757059200-1757082600@baliasli.com.au
SUMMARY:Cooking Class "A day in the village"
DESCRIPTION:STEP THROUGH THE LOOKING GLASS \nOur trekking guide will take you “through the looking glass” up into the village of Pangi\, where you will have the opportunity to peek into the daily life of the local people. Enjoy stunning views over rice fields\, ocean and volcanoes. Learn the ancient art of Balinese “Aksara” Before returning to Bali Asli to cook your Balinese lunch  \nSTART TIME 08.00am      FINISH TIME 2.30pm \nPRICE; IDR 1\,292\,500 \nTo make a reservation\, or for more information\, please send us a message on our; Contact Form
URL:https://baliasli.com.au/event/cooking-class-a-day-in-the-village-65/
LOCATION:Bali Asli Restaurant
CATEGORIES:a day in the village,cooking class
ATTACH;FMTTYPE=image/jpeg:https://baliasli.com.au/wp-content/uploads/2024/07/museum-5-e1722340893530.jpeg
END:VEVENT
BEGIN:VEVENT
DTSTART;TZID=UTC:20250909T080000
DTEND;TZID=UTC:20250909T143000
DTSTAMP:20260422T223006
CREATED:20250822T121203Z
LAST-MODIFIED:20250822T121203Z
UID:6144-1757404800-1757428200@baliasli.com.au
SUMMARY:Cooking Class "A day in the life of a Balinese Lady"
DESCRIPTION:TO MARKET TO MARKET TO BUY A FAT PIG! \nOur chefs visit Amlapura morning market every day to gather the produce for our menu. Help carry the shopping! Sample some produce and absorb some real Balinese action in the hustle and bustle of the market. Return to Bali Asli and learn how to prepare traditional flower offerings\, “canang” whilst enjoying morning eat\, all before cooking your lunch using traditional equipment and techniques. \nPlease contact us to make your reservation or for more information on our Contact Form \nSTART TIME 08.00am FINISH TIME 2.30pm \nPRICE; IDR 1\,292\,500
URL:https://baliasli.com.au/event/cooking-class-a-day-in-the-life-of-a-balinese-lady-56/
LOCATION:Bali Asli Restaurant
CATEGORIES:A day in the life of a Balinese lady,cooking class
ATTACH;FMTTYPE=image/jpeg:https://baliasli.com.au/wp-content/uploads/2024/07/pasar-5-e1722343372503.jpeg
END:VEVENT
BEGIN:VEVENT
DTSTART;TZID=UTC:20250913T080000
DTEND;TZID=UTC:20250913T143000
DTSTAMP:20260422T223006
CREATED:20250823T075422Z
LAST-MODIFIED:20250823T075422Z
UID:6167-1757750400-1757773800@baliasli.com.au
SUMMARY:Cooking Class "A day in the village"
DESCRIPTION:STEP THROUGH THE LOOKING GLASS \nOur trekking guide will take you “through the looking glass” up into the village of Pangi\, where you will have the opportunity to peek into the daily life of the local people. Enjoy stunning views over rice fields\, ocean and volcanoes. Learn the ancient art of Balinese “Aksara” Before returning to Bali Asli to cook your Balinese lunch  \nSTART TIME 08.00am      FINISH TIME 2.30pm \nPRICE; IDR 1\,292\,500 \nTo make a reservation\, or for more information\, please send us a message on our; Contact Form
URL:https://baliasli.com.au/event/cooking-class-a-day-in-the-village-57/
LOCATION:Bali Asli Restaurant
CATEGORIES:a day in the village,cooking class
ATTACH;FMTTYPE=image/jpeg:https://baliasli.com.au/wp-content/uploads/2024/07/museum-5-e1722340893530.jpeg
END:VEVENT
BEGIN:VEVENT
DTSTART;TZID=UTC:20250916T080000
DTEND;TZID=UTC:20250916T143000
DTSTAMP:20260422T223006
CREATED:20250822T121706Z
LAST-MODIFIED:20250822T121706Z
UID:6152-1758009600-1758033000@baliasli.com.au
SUMMARY:Cooking Class "A day in the life of a Balinese Lady"
DESCRIPTION:TO MARKET TO MARKET TO BUY A FAT PIG! \nOur chefs visit Amlapura morning market every day to gather the produce for our menu. Help carry the shopping! Sample some produce and absorb some real Balinese action in the hustle and bustle of the market. Return to Bali Asli and learn how to prepare traditional flower offerings\, “canang” whilst enjoying morning eat\, all before cooking your lunch using traditional equipment and techniques. \nPlease contact us to make your reservation or for more information on our Contact Form \nSTART TIME 08.00am FINISH TIME 2.30pm \nPRICE; IDR 1\,292\,500
URL:https://baliasli.com.au/event/cooking-class-a-day-in-the-life-of-a-balinese-lady-60/
LOCATION:Bali Asli Restaurant
CATEGORIES:A day in the life of a Balinese lady,cooking class
ATTACH;FMTTYPE=image/jpeg:https://baliasli.com.au/wp-content/uploads/2024/07/pasar-5-e1722343372503.jpeg
END:VEVENT
BEGIN:VEVENT
DTSTART;TZID=UTC:20250920T080000
DTEND;TZID=UTC:20250920T143000
DTSTAMP:20260422T223006
CREATED:20250823T075652Z
LAST-MODIFIED:20250823T075652Z
UID:6169-1758355200-1758378600@baliasli.com.au
SUMMARY:Cooking Class "A day in the village"
DESCRIPTION:STEP THROUGH THE LOOKING GLASS \nOur trekking guide will take you “through the looking glass” up into the village of Pangi\, where you will have the opportunity to peek into the daily life of the local people. Enjoy stunning views over rice fields\, ocean and volcanoes. Learn the ancient art of Balinese “Aksara” Before returning to Bali Asli to cook your Balinese lunch  \nSTART TIME 08.00am      FINISH TIME 2.30pm \nPRICE; IDR 1\,292\,500 \nTo make a reservation\, or for more information\, please send us a message on our; Contact Form
URL:https://baliasli.com.au/event/cooking-class-a-day-in-the-village-58/
LOCATION:Bali Asli Restaurant
CATEGORIES:a day in the village,cooking class
ATTACH;FMTTYPE=image/jpeg:https://baliasli.com.au/wp-content/uploads/2024/07/museum-5-e1722340893530.jpeg
END:VEVENT
BEGIN:VEVENT
DTSTART;TZID=UTC:20250922T080000
DTEND;TZID=UTC:20250922T143000
DTSTAMP:20260422T223006
CREATED:20250822T121337Z
LAST-MODIFIED:20250822T121337Z
UID:6146-1758528000-1758551400@baliasli.com.au
SUMMARY:Cooking class "A day in the life of a Balinese Lady"
DESCRIPTION:TO MARKET TO MARKET TO BUY A FAT PIG! \nOur chefs visit Amlapura morning market every day to gather the produce for our menu. Help carry the shopping! Sample some produce and absorb some real Balinese action in the hustle and bustle of the market. Return to Bali Asli and learn how to prepare traditional flower offerings\, “canang” whilst enjoying morning eat\, all before cooking your lunch using traditional equipment and techniques. \nPlease contact us to make your reservation or for more information on our Contact Form \nSTART TIME 08.00am FINISH TIME 2.30pm \nPRICE; IDR 1\,292\,500
URL:https://baliasli.com.au/event/cooking-class-a-day-in-the-life-of-a-balinese-lady-57/
LOCATION:Bali Asli Restaurant
CATEGORIES:A day in the life of a Balinese lady,cooking class
ATTACH;FMTTYPE=image/jpeg:https://baliasli.com.au/wp-content/uploads/2024/07/pasar-5-e1722343372503.jpeg
END:VEVENT
BEGIN:VEVENT
DTSTART;TZID=UTC:20250923T080000
DTEND;TZID=UTC:20250923T143000
DTSTAMP:20260422T223007
CREATED:20250822T121449Z
LAST-MODIFIED:20250822T121449Z
UID:6148-1758614400-1758637800@baliasli.com.au
SUMMARY:Cooking Class "A day in the life of a Balinese Lady"
DESCRIPTION:TO MARKET TO MARKET TO BUY A FAT PIG! \nOur chefs visit Amlapura morning market every day to gather the produce for our menu. Help carry the shopping! Sample some produce and absorb some real Balinese action in the hustle and bustle of the market. Return to Bali Asli and learn how to prepare traditional flower offerings\, “canang” whilst enjoying morning eat\, all before cooking your lunch using traditional equipment and techniques. \nPlease contact us to make your reservation or for more information on our Contact Form \nSTART TIME 08.00am FINISH TIME 2.30pm \nPRICE; IDR 1\,292\,500
URL:https://baliasli.com.au/event/cooking-class-a-day-in-the-life-of-a-balinese-lady-58/
LOCATION:Bali Asli Restaurant
CATEGORIES:A day in the life of a Balinese lady,cooking class
ATTACH;FMTTYPE=image/jpeg:https://baliasli.com.au/wp-content/uploads/2024/07/pasar-5-e1722343372503.jpeg
END:VEVENT
BEGIN:VEVENT
DTSTART;TZID=UTC:20250926T080000
DTEND;TZID=UTC:20250926T143000
DTSTAMP:20260422T223007
CREATED:20250823T075757Z
LAST-MODIFIED:20250823T075757Z
UID:6171-1758873600-1758897000@baliasli.com.au
SUMMARY:Cooking Class "A day in the village"
DESCRIPTION:STEP THROUGH THE LOOKING GLASS \nOur trekking guide will take you “through the looking glass” up into the village of Pangi\, where you will have the opportunity to peek into the daily life of the local people. Enjoy stunning views over rice fields\, ocean and volcanoes. Learn the ancient art of Balinese “Aksara” Before returning to Bali Asli to cook your Balinese lunch  \nSTART TIME 08.00am      FINISH TIME 2.30pm \nPRICE; IDR 1\,292\,500 \nTo make a reservation\, or for more information\, please send us a message on our; Contact Form
URL:https://baliasli.com.au/event/cooking-class-a-day-in-the-village-59/
LOCATION:Bali Asli Restaurant
CATEGORIES:a day in the village,cooking class
ATTACH;FMTTYPE=image/jpeg:https://baliasli.com.au/wp-content/uploads/2024/07/museum-5-e1722340893530.jpeg
END:VEVENT
BEGIN:VEVENT
DTSTART;TZID=UTC:20250927T080000
DTEND;TZID=UTC:20250927T143000
DTSTAMP:20260422T223007
CREATED:20250824T083933Z
LAST-MODIFIED:20250824T083933Z
UID:6179-1758960000-1758983400@baliasli.com.au
SUMMARY:Cooking class "A day in the village"
DESCRIPTION:STEP THROUGH THE LOOKING GLASS \nOur trekking guide will take you “through the looking glass” up into the village of Pangi\, where you will have the opportunity to peek into the daily life of the local people. Enjoy stunning views over rice fields\, ocean and volcanoes. Learn the ancient art of Balinese “Aksara” Before returning to Bali Asli to cook your Balinese lunch  \nSTART TIME 08.00am      FINISH TIME 2.30pm \nPRICE; IDR 1\,292\,500 \nTo make a reservation\, or for more information\, please send us a message on our; Contact Form
URL:https://baliasli.com.au/event/cooking-class-a-day-in-the-village-63/
LOCATION:Bali Asli Restaurant
CATEGORIES:a day in the village,cooking class
ATTACH;FMTTYPE=image/jpeg:https://baliasli.com.au/wp-content/uploads/2024/07/museum-5-e1722340893530.jpeg
END:VEVENT
BEGIN:VEVENT
DTSTART;TZID=UTC:20250929T080000
DTEND;TZID=UTC:20250929T143000
DTSTAMP:20260422T223007
CREATED:20250822T121601Z
LAST-MODIFIED:20250822T121601Z
UID:6150-1759132800-1759156200@baliasli.com.au
SUMMARY:Cooking Class "A day in the life of a Balinese Lady"
DESCRIPTION:TO MARKET TO MARKET TO BUY A FAT PIG! \nOur chefs visit Amlapura morning market every day to gather the produce for our menu. Help carry the shopping! Sample some produce and absorb some real Balinese action in the hustle and bustle of the market. Return to Bali Asli and learn how to prepare traditional flower offerings\, “canang” whilst enjoying morning eat\, all before cooking your lunch using traditional equipment and techniques. \nPlease contact us to make your reservation or for more information on our Contact Form \nSTART TIME 08.00am FINISH TIME 2.30pm \nPRICE; IDR 1\,292\,500
URL:https://baliasli.com.au/event/cooking-class-a-day-in-the-life-of-a-balinese-lady-59/
LOCATION:Bali Asli Restaurant
CATEGORIES:A day in the life of a Balinese lady,cooking class
ATTACH;FMTTYPE=image/jpeg:https://baliasli.com.au/wp-content/uploads/2024/07/pasar-5-e1722343372503.jpeg
END:VEVENT
BEGIN:VEVENT
DTSTART;TZID=UTC:20250930T080000
DTEND;TZID=UTC:20250930T143000
DTSTAMP:20260422T223007
CREATED:20250824T084044Z
LAST-MODIFIED:20250824T084044Z
UID:6181-1759219200-1759242600@baliasli.com.au
SUMMARY:Cooking Class "A day in the village"
DESCRIPTION:STEP THROUGH THE LOOKING GLASS \nOur trekking guide will take you “through the looking glass” up into the village of Pangi\, where you will have the opportunity to peek into the daily life of the local people. Enjoy stunning views over rice fields\, ocean and volcanoes. Learn the ancient art of Balinese “Aksara” Before returning to Bali Asli to cook your Balinese lunch  \nSTART TIME 08.00am      FINISH TIME 2.30pm \nPRICE; IDR 1\,292\,500 \nTo make a reservation\, or for more information\, please send us a message on our; Contact Form
URL:https://baliasli.com.au/event/cooking-class-a-day-in-the-village-64/
LOCATION:Bali Asli Restaurant
CATEGORIES:a day in the village,cooking class
ATTACH;FMTTYPE=image/jpeg:https://baliasli.com.au/wp-content/uploads/2024/07/museum-5-e1722340893530.jpeg
END:VEVENT
END:VCALENDAR