BEGIN:VCALENDAR
VERSION:2.0
PRODID:-//Bali Asli Restaurant and Cooking School - ECPv6.15.20//NONSGML v1.0//EN
CALSCALE:GREGORIAN
METHOD:PUBLISH
X-ORIGINAL-URL:https://baliasli.com.au
X-WR-CALDESC:Events for Bali Asli Restaurant and Cooking School
REFRESH-INTERVAL;VALUE=DURATION:PT1H
X-Robots-Tag:noindex
X-PUBLISHED-TTL:PT1H
BEGIN:VTIMEZONE
TZID:UTC
BEGIN:STANDARD
TZOFFSETFROM:+0000
TZOFFSETTO:+0000
TZNAME:UTC
DTSTART:20240101T000000
END:STANDARD
END:VTIMEZONE
BEGIN:VEVENT
DTSTART;TZID=UTC:20250619T080000
DTEND;TZID=UTC:20250619T143000
DTSTAMP:20260423T050048
CREATED:20250612T122845Z
LAST-MODIFIED:20250612T122845Z
UID:5798-1750320000-1750343400@baliasli.com.au
SUMMARY:Cooking Class "A day in the village"
DESCRIPTION:STEP THROUGH THE LOOKING GLASS \nOur trekking guide will take you “through the looking glass” up into the village of Pangi\, where you will have the opportunity to peek into the daily life of the local people\, before you cook lunch during your cooking class. \nSTART TIME 08.00am      FINISH TIME 2.30pm \nPRICE; IDR 1\,292\,500
URL:https://baliasli.com.au/event/cooking-class-a-day-in-the-village-52/
CATEGORIES:a day in the village,cooking class,VW safari tours of Karangasem
ATTACH;FMTTYPE=image/jpeg:https://baliasli.com.au/wp-content/uploads/2024/07/museum-5-e1722340893530.jpeg
END:VEVENT
BEGIN:VEVENT
DTSTART;TZID=UTC:20250620T080000
DTEND;TZID=UTC:20250620T143000
DTSTAMP:20260423T050048
CREATED:20250614T071403Z
LAST-MODIFIED:20250614T072309Z
UID:5805-1750406400-1750429800@baliasli.com.au
SUMMARY:Cooking Class "A day in the life of a Balinese lady"
DESCRIPTION:TO MARKET TO MARKET TO BUY A FAT PIG! \nOur chefs visit Amlapura morning market every day to gather the produce for our menu. Help carry the shopping! Sample some produce and absorb some real Balinese action in the hustle and bustle of the market. Return to Bali Asli and learn how to prepare traditional flower offerings\, “canang” whilst enjoying morning eat\, all before cooking your lunch using traditional equipment and techniques. \nSTART TIME 08.00am           FINISH TIME 2.30pm \nPRICE; IDR 1\,292\,500
URL:https://baliasli.com.au/event/cooking-class-a-day-in-the-life-of-a-balinese-lady-46/
CATEGORIES:A day in the life of a Balinese lady,cooking class
ATTACH;FMTTYPE=image/jpeg:https://baliasli.com.au/wp-content/uploads/2024/07/pasar-5-e1722343372503.jpeg
END:VEVENT
BEGIN:VEVENT
DTSTART;TZID=UTC:20250622T080000
DTEND;TZID=UTC:20250622T143000
DTSTAMP:20260423T050048
CREATED:20250614T074431Z
LAST-MODIFIED:20250614T074431Z
UID:5813-1750579200-1750602600@baliasli.com.au
SUMMARY:Cooking Class "A day in the village"
DESCRIPTION:STEP THROUGH THE LOOKING GLASS \nOur trekking guide will take you “through the looking glass” up into the village of Pangi\, where you will have the opportunity to peek into the daily life of the local people\, before you cook lunch during your cooking class. \nSTART TIME 08.00am      FINISH TIME 2.30pm \nPRICE; IDR 1\,292\,500
URL:https://baliasli.com.au/event/cooking-class-a-day-in-the-village-53/
LOCATION:Bali Asli Restaurant
CATEGORIES:a day in the village,cooking class
ATTACH;FMTTYPE=image/jpeg:https://baliasli.com.au/wp-content/uploads/2024/07/museum-5-e1722340893530.jpeg
END:VEVENT
BEGIN:VEVENT
DTSTART;TZID=UTC:20250624T080000
DTEND;TZID=UTC:20250624T143000
DTSTAMP:20260423T050048
CREATED:20250614T074825Z
LAST-MODIFIED:20250614T074825Z
UID:5818-1750752000-1750775400@baliasli.com.au
SUMMARY:Cooking Class "A day in the village"
DESCRIPTION:STEP THROUGH THE LOOKING GLASS \nOur trekking guide will take you “through the looking glass” up into the village of Pangi\, where you will have the opportunity to peek into the daily life of the local people\, before you cook lunch during your cooking class. \nSTART TIME 08.00am      FINISH TIME 2.30pm \nPRICE; IDR 1\,292\,500
URL:https://baliasli.com.au/event/cooking-class-a-day-in-the-village-54/
LOCATION:Bali Asli Restaurant
CATEGORIES:a day in the village,cooking class
ATTACH;FMTTYPE=image/jpeg:https://baliasli.com.au/wp-content/uploads/2024/07/museum-5-e1722340893530.jpeg
END:VEVENT
BEGIN:VEVENT
DTSTART;TZID=UTC:20250627T080000
DTEND;TZID=UTC:20250627T143000
DTSTAMP:20260423T050048
CREATED:20250614T075705Z
LAST-MODIFIED:20250614T075705Z
UID:5828-1751011200-1751034600@baliasli.com.au
SUMMARY:Cooking Class "A day in the life of a Bali lady"
DESCRIPTION:TO MARKET TO MARKET TO BUY A FAT PIG! \nOur chefs visit Amlapura morning market every day to gather the produce for our menu. Help carry the shopping! Sample some produce and absorb some real Balinese action in the hustle and bustle of the market. Return to Bali Asli and learn how to prepare traditional flower offerings\, “canang” whilst enjoying morning eat\, all before cooking your lunch using traditional equipment and techniques. \nSTART TIME 08.00am FINISH TIME 2.30pm \nPRICE; IDR 1\,292\,500
URL:https://baliasli.com.au/event/cooking-class-a-day-in-the-life-of-a-bali-lady/
LOCATION:Bali Asli Restaurant
CATEGORIES:A day in the life of a Balinese lady,cooking class
ATTACH;FMTTYPE=image/jpeg:https://baliasli.com.au/wp-content/uploads/2024/07/pasar-5-e1722343372503.jpeg
END:VEVENT
BEGIN:VEVENT
DTSTART;TZID=UTC:20250629T080000
DTEND;TZID=UTC:20250629T143000
DTSTAMP:20260423T050048
CREATED:20250614T075155Z
LAST-MODIFIED:20250614T075155Z
UID:5823-1751184000-1751207400@baliasli.com.au
SUMMARY:Cooking Class "A day in the village"
DESCRIPTION:STEP THROUGH THE LOOKING GLASS \nOur trekking guide will take you “through the looking glass” up into the village of Pangi\, where you will have the opportunity to peek into the daily life of the local people\, before you cook lunch during your cooking class. \nSTART TIME 08.00am      FINISH TIME 2.30pm \nPRICE; IDR 1\,292\,500
URL:https://baliasli.com.au/event/cooking-class-a-day-in-the-village-55/
LOCATION:Bali Asli Restaurant
CATEGORIES:a day in the village,cooking class
ATTACH;FMTTYPE=image/jpeg:https://baliasli.com.au/wp-content/uploads/2024/07/museum-5-e1722340893530.jpeg
END:VEVENT
END:VCALENDAR