BEGIN:VCALENDAR
VERSION:2.0
PRODID:-//Bali Asli Restaurant and Cooking School - ECPv6.15.20//NONSGML v1.0//EN
CALSCALE:GREGORIAN
METHOD:PUBLISH
X-ORIGINAL-URL:https://baliasli.com.au
X-WR-CALDESC:Events for Bali Asli Restaurant and Cooking School
REFRESH-INTERVAL;VALUE=DURATION:PT1H
X-Robots-Tag:noindex
X-PUBLISHED-TTL:PT1H
BEGIN:VTIMEZONE
TZID:UTC
BEGIN:STANDARD
TZOFFSETFROM:+0000
TZOFFSETTO:+0000
TZNAME:UTC
DTSTART:20250101T000000
END:STANDARD
END:VTIMEZONE
BEGIN:VEVENT
DTSTART;VALUE=DATE:20260501
DTEND;VALUE=DATE:20260502
DTSTAMP:20260425T033234
CREATED:20260406T094900Z
LAST-MODIFIED:20260406T094900Z
UID:7659-1777593600-1777679999@baliasli.com.au
SUMMARY:Street Food Tours of Amlapura Markets
DESCRIPTION:Eat with the locals when you sample the delicacies from the street stalls and markets in Amlapura town. A food enthusiast’s dream!\nStart your adventure at Bali Asli before heading out for a feast\, with a home-made cider and local snacks on our balcony with Mount Agung in full view. Then adventure down to visit the street vendors in the lively culinary scene of Amlapura\, that is both diverse and confrontingly fascinating. Our adventure is carefully planned to give you an authentic taste of Eastern Balinese local fare\, in a safe environment\, but still eating and drinking directly from the street stalls. \nSTART TIME 9.00am     FINISH TIME 12.00pm    OR     START TIME 4.00pm   FINISH TIME 7.00pm \nPRICE; IDR 470\,000 \nTo make your reservation or for more information please send us a message on our Contact Form
URL:https://baliasli.com.au/event/street-food-tours-of-amlapura-markets-13/
LOCATION:Bali Asli Restaurant
CATEGORIES:culinary tour,street food tour
ATTACH;FMTTYPE=image/jpeg:https://baliasli.com.au/wp-content/uploads/2025/11/adventures-bg.jpg
END:VEVENT
BEGIN:VEVENT
DTSTART;TZID=UTC:20260501T040000
DTEND;TZID=UTC:20260501T150000
DTSTAMP:20260425T033234
CREATED:20260406T082947Z
LAST-MODIFIED:20260406T082947Z
UID:7615-1777608000-1777647600@baliasli.com.au
SUMMARY:A Mountain Top Sunrise in a Topless Jeep
DESCRIPTION:An early bird catches the sun!\nYes a super early start to the day at 4.00am\, but so worth it. We will pick you up from your hotel in East Bali with our convertible four wheel drive. Hold onto your hats it climbs the steep road to the lookout on the East wing of Lempuyang mountain. Your guide will prepare your breakfast as you catch your breath watching the magnificent view\, one side out to the sparkling sun-kissed sea\, with Renjani Volcano on Lombok silhouetted by the rising sun\, as well as Agung Volcano on the other side! It doesn’t get better than that! \nAfter sun rise\, jump back in the car and head to Amed for a dip under the crystal clear waters for some snorkelling.  The day will finish at Bali Asli with a Traditional Balinese Megibung feast. \nTo make a reservation please email us directly on our Contact Form \nSTART TIME 4;00am.         FINISH TIME 3;00pm \nPRICE; IDR 1\,100\,000
URL:https://baliasli.com.au/event/a-mountain-top-sunrise-in-a-topless-jeep-17/
LOCATION:Bali Asli Restaurant
CATEGORIES:culinary adventure,sunrise jeep tour
ATTACH;FMTTYPE=image/jpeg:https://baliasli.com.au/wp-content/uploads/2025/11/jeep.jpg
END:VEVENT
BEGIN:VEVENT
DTSTART;TZID=UTC:20260501T080000
DTEND;TZID=UTC:20260501T150000
DTSTAMP:20260425T033234
CREATED:20260406T083537Z
LAST-MODIFIED:20260406T083537Z
UID:7622-1777622400-1777647600@baliasli.com.au
SUMMARY:Biking from the Mountain to the White Sand Beach
DESCRIPTION:Our Biking guide\, Pak Mudi will drive you up into the small villages in the foot hills of Mount Agung. Where you will mount your mountain bikes and glide (mostly down hill) over a combination of dirt tracks\, bike trails and sealed roads.  You will enjoy breath taking vistas\, as you ride around rice fields\, through snake fruit forests\, small towns all the way to White sand beach\, where you can cool off in the crystal clear ocean. Then enjoy a “Bungkus” Balinese picnic lunch on the beach prepared by the local beach warungs. \nSTART TIME; 8;00am         FINISH TIME; 3;30pm \nPRICE; IDR 893\,000 \nTo make your reservation and for more information please send us a message from our; Contact Form 
URL:https://baliasli.com.au/event/biking-from-the-mountain-to-the-white-sand-beach-22/
LOCATION:Bali Asli Restaurant
CATEGORIES:biking from the mountain to the beach,culinary adventure
ATTACH;FMTTYPE=image/jpeg:https://baliasli.com.au/wp-content/uploads/2026/04/F937EECB-E3AC-4F77-B1D1-B4C5CFE6DC2C_1_105_c.jpeg
END:VEVENT
END:VCALENDAR